Workbook
Name RiskAutoStopPercChange: 1.5
Name RiskCollectDistributionSamples: 2
Name RiskExcelReportsGoInNewWorkbook: TRUE
Name RiskExcelReportsToGenerate: 0
Name RiskFixedSeed: 1
Name RiskGenerateExcelReportsAtEndOfSimulation: FALSE
Name RiskHasSettings: TRUE
Name RiskMinimizeOnStart: FALSE
Name RiskMonitorConvergence: FALSE
Name RiskNumIterations: 3000
Name RiskNumSimulations: 1
Name RiskPauseOnError: FALSE
Name RiskRealTimeResults: FALSE
Name RiskReportGraphFormat: 0
Name RiskResultsUpdateFreq: 100
Name RiskRunAfterRecalcMacro: FALSE
Name RiskRunAfterSimMacro: FALSE
Name RiskRunBeforeRecalcMacro: FALSE
Name RiskRunBeforeSimMacro: FALSE
Name RiskSamplingType: 3
Name RiskShowRiskWindowAtEndOfSimulation: TRUE
Name RiskStandardRecalc: 2
Name RiskTemplateSheetName: "myTemplate"
Name RiskUpdateDisplay: FALSE
Name RiskUseDifferentSeedForEachSim: FALSE
Name RiskUseFixedSeed: FALSE
Name RiskUseMultipleCPUs: FALSE

Sheet Tableau des Matches
B1: Coupe d'afrique 2015 - Guinée Equatoriale -
B7: Groupe A | S7: Quarts de finale | W7: Pen | AK7: AJ | AL7: AK | AM7: AL | AN7: AM | AO7: AN | AP7: AO | AQ7: AP | AR7: AQ | AS7: AR | AT7: AS | AU7: AT | AV7: AU | AW7: AV | AX7: AW | AY7: AX | AZ7: AY | BA7: AZ | BB7: BA | BC7: BB | BD7: BC | BE7: BD | BF7: BE | BG7: BF | BH7: BG | BI7: BH | BJ7: BI | BK7: BJ | BL7: BK | BM7: BL | BN7: BM | BO7: BN | BP7: BO | BQ7: BP | BR7: BO | BS7: BP | BU7: =IF($BM9,IF(E8-F8<0,-0.5,IF(F8-E8<0,0.5,0)),IF($BI9,IF($AZ9>$AZ10,-0.5,IF($AZ9<$AZ10,0.5,0)),IF($BJ9,IF($BA9>$BA10,-0.5, IF($BA9<$BA10,0.5,0)),0))) -> 0 | BW7: =F12-E12 -> 0
B8: 42021 | C8: 0.70833333 | D8: EQUATORIAL GUINEA | G8: CONGO | J8: Groupe A | K8: Pts | L8: BP | M8: BC | N8: ="+/-" -> +/- | S8: 42035 | T8: 0.70833333 | U8: =IF(OR(I10<2),"A1",T(J9)) -> A1 | AL8: Rank | AM8: Team | AN8: Pts | AO8: GF | AP8: GA | AQ8: GD | AR8: Ag1 | AS8: Ag2 | AT8: Ag3 | AU8: Ag4 | AV8: Sp1 | AW8: Sp2 | AX8: Sp3 | AY8: Sp4 | AZ8: T123 | BA8: T124 | BB8: T134 | BC8: T234 | BD8: Rk1 | BE8: Rk2 | BF8: Rk3 | BG8: Rk4 | BH8: T1234 | BI8: T123 | BJ8: T124 | BK8: T134 | BL8: T234 | BM8: T12 | BN8: T13 | BO8: T14 | BP8: T23 | BQ8: T24 | BR8: T34 | BS8: NoT | BT8: sRk1 | BU8: sRk2 | BV8: sRk3 | BW8: sRk4
B9: 42021 | C9: 0.83333333 | D9: BURKINA FASO | G9: GABON | I9: =AI9 -> 1 | J9: =INDEX(AM9:AM12,MATCH(AK9,$AL9:$AL12,0)) -> EQUATORIAL GUINEA | K9: =INDEX(AN9:AN12,MATCH(AK9,$AL9:$AL12,0)) -> 0 | L9: =INDEX(AO9:AO12,MATCH(AK9,$AL9:$AL12,0)) -> 0 | M9: =INDEX(AP9:AP12,MATCH(AK9,$AL9:$AL12,0)) -> 0 | N9: =INDEX(AQ9:AQ12,MATCH(AK9,$AL9:$AL12,0)) -> 0 | U9: =IF(OR(I19<3,I18<2),"B2",T(J18)) -> B2 | AI9: 1 | AJ9: =ROUND(AK9,0) -> 2 | AK9: =MIN(AL9:AL12) -> 2.45 | AL9: =SUM(BD9:BG9)+2.45 -> 2.45 | AM9: =D8 -> EQUATORIAL GUINEA | AN9: =SUM(AR9:AU9) -> 0 | AO9: =E8+E10+F12 -> 0 | AP9: =F8+F10+E12 -> 0 | AQ9: =AO9-AP9 -> 0 | AR9: x | AS9: =IF(ISBLANK(E8),0,IF(E8>F8,3,IF(E8=F8,1,0))) -> 0 | AT9: =IF(ISBLANK(E10),0,IF(E10>F10,3,IF(E10=F10,1,0))) -> 0 | AU9: =IF(ISBLANK(F12),0,IF(F12>E12,3,IF(F12=E12,1,0))) -> 0 | AV9: x | AW9: =(10*(AQ9-AQ10)+AO9-AO10>0) -> FALSE | AX9: =10*(AQ9-AQ11)+AO9-AO11>0 -> FALSE | AY9: =10*(AQ9-AQ12)+AO9-AO12>0 -> FALSE | AZ9: =10000*(AS9+AT9)+(E10-F10+E8-F8)*100+(E10+E8) -> 0 | BA9: =10000*(AS9+AU9)+(E8-F8+F12-E12)*100+(E8+F12) -> 0 | BB9: =10000*(AT9+AU9)+(E10-F10+F12-E12)*100+(E10+F12) -> 0 | BC9: x | BD9: x | BE9: =IF($AN9>$AN10,-0.5,IF($AN10>$AN9,0.5,IF(AW9,-0.5,IF(AV10,0.5,BU9)))) -> 0 | BF9: =IF($AN9>$AN11,-0.5,IF($AN11>$AN9,0.5,IF(AX9,-0.5,IF(AV11,0.5,BV9)))) -> 0 | BG9: =IF($AN9>$AN12,-0.5,IF($AN12>$AN9,0.5,IF(AY9,-0.5,IF(AV12,0.5,BW9)))) -> 0 | BH9: =AND(AND(AN9=AN10,AN10=AN11,AN11=AN12),AND(AO9=AO10,AO10=AO11,AO11=AO12),AND(AP9=AP10,AP10=AP11,AP11=AP12)) -> TRUE | BI9: =AND(NOT(BH9),AN9=AN10,AN9=AN11,AO9=AO10,AO9=AO11,AP9=AP10,AP9=AP11) -> FALSE | BJ9: =AND(NOT(BH9),AN9=AN10,AN9=AN12,AO9=AO10,AO9=AO12,AP9=AP10,AP9=AP12) -> FALSE | BK9: =AND(NOT(BH9),AN9=AN11,AN9=AN12,AO9=AO11,AO9=AO12,AP9=AP11,AP9=AP12) -> FALSE | BL9: =AND(NOT(BH9),AN10=AN11,AN10=AN12,AO10=AO11,AO10=AO12,AP10=AP11,AP10=AP12) -> FALSE | BM9: =AND(NOT(BH9),NOT(BI9),NOT(BJ9),AN9=AN10,AO9=AO10,AP9=AP10) -> FALSE | BN9: =AND(NOT(BH9),NOT(BI9),NOT(BK9),AN9=AN11,AO9=AO11,AP9=AP11) -> FALSE | BO9: =AND(NOT(BH9),NOT(BJ9),NOT(BK9),AN9=AN12,AO9=AO12,AP9=AP12) -> FALSE | BP9: =AND(NOT(BH9),NOT(BI9),NOT(BL9),AN10=AN11,AO10=AO11) -> FALSE | BQ9: =AND(NOT(BH9),NOT(BJ9),NOT(BL9),AN10=AN12,AO10=AO12,AP10=AP12) -> FALSE | BR9: =AND(NOT(BH9),NOT(BK9),NOT(BL9),AN11=AN12,AO11=AO12,AP11=AP12) -> FALSE | BS9: {=AND(NOT(BH9:BR9))} -> FALSE | BT9: x | BU9: =IF($BM9,IF(F8-E8<0,-0.5,IF(E8-F8<0,0.5,0)),IF($BI9,IF($AZ9>$AZ10,-0.5,IF($AZ9<$AZ10,0.5,0)),IF($BJ9,IF($BA9>$BA10,-0.5, IF($BA9<$BA10,0.5,0)),0))) -> 0 | BV9: =IF($BN9,IF(F10-E10<0,-0.5,IF(E10-F10<0,0.5,0)),IF($BI9,IF($AZ9>$AZ11,-0.5,IF($AZ9<$AZ11,0.5,0)),IF($BK9,IF($BB9>$BB11,-0.5,IF($BB9<$BB11,0.5,0)),0))) -> 0 | BW9: =IF($BO9,IF(E12-F12<0,-0.5,IF(F12-E12<0,0.5,0)),IF($BJ9,IF($BA9>$BA12,-0.5,IF($BA9<$BA12,0.5,0)),IF($BK9,IF($BB9>$BB12,-0.5, IF($BB9<$BB12,0.5,0)),0))) -> 0
B10: 42025 | C10: 0.70833333 | D10: =D8 -> EQUATORIAL GUINEA | G10: =D9 -> BURKINA FASO | I10: =AI10 -> 1 | J10: =INDEX(AM9:AM12,MATCH(AK10,$AL9:$AL12,0)) -> CONGO | K10: =INDEX(AN9:AN12,MATCH(AK10,$AL9:$AL12,0)) -> 0 | L10: =INDEX(AO9:AO12,MATCH(AK10,$AL9:$AL12,0)) -> 0 | M10: =INDEX(AP9:AP12,MATCH(AK10,$AL9:$AL12,0)) -> 0 | N10: =INDEX(AQ9:AQ12,MATCH(AK10,$AL9:$AL12,0)) -> 0 | S10: 42035 | T10: 0.83333333 | U10: =IF(OR(I26<2),"C1",T(J25)) -> C1 | AI10: =IF(ROUND(AK10,0)=ROUND(AK9,0),AI9,2) -> 1 | AJ10: =ROUND(AK10,0) -> 2 | AK10: =MAX(MIN(AL9:AL11),MIN(AL9,AL10,AL12),MIN(AL9,AL11,AL12),MIN(AL10:AL12)) -> 2.46 | AL10: =SUM(BD10:BG10)+2.46 -> 2.46 | AM10: =G8 -> CONGO | AN10: =SUM(AR10:AU10) -> 0 | AO10: =F8+F11+E13 -> 0 | AP10: =E8+E11+F13 -> 0 | AQ10: =AO10-AP10 -> 0 | AR10: =IF(ISBLANK(F8),0,IF(AS9=3,0,IF(AS9=1,1,3))) -> 0 | AS10: x | AT10: =IF(ISBLANK(E13),0,IF(AS11=3,0,IF(AS11=1,1,3))) -> 0 | AU10: =IF(ISBLANK(F11),0,IF(F11>E11,3,IF(F11=E11,1,0))) -> 0 | AV10: =(10*(AQ9-AQ10)+AO9-AO10<0) -> FALSE | AW10: x | AX10: =10*(AQ10-AQ11)+AO10-AO11>0 -> FALSE | AY10: =10*(AQ10-AQ12)+AO10-AO12>0 -> FALSE | AZ10: =10000*(AR10+AT10)+(F8-E8+E13-F13)*100+(F8+E13) -> 0 | BA10: =10000*(AR10+AU10)+(F8-E8+F11-E11)*100+(F8+F11) -> 0 | BB10: x | BC10: =10000*(AT10+AU10)+(F11-E11+E13-F13)*100+(F11+E13) -> 0 | BD10: =-BE9 -> 0 | BE10: x | BF10: =IF($AN10>$AN11,-0.5,IF($AN11>$AN10,0.5,IF(AX10,-0.5,IF(AW11,0.5,BV10)))) -> 0 | BG10: =IF($AN10>$AN12,-0.5,IF($AN12>$AN10,0.5,IF(AY10,-0.5,IF(AW12,0.5,BW10)))) -> 0 | BU10: x | BV10: =IF($BP9,IF(F13-E13<0,-0.5,IF(E13-F13<0,0.5,0)),IF($BI9,IF($AZ10>$AZ11,-0.5,IF($AZ10<$AZ11,0.5,0)),IF($BL9,IF($BC10>$BC11,-0.5,IF($BC10<$BC11,0.5,0)),0))) -> 0 | BW10: =IF($BQ9,IF(E11-F11<0,-0.5,IF(F11-E11<0,0.5,0)),IF($BJ9,IF($BA10>$BA12,-0.5,IF($BA10<$BA12,0.5,0)),IF($BL9,IF($BC10>$BC12,-0.5,IF($BC10<$BC12,0.5,0)),0))) -> 0
B11: 42025 | C11: 0.83333333 | D11: =G9 -> GABON | G11: =G8 -> CONGO | I11: =AI11 -> 1 | J11: =INDEX(AM9:AM12,MATCH(AK11,$AL9:$AL12,0)) -> BURKINA FASO | K11: =INDEX(AN9:AN12,MATCH(AK11,$AL9:$AL12,0)) -> 0 | L11: =INDEX(AO9:AO12,MATCH(AK11,$AL9:$AL12,0)) -> 0 | M11: =INDEX(AP9:AP12,MATCH(AK11,$AL9:$AL12,0)) -> 0 | N11: =INDEX(AQ9:AQ12,MATCH(AK11,$AL9:$AL12,0)) -> 0 | U11: =IF(OR(I35<3,I34<2),"D2",T(J34)) -> D2 | AI11: =IF(ROUND(AK11,0)=ROUND(AK10,0),AI10,3) -> 1 | AJ11: =ROUND(AK11,0) -> 2 | AK11: =MIN(MAX(AL9:AL11),MAX(AL9,AL10,AL12),MAX(AL9,AL11,AL12),MAX(AL10:AL12)) -> 2.47 | AL11: =SUM(BD11:BG11)+2.47 -> 2.47 | AM11: =D9 -> BURKINA FASO | AN11: =SUM(AR11:AU11) -> 0 | AO11: =E9+F10+F13 -> 0 | AP11: =F9+E10+E13 -> 0 | AQ11: =AO11-AP11 -> 0 | AR11: =IF(ISBLANK(F10),0,IF(AT9=3,0,IF(AT9=1,1,3))) -> 0 | AS11: =IF(ISBLANK(F13),0,IF(F13>E13,3,IF(F13=E13,1,0))) -> 0 | AT11: x | AU11: =IF(ISBLANK(E9),0,IF(E9>F9,3,IF(E9=F9,1,0))) -> 0 | AV11: =10*(AQ9-AQ11)+AO9-AO11<0 -> FALSE | AW11: =10*(AQ10-AQ11)+AO10-AO11<0 -> FALSE | AX11: x | AY11: =10*(AQ11-AQ12)+AO11-AO12>0 -> FALSE | AZ11: =10000*(AR11+AS11)+(F10-E10+F13-E13)*100+(F10+F13) -> 0 | BA11: x | BB11: =10000*(AR11+AU11)+(E9-F9+F10-E10)*100+(E9+F10) -> 0 | BC11: =10000*(AS11+AU11)+(E9-F9+F13-E13)*100+(E9+F13) -> 0 | BD11: =-BF9 -> 0 | BE11: =-BF10 -> 0 | BF11: x | BG11: =IF($AN11>$AN12,-0.5,IF($AN12>$AN11,0.5,IF(AY11,-0.5,IF(AX12,0.5,BW11)))) -> 0 | BV11: x | BW11: =IF($BR9,IF(F9-E9<0,-0.5,IF(E9-F9<0,0.5,0)),IF($BK9,IF($BB11>$BB12,-0.5,IF($BB11<$BB12,0.5,0)),IF($BL9,IF($BC11>$BC12,-0.5,IF($BC11<$BC12,0.5,0)),0))) -> 0
B12: 42029 | C12: 0.79166667 | D12: =G9 -> GABON | G12: =D8 -> EQUATORIAL GUINEA | I12: =AI12 -> 1 | J12: =INDEX(AM9:AM12,MATCH(AK12,$AL9:$AL12,0)) -> GABON | K12: =INDEX(AN9:AN12,MATCH(AK12,$AL9:$AL12,0)) -> 0 | L12: =INDEX(AO9:AO12,MATCH(AK12,$AL9:$AL12,0)) -> 0 | M12: =INDEX(AP9:AP12,MATCH(AK12,$AL9:$AL12,0)) -> 0 | N12: =INDEX(AQ9:AQ12,MATCH(AK12,$AL9:$AL12,0)) -> 0 | S12: 42036 | T12: 0.70833333 | U12: =IF(OR(I18<2),"B1",T(J17)) -> B1 | AI12: =IF(ROUND(AK12,0)=ROUND(AK11,0),AI11,4) -> 1 | AJ12: =ROUND(AK12,0) -> 2 | AK12: =MAX(AL9:AL12) -> 2.48 | AL12: =SUM(BD12:BG12)+2.48 -> 2.48 | AM12: =G9 -> GABON | AN12: =SUM(AR12:AU12) -> 0 | AO12: =F9+E11+E12 -> 0 | AP12: =E9+F11+F12 -> 0 | AQ12: =AO12-AP12 -> 0 | AR12: =IF(ISBLANK(E12),0,IF(AU9=3,0,IF(AU9=1,1,3))) -> 0 | AS12: =IF(ISBLANK(E11),0,IF(AU10=3,0,IF(AU10=1,1,3))) -> 0 | AT12: =IF(ISBLANK(F9),0,IF(AU11=3,0,IF(AU11=1,1,3))) -> 0 | AU12: x | AV12: =10*(AQ9-AQ12)+AO9-AO12<0 -> FALSE | AW12: =10*(AQ10-AQ12)+AO10-AO12<0 -> FALSE | AX12: =10*(AQ11-AQ12)+AO11-AO12<0 -> FALSE | AY12: x | AZ12: x | BA12: =10000*(AR12+AS12)+(E12-F12+E11-F11)*100+(E12+E11) -> 0 | BB12: =10000*(AR12+AT12)+(F9-E9+E12-F12)*100+(F9+E12) -> 0 | BC12: =10000*(AS12+AT12)+(E11-F11+F9-E9)*100+(E11+F9) -> 0 | BD12: =-BG9 -> 0 | BE12: =-BG10 -> 0 | BF12: =-BG11 -> 0 | BG12: x | BW12: x
B13: 42029 | C13: 0.79166667 | D13: =G8 -> CONGO | G13: =D9 -> BURKINA FASO | J13: =IF(OR(I11<3,I10<2),"TIRAGE AU SORT !!!"," ") -> TIRAGE AU SORT !!! | U13: =IF(OR(I11<3,I10<2),"A2",T(J10)) -> A2
S14: 42036 | T14: 0.83333333 | U14: =IF(OR(I34<2),"D1",T(J33)) -> D1
B15: Groupe B | U15: =IF(OR(I27<3,I26<2),"C2",T(J26)) -> C2
B16: 42022 | C16: 0.70833333 | D16: ZAMBIE | G16: RD CONGO | J16: Groupe B | K16: Pts | L16: BP | M16: BC | N16: ="+/-" -> +/- | AL16: Rank | AM16: Team | AN16: Pts | AO16: GF | AP16: GA | AQ16: GD | AR16: Ag1 | AS16: Ag2 | AT16: Ag3 | AU16: Ag4 | AV16: Sp1 | AW16: Sp2 | AX16: Sp3 | AY16: Sp4 | AZ16: T123 | BA16: T124 | BB16: T134 | BC16: T234 | BD16: Rk1 | BE16: Rk2 | BF16: Rk3 | BG16: Rk4 | BH16: T1234 | BI16: T123 | BJ16: T124 | BK16: T134 | BL16: T234 | BM16: T12 | BN16: T13 | BO16: T14 | BP16: T23 | BQ16: T24 | BR16: T34 | BS16: NoT | BT16: sRk1 | BU16: sRk2 | BV16: sRk3 | BW16: sRk4
B17: 42022 | C17: 0.83333333 | D17: TUNISIE | G17: CAP VERT | I17: =AI17 -> 1 | J17: =INDEX(AM17:AM20,MATCH(AK17,$AL17:$AL20,0)) -> ZAMBIE | K17: =INDEX(AN17:AN20,MATCH(AK17,$AL17:$AL20,0)) -> 0 | L17: =INDEX(AO17:AO20,MATCH(AK17,$AL17:$AL20,0)) -> 0 | M17: =INDEX(AP17:AP20,MATCH(AK17,$AL17:$AL20,0)) -> 0 | N17: =INDEX(AQ17:AQ20,MATCH(AK17,$AL17:$AL20,0)) -> 0 | AI17: 1 | AJ17: =ROUND(AK17,0) -> 2 | AK17: =MIN(AL17:AL20) -> 2.45 | AL17: =SUM(BD17:BG17)+2.45 -> 2.45 | AM17: =D16 -> ZAMBIE | AN17: =SUM(AR17:AU17) -> 0 | AO17: =E16+E18+F20 -> 0 | AP17: =F16+F18+E20 -> 0 | AQ17: =AO17-AP17 -> 0 | AR17: x | AS17: =IF(ISBLANK(E16),0,IF(E16>F16,3,IF(E16=F16,1,0))) -> 0 | AT17: =IF(ISBLANK(E18),0,IF(E18>F18,3,IF(E18=F18,1,0))) -> 0 | AU17: =IF(ISBLANK(F20),0,IF(F20>E20,3,IF(F20=E20,1,0))) -> 0 | AV17: x | AW17: =(10*(AQ17-AQ18)+AO17-AO18>0) -> FALSE | AX17: =10*(AQ17-AQ19)+AO17-AO19>0 -> FALSE | AY17: =10*(AQ17-AQ20)+AO17-AO20>0 -> FALSE | AZ17: =10000*(AS17+AT17)+(E18-F18+E16-F16)*100+(E18+E16) -> 0 | BA17: =10000*(AS17+AU17)+(E16-F16+F20-E20)*100+(E16+F20) -> 0 | BB17: =10000*(AT17+AU17)+(F20-E20+E18-F18)*100+(F20+E18) -> 0 | BC17: x | BD17: x | BE17: =IF($AN17>$AN18,-0.5,IF($AN18>$AN17,0.5,IF(AW17,-0.5,IF(AV18,0.5,BU17)))) -> 0 | BF17: =IF($AN17>$AN19,-0.5,IF($AN19>$AN17,0.5,IF(AX17,-0.5,IF(AV19,0.5,BV17)))) -> 0 | BG17: =IF($AN17>$AN20,-0.5,IF($AN20>$AN17,0.5,IF(AY17,-0.5,IF(AV20,0.5,BW17)))) -> 0 | BH17: =AND(AND(AN17=AN18,AN18=AN19,AN19=AN20),AND(AO17=AO18,AO18=AO19,AO19=AO20),AND(AP17=AP18,AP18=AP19,AP19=AP20)) -> TRUE | BI17: =AND(NOT(BH17),AN17=AN18,AN17=AN19,AO17=AO18,AO17=AO19,AP17=AP18,AP17=AP19) -> FALSE | BJ17: =AND(NOT(BH17),AN17=AN18,AN17=AN20,AO17=AO18,AO17=AO20,AP17=AP18,AP17=AP20) -> FALSE | BK17: =AND(NOT(BH17),AN17=AN19,AN17=AN20,AO17=AO19,AO17=AO20,AP17=AP19,AP17=AP20) -> FALSE | BL17: =AND(NOT(BH17),AN18=AN19,AN18=AN20,AO18=AO19,AO18=AO20,AP18=AP19,AP18=AP20) -> FALSE | BM17: =AND(NOT(BH17),NOT(BI17),NOT(BJ17),AN17=AN18,AO17=AO18,AP17=AP18) -> FALSE | BN17: =AND(NOT(BH17),NOT(BI17),NOT(BK17),AN17=AN19,AO17=AO19,AP17=AP19) -> FALSE | BO17: =AND(NOT(BH17),NOT(BJ17),NOT(BK17),AN17=AN20,AO17=AO20,AP17=AP20) -> FALSE | BP17: =AND(NOT(BH17),NOT(BI17),NOT(BL17),AN18=AN19,AO18=AO19) -> FALSE | BQ17: =AND(NOT(BH17),NOT(BJ17),NOT(BL17),AN18=AN20,AO18=AO20,AP18=AP20) -> FALSE | BR17: =AND(NOT(BH17),NOT(BK17),NOT(BL17),AN19=AN20,AO19=AO20,AP19=AP20) -> FALSE | BS17: {=AND(NOT(BH17:BR17))} -> FALSE | BT17: x | BU17: =IF($BM17,IF(F16-E16<0,-0.5,IF(E16-F16<0,0.5,0)),IF($BI17,IF($AZ17>$AZ18,-0.5,IF($AZ17<$AZ18,0.5,0)),IF($BJ17,IF($BA17>$BA18,-0.5, IF($BA17<$BA18,0.5,0)),0))) -> 0 | BV17: =IF($BN17,IF(F18-E18<0,-0.5,IF(E18-F18<0,0.5,0)),IF($BI17,IF($AZ17>$AZ19,-0.5,IF($AZ17<$AZ19,0.5,0)),IF($BK17,IF($BB17>$BB19,-0.5,IF($BB17<$BB19,0.5,0)),0))) -> 0 | BW17: =IF($BO17,IF(E20-F20<0,-0.5,IF(F20-E20<0,0.5,0)),IF($BJ17,IF($BA17>$BA20,-0.5,IF($BA17<$BA20,0.5,0)),IF($BK17,IF($BB17>$BB20,-0.5, IF($BB17<$BB20,0.5,0)),0))) -> 0
B18: 42026 | C18: 0.70833333 | D18: =D16 -> ZAMBIE | G18: =D17 -> TUNISIE | I18: =AI18 -> 1 | J18: =INDEX(AM17:AM20,MATCH(AK18,$AL17:$AL20,0)) -> RD CONGO | K18: =INDEX(AN17:AN20,MATCH(AK18,$AL17:$AL20,0)) -> 0 | L18: =INDEX(AO17:AO20,MATCH(AK18,$AL17:$AL20,0)) -> 0 | M18: =INDEX(AP17:AP20,MATCH(AK18,$AL17:$AL20,0)) -> 0 | N18: =INDEX(AQ17:AQ20,MATCH(AK18,$AL17:$AL20,0)) -> 0 | AI18: =IF(ROUND(AK18,0)=ROUND(AK17,0),AI17,2) -> 1 | AJ18: =ROUND(AK18,0) -> 2 | AK18: =MAX(MIN(AL17:AL19),MIN(AL17,AL18,AL20),MIN(AL17,AL19,AL20),MIN(AL18:AL20)) -> 2.46 | AL18: =SUM(BD18:BG18)+2.46 -> 2.46 | AM18: =G16 -> RD CONGO | AN18: =SUM(AR18:AU18) -> 0 | AO18: =F16+F19+E21 -> 0 | AP18: =E16+E19+F21 -> 0 | AQ18: =AO18-AP18 -> 0 | AR18: =IF(ISBLANK(F16),0,IF(AS17=3,0,IF(AS17=1,1,3))) -> 0 | AS18: x | AT18: =IF(ISBLANK(E21),0,IF(AS19=3,0,IF(AS19=1,1,3))) -> 0 | AU18: =IF(ISBLANK(F19),0,IF(F19>E19,3,IF(F19=E19,1,0))) -> 0 | AV18: =(10*(AQ17-AQ18)+AO17-AO18<0) -> FALSE | AW18: x | AX18: =10*(AQ18-AQ19)+AO18-AO19>0 -> FALSE | AY18: =10*(AQ18-AQ20)+AO18-AO20>0 -> FALSE | AZ18: =10000*(AR18+AT18)+(F16-E16+E21-F21)*100+(F16+E21) -> 0 | BA18: =10000*(AR18+AU18)+(F16-E16+F19-E19)*100+(F16+F19) -> 0 | BB18: x | BC18: =10000*(AT18+AU18)+(F19-E19+E21-F21)*100+(F19+E21) -> 0 | BD18: =-BE17 -> 0 | BE18: x | BF18: =IF($AN18>$AN19,-0.5,IF($AN19>$AN18,0.5,IF(AX18,-0.5,IF(AW19,0.5,BV18)))) -> 0 | BG18: =IF($AN18>$AN20,-0.5,IF($AN20>$AN18,0.5,IF(AY18,-0.5,IF(AW20,0.5,BW18)))) -> 0 | BU18: x | BV18: =IF($BP17,IF(F21-E21<0,-0.5,IF(E21-F21<0,0.5,0)),IF($BI17,IF($AZ18>$AZ19,-0.5,IF($AZ18<$AZ19,0.5,0)),IF($BL17,IF($BC18>$BC19,-0.5,IF($BC18<$BC19,0.5,0)),0))) -> 0 | BW18: =IF($BQ17,IF(E19-F19<0,-0.5,IF(F19-E19<0,0.5,0)),IF($BJ17,IF($BA18>$BA20,-0.5,IF($BA18<$BA20,0.5,0)),IF($BL17,IF($BC18>$BC20,-0.5,IF($BC18<$BC20,0.5,0)),0))) -> 0
B19: 42026 | C19: 0.83333333 | D19: =G17 -> CAP VERT | G19: =G16 -> RD CONGO | I19: =AI19 -> 1 | J19: =INDEX(AM17:AM20,MATCH(AK19,$AL17:$AL20,0)) -> TUNISIE | K19: =INDEX(AN17:AN20,MATCH(AK19,$AL17:$AL20,0)) -> 0 | L19: =INDEX(AO17:AO20,MATCH(AK19,$AL17:$AL20,0)) -> 0 | M19: =INDEX(AP17:AP20,MATCH(AK19,$AL17:$AL20,0)) -> 0 | N19: =INDEX(AQ17:AQ20,MATCH(AK19,$AL17:$AL20,0)) -> 0 | AI19: =IF(ROUND(AK19,0)=ROUND(AK18,0),AI18,3) -> 1 | AJ19: =ROUND(AK19,0) -> 2 | AK19: =MIN(MAX(AL17:AL19),MAX(AL17,AL18,AL20),MAX(AL17,AL19,AL20),MAX(AL18:AL20)) -> 2.47 | AL19: =SUM(BD19:BG19)+2.47 -> 2.47 | AM19: =D17 -> TUNISIE | AN19: =SUM(AR19:AU19) -> 0 | AO19: =E17+F18+F21 -> 0 | AP19: =F17+E18+E21 -> 0 | AQ19: =AO19-AP19 -> 0 | AR19: =IF(ISBLANK(F18),0,IF(AT17=3,0,IF(AT17=1,1,3))) -> 0 | AS19: =IF(ISBLANK(F21),0,IF(F21>E21,3,IF(F21=E21,1,0))) -> 0 | AT19: x | AU19: =IF(ISBLANK(E17),0,IF(E17>F17,3,IF(E17=F17,1,0))) -> 0 | AV19: =10*(AQ17-AQ19)+AO17-AO19<0 -> FALSE | AW19: =10*(AQ18-AQ19)+AO18-AO19<0 -> FALSE | AX19: x | AY19: =10*(AQ19-AQ20)+AO19-AO20>0 -> FALSE | AZ19: =10000*(AR19+AS19)+(F18-E18+F21-E21)*100+(F18+F21) -> 0 | BA19: x | BB19: =10000*(AR19+AU19)+(E17-F17+F18-E18)*100+(E17+F18) -> 0 | BC19: =10000*(AS19+AU19)+(E17-F17+F21-E21)*100+(E17+F21) -> 0 | BD19: =-BF17 -> 0 | BE19: =-BF18 -> 0 | BF19: x | BG19: =IF($AN19>$AN20,-0.5,IF($AN20>$AN19,0.5,IF(AY19,-0.5,IF(AX20,0.5,BW19)))) -> 0 | BV19: x | BW19: =IF($BR17,IF(F17-E17<0,-0.5,IF(E17-F17<0,0.5,0)),IF($BK17,IF($BB19>$BB20,-0.5,IF($BB19<$BB20,0.5,0)),IF($BL17,IF($BC19>$BC20,-0.5,IF($BC19<$BC20,0.5,0)),0))) -> 0
B20: 42030 | C20: 0.79166667 | D20: =G17 -> CAP VERT | G20: =D16 -> ZAMBIE | I20: =AI20 -> 1 | J20: =INDEX(AM17:AM20,MATCH(AK20,$AL17:$AL20,0)) -> CAP VERT | K20: =INDEX(AN17:AN20,MATCH(AK20,$AL17:$AL20,0)) -> 0 | L20: =INDEX(AO17:AO20,MATCH(AK20,$AL17:$AL20,0)) -> 0 | M20: =INDEX(AP17:AP20,MATCH(AK20,$AL17:$AL20,0)) -> 0 | N20: =INDEX(AQ17:AQ20,MATCH(AK20,$AL17:$AL20,0)) -> 0 | AI20: =IF(ROUND(AK20,0)=ROUND(AK19,0),AI19,4) -> 1 | AJ20: =ROUND(AK20,0) -> 2 | AK20: =MAX(AL17:AL20) -> 2.48 | AL20: =SUM(BD20:BG20)+2.48 -> 2.48 | AM20: =G17 -> CAP VERT | AN20: =SUM(AR20:AU20) -> 0 | AO20: =F17+E19+E20 -> 0 | AP20: =E17+F19+F20 -> 0 | AQ20: =AO20-AP20 -> 0 | AR20: =IF(ISBLANK(E20),0,IF(AU17=3,0,IF(AU17=1,1,3))) -> 0 | AS20: =IF(ISBLANK(E19),0,IF(AU18=3,0,IF(AU18=1,1,3))) -> 0 | AT20: =IF(ISBLANK(F17),0,IF(AU19=3,0,IF(AU19=1,1,3))) -> 0 | AU20: x | AV20: =10*(AQ17-AQ20)+AO17-AO20<0 -> FALSE | AW20: =10*(AQ18-AQ20)+AO18-AO20<0 -> FALSE | AX20: =10*(AQ19-AQ20)+AO19-AO20<0 -> FALSE | AY20: x | AZ20: x | BA20: =10000*(AR20+AS20)+(E19-F19+E20-F20)*100+(E19+E20) -> 0 | BB20: =10000*(AR20+AT20)+(E20-F20+F17-E17)*100+(E20+F17) -> 0 | BC20: =10000*(AS20+AT20)+(E19-F19+F17-E17)*100+(E19+F17) -> 0 | BD20: =-BG17 -> 0 | BE20: =-BG18 -> 0 | BF20: =-BG19 -> 0 | BG20: x | BW20: x
B21: 42030 | C21: 0.79166667 | D21: =G16 -> RD CONGO | G21: =D17 -> TUNISIE | J21: =IF(OR(I19<3,I18<2),"TIRAGE AU SORT !!!"," ") -> TIRAGE AU SORT !!!
B23: Groupe C
B24: 42023 | C24: 0.70833333 | D24: GHANA | G24: SENEGAL | J24: Groupe C | K24: Pts | L24: BP | M24: BC | N24: ="+/-" -> +/- | AL24: Rank | AM24: Team | AN24: Pts | AO24: GF | AP24: GA | AQ24: GD | AR24: Ag1 | AS24: Ag2 | AT24: Ag3 | AU24: Ag4 | AV24: Sp1 | AW24: Sp2 | AX24: Sp3 | AY24: Sp4 | AZ24: T123 | BA24: T124 | BB24: T134 | BC24: T234 | BD24: Rk1 | BE24: Rk2 | BF24: Rk3 | BG24: Rk4 | BH24: T1234 | BI24: T123 | BJ24: T124 | BK24: T134 | BL24: T234 | BM24: T12 | BN24: T13 | BO24: T14 | BP24: T23 | BQ24: T24 | BR24: T34 | BS24: NoT | BT24: sRk1 | BU24: sRk2 | BV24: sRk3 | BW24: sRk4
B25: 42023 | C25: 0.83333333 | D25: ALGERIE | G25: AFRIQUE DE SUD | I25: =AI25 -> 1 | J25: =INDEX(AM25:AM28,MATCH(AK25,$AL25:$AL28,0)) -> GHANA | K25: =INDEX(AN25:AN28,MATCH(AK25,$AL25:$AL28,0)) -> 0 | L25: =INDEX(AO25:AO28,MATCH(AK25,$AL25:$AL28,0)) -> 0 | M25: =INDEX(AP25:AP28,MATCH(AK25,$AL25:$AL28,0)) -> 0 | N25: =INDEX(AQ25:AQ28,MATCH(AK25,$AL25:$AL28,0)) -> 0 | S25: Demi-finales | W25: Pen | AI25: 1 | AJ25: =ROUND(AK25,0) -> 2 | AK25: =MIN(AL25:AL28) -> 2.45 | AL25: =SUM(BD25:BG25)+2.45 -> 2.45 | AM25: =D24 -> GHANA | AN25: =SUM(AR25:AU25) -> 0 | AO25: =E24+E26+F28 -> 0 | AP25: =F24+F26+E28 -> 0 | AQ25: =AO25-AP25 -> 0 | AR25: x | AS25: =IF(ISBLANK(E24),0,IF(E24>F24,3,IF(E24=F24,1,0))) -> 0 | AT25: =IF(ISBLANK(E26),0,IF(E26>F26,3,IF(E26=F26,1,0))) -> 0 | AU25: =IF(ISBLANK(F28),0,IF(F28>E28,3,IF(F28=E28,1,0))) -> 0 | AV25: x | AW25: =(10*(AQ25-AQ26)+AO25-AO26>0) -> FALSE | AX25: =10*(AQ25-AQ27)+AO25-AO27>0 -> FALSE | AY25: =10*(AQ25-AQ28)+AO25-AO28>0 -> FALSE | AZ25: =10000*(AS25+AT25)+(E26-F26+E24-F24)*100+(E26+E24) -> 0 | BA25: =10000*(AS25+AU25)+(E24-F24+F28-E28)*100+(E24+F28) -> 0 | BB25: =10000*(AT25+AU25)+(F28-E28+E26-F26)*100+(F28+E26) -> 0 | BC25: x | BD25: x | BE25: =IF($AN25>$AN26,-0.5,IF($AN26>$AN25,0.5,IF(AW25,-0.5,IF(AV26,0.5,BU25)))) -> 0 | BF25: =IF($AN25>$AN27,-0.5,IF($AN27>$AN25,0.5,IF(AX25,-0.5,IF(AV27,0.5,BV25)))) -> 0 | BG25: =IF($AN25>$AN28,-0.5,IF($AN28>$AN25,0.5,IF(AY25,-0.5,IF(AV28,0.5,BW25)))) -> 0 | BH25: =AND(AND(AN25=AN26,AN26=AN27,AN27=AN28),AND(AO25=AO26,AO26=AO27,AO27=AO28),AND(AP25=AP26,AP26=AP27,AP27=AP28)) -> TRUE | BI25: =AND(NOT(BH25),AN25=AN26,AN25=AN27,AO25=AO26,AO25=AO27,AP25=AP26,AP25=AP27) -> FALSE | BJ25: =AND(NOT(BH25),AN25=AN26,AN25=AN28,AO25=AO26,AO25=AO28,AP25=AP26,AP25=AP28) -> FALSE | BK25: =AND(NOT(BH25),AN25=AN27,AN25=AN28,AO25=AO27,AO25=AO28,AP25=AP27,AP25=AP28) -> FALSE | BL25: =AND(NOT(BH25),AN26=AN27,AN26=AN28,AO26=AO27,AO26=AO28,AP26=AP27,AP26=AP28) -> FALSE | BM25: =AND(NOT(BH25),NOT(BI25),NOT(BJ25),AN25=AN26,AO25=AO26,AP25=AP26) -> FALSE | BN25: =AND(NOT(BH25),NOT(BI25),NOT(BK25),AN25=AN27,AO25=AO27,AP25=AP27) -> FALSE | BO25: =AND(NOT(BH25),NOT(BJ25),NOT(BK25),AN25=AN28,AO25=AO28,AP25=AP28) -> FALSE | BP25: =AND(NOT(BH25),NOT(BI25),NOT(BL25),AN26=AN27,AO26=AO27) -> FALSE | BQ25: =AND(NOT(BH25),NOT(BJ25),NOT(BL25),AN26=AN28,AO26=AO28,AP26=AP28) -> FALSE | BR25: =AND(NOT(BH25),NOT(BK25),NOT(BL25),AN27=AN28,AO27=AO28,AP27=AP28) -> FALSE | BS25: {=AND(NOT(BH25:BR25))} -> FALSE | BT25: x | BU25: =IF($BM25,IF(F24-E24<0,-0.5,IF(E24-F24<0,0.5,0)),IF($BI25,IF($AZ25>$AZ26,-0.5,IF($AZ25<$AZ26,0.5,0)),IF($BJ25,IF($BA25>$BA26,-0.5, IF($BA25<$BA26,0.5,0)),0))) -> 0 | BV25: =IF($BN25,IF(F26-E26<0,-0.5,IF(E26-F26<0,0.5,0)),IF($BI25,IF($AZ25>$AZ27,-0.5,IF($AZ25<$AZ27,0.5,0)),IF($BK25,IF($BB25>$BB27,-0.5,IF($BB25<$BB27,0.5,0)),0))) -> 0 | BW25: =IF($BO25,IF(E28-F28<0,-0.5,IF(F28-E28<0,0.5,0)),IF($BJ25,IF($BA25>$BA28,-0.5,IF($BA25<$BA28,0.5,0)),IF($BK25,IF($BB25>$BB28,-0.5, IF($BB25<$BB28,0.5,0)),0))) -> 0
B26: 42027 | C26: 0.70833333 | D26: =D24 -> GHANA | G26: =D25 -> ALGERIE | I26: =AI26 -> 1 | J26: =INDEX(AM25:AM28,MATCH(AK26,$AL25:$AL28,0)) -> SENEGAL | K26: =INDEX(AN25:AN28,MATCH(AK26,$AL25:$AL28,0)) -> 0 | L26: =INDEX(AO25:AO28,MATCH(AK26,$AL25:$AL28,0)) -> 0 | M26: =INDEX(AP25:AP28,MATCH(AK26,$AL25:$AL28,0)) -> 0 | N26: =INDEX(AQ25:AQ28,MATCH(AK26,$AL25:$AL28,0)) -> 0 | S26: 42039 | T26: 0.83333333 | U26: =IF(100*V8+W8>100*V9+W9,U8,IF(100*V8+W8<100*V9+W9,U9,CONCATENATE(U8," ou ",U9))) -> A1 ou B2 | X26: =IF(100*V8+W8>100*V9+W9,1,IF(100*V8+W8<100*V9+W9,1,0)) -> 0 | AI26: =IF(ROUND(AK26,0)=ROUND(AK25,0),AI25,2) -> 1 | AJ26: =ROUND(AK26,0) -> 2 | AK26: =MAX(MIN(AL25:AL27),MIN(AL25,AL26,AL28),MIN(AL25,AL27,AL28),MIN(AL26:AL28)) -> 2.46 | AL26: =SUM(BD26:BG26)+2.46 -> 2.46 | AM26: =G24 -> SENEGAL | AN26: =SUM(AR26:AU26) -> 0 | AO26: =F24+F27+E29 -> 0 | AP26: =E24+E27+F29 -> 0 | AQ26: =AO26-AP26 -> 0 | AR26: =IF(ISBLANK(F24),0,IF(AS25=3,0,IF(AS25=1,1,3))) -> 0 | AS26: x | AT26: =IF(ISBLANK(E29),0,IF(AS27=3,0,IF(AS27=1,1,3))) -> 0 | AU26: =IF(ISBLANK(F27),0,IF(F27>E27,3,IF(F27=E27,1,0))) -> 0 | AV26: =(10*(AQ25-AQ26)+AO25-AO26<0) -> FALSE | AW26: x | AX26: =10*(AQ26-AQ27)+AO26-AO27>0 -> FALSE | AY26: =10*(AQ26-AQ28)+AO26-AO28>0 -> FALSE | AZ26: =10000*(AR26+AT26)+(F24-E24+E29-F29)*100+(F24+E29) -> 0 | BA26: =10000*(AR26+AU26)+(F24-E24+F27-E27)*100+(F24+F27) -> 0 | BB26: x | BC26: =10000*(AT26+AU26)+(F27-E27+E29-F29)*100+(F27+E29) -> 0 | BD26: =-BE25 -> 0 | BE26: x | BF26: =IF($AN26>$AN27,-0.5,IF($AN27>$AN26,0.5,IF(AX26,-0.5,IF(AW27,0.5,BV26)))) -> 0 | BG26: =IF($AN26>$AN28,-0.5,IF($AN28>$AN26,0.5,IF(AY26,-0.5,IF(AW28,0.5,BW26)))) -> 0 | BU26: x | BV26: =IF($BP25,IF(F29-E29<0,-0.5,IF(E29-F29<0,0.5,0)),IF($BI25,IF($AZ26>$AZ27,-0.5,IF($AZ26<$AZ27,0.5,0)),IF($BL25,IF($BC26>$BC27,-0.5,IF($BC26<$BC27,0.5,0)),0))) -> 0 | BW26: =IF($BQ25,IF(E27-F27<0,-0.5,IF(F27-E27<0,0.5,0)),IF($BJ25,IF($BA26>$BA28,-0.5,IF($BA26<$BA28,0.5,0)),IF($BL25,IF($BC26>$BC28,-0.5,IF($BC26<$BC28,0.5,0)),0))) -> 0
B27: 42027 | C27: 0.83333333 | D27: =G25 -> AFRIQUE DE SUD | G27: =G24 -> SENEGAL | I27: =AI27 -> 1 | J27: =INDEX(AM25:AM28,MATCH(AK27,$AL25:$AL28,0)) -> ALGERIE | K27: =INDEX(AN25:AN28,MATCH(AK27,$AL25:$AL28,0)) -> 0 | L27: =INDEX(AO25:AO28,MATCH(AK27,$AL25:$AL28,0)) -> 0 | M27: =INDEX(AP25:AP28,MATCH(AK27,$AL25:$AL28,0)) -> 0 | N27: =INDEX(AQ25:AQ28,MATCH(AK27,$AL25:$AL28,0)) -> 0 | U27: =IF(100*V10+W10>100*V11+W11,U10,IF(100*V10+W10<100*V11+W11,U11,CONCATENATE(U10," ou ",U11))) -> C1 ou D2 | X27: =IF(100*V10+W10>100*V11+W11,1,IF(100*V10+W10<100*V11+W11,1,0)) -> 0 | AI27: =IF(ROUND(AK27,0)=ROUND(AK26,0),AI26,3) -> 1 | AJ27: =ROUND(AK27,0) -> 2 | AK27: =MIN(MAX(AL25:AL27),MAX(AL25,AL26,AL28),MAX(AL25,AL27,AL28),MAX(AL26:AL28)) -> 2.47 | AL27: =SUM(BD27:BG27)+2.47 -> 2.47 | AM27: =D25 -> ALGERIE | AN27: =SUM(AR27:AU27) -> 0 | AO27: =E25+F26+F29 -> 0 | AP27: =F25+E26+E29 -> 0 | AQ27: =AO27-AP27 -> 0 | AR27: =IF(ISBLANK(F26),0,IF(AT25=3,0,IF(AT25=1,1,3))) -> 0 | AS27: =IF(ISBLANK(F29),0,IF(F29>E29,3,IF(F29=E29,1,0))) -> 0 | AT27: x | AU27: =IF(ISBLANK(E25),0,IF(E25>F25,3,IF(E25=F25,1,0))) -> 0 | AV27: =10*(AQ25-AQ27)+AO25-AO27<0 -> FALSE | AW27: =10*(AQ26-AQ27)+AO26-AO27<0 -> FALSE | AX27: x | AY27: =10*(AQ27-AQ28)+AO27-AO28>0 -> FALSE | AZ27: =10000*(AR27+AS27)+(F26-E26+F29-E29)*100+(F26+F29) -> 0 | BA27: x | BB27: =10000*(AR27+AU27)+(E25-F25+F26-E26)*100+(E25+F26) -> 0 | BC27: =10000*(AS27+AU27)+(E25-F25+F29-E29)*100+(E25+F29) -> 0 | BD27: =-BF25 -> 0 | BE27: =-BF26 -> 0 | BF27: x | BG27: =IF($AN27>$AN28,-0.5,IF($AN28>$AN27,0.5,IF(AY27,-0.5,IF(AX28,0.5,BW27)))) -> 0 | BV27: x | BW27: =IF($BR25,IF(F25-E25<0,-0.5,IF(E25-F25<0,0.5,0)),IF($BK25,IF($BB27>$BB28,-0.5,IF($BB27<$BB28,0.5,0)),IF($BL25,IF($BC27>$BC28,-0.5,IF($BC27<$BC28,0.5,0)),0))) -> 0
B28: 42031 | C28: 0.79166667 | D28: =G25 -> AFRIQUE DE SUD | G28: =D24 -> GHANA | I28: =AI28 -> 1 | J28: =INDEX(AM25:AM28,MATCH(AK28,$AL25:$AL28,0)) -> AFRIQUE DE SUD | K28: =INDEX(AN25:AN28,MATCH(AK28,$AL25:$AL28,0)) -> 0 | L28: =INDEX(AO25:AO28,MATCH(AK28,$AL25:$AL28,0)) -> 0 | M28: =INDEX(AP25:AP28,MATCH(AK28,$AL25:$AL28,0)) -> 0 | N28: =INDEX(AQ25:AQ28,MATCH(AK28,$AL25:$AL28,0)) -> 0 | S28: 42040 | T28: 0.83333333 | U28: =IF(100*V12+W12>100*V13+W13,U12,IF(100*V12+W12<100*V13+W13,U13,CONCATENATE(U12," ou ",U13))) -> B1 ou A2 | X28: =IF(100*V12+W12>100*V13+W13,1,IF(100*V12+W12<100*V13+W13,1,0)) -> 0 | AI28: =IF(ROUND(AK28,0)=ROUND(AK27,0),AI27,4) -> 1 | AJ28: =ROUND(AK28,0) -> 2 | AK28: =MAX(AL25:AL28) -> 2.48 | AL28: =SUM(BD28:BG28)+2.48 -> 2.48 | AM28: =G25 -> AFRIQUE DE SUD | AN28: =SUM(AR28:AU28) -> 0 | AO28: =F25+E27+E28 -> 0 | AP28: =E25+F27+F28 -> 0 | AQ28: =AO28-AP28 -> 0 | AR28: =IF(ISBLANK(E28),0,IF(AU25=3,0,IF(AU25=1,1,3))) -> 0 | AS28: =IF(ISBLANK(E27),0,IF(AU26=3,0,IF(AU26=1,1,3))) -> 0 | AT28: =IF(ISBLANK(F25),0,IF(AU27=3,0,IF(AU27=1,1,3))) -> 0 | AU28: x | AV28: =10*(AQ25-AQ28)+AO25-AO28<0 -> FALSE | AW28: =10*(AQ26-AQ28)+AO26-AO28<0 -> FALSE | AX28: =10*(AQ27-AQ28)+AO27-AO28<0 -> FALSE | AY28: x | AZ28: x | BA28: =10000*(AR28+AS28)+(E27-F27+E28-F28)*100+(E27+E28) -> 0 | BB28: =10000*(AR28+AT28)+(E28-F28+F25-E25)*100+(E28+F25) -> 0 | BC28: =10000*(AS28+AT28)+(E27-F27+F25-E25)*100+(E27+F25) -> 0 | BD28: =-BG25 -> 0 | BE28: =-BG26 -> 0 | BF28: =-BG27 -> 0 | BG28: x | BW28: x
B29: 42031 | C29: 0.79166667 | D29: =G24 -> SENEGAL | G29: =D25 -> ALGERIE | J29: =IF(OR(I27<3,I26<2),"TIRAGE AU SORT !!!"," ") -> TIRAGE AU SORT !!! | U29: =IF(100*V14+W14>100*V15+W15,U14,IF(100*V14+W14<100*V15+W15,U15,CONCATENATE(U14," ou ",U15))) -> D1 ou C2 | X29: =IF(100*V14+W14>100*V15+W15,1,IF(100*V14+W14<100*V15+W15,1,0)) -> 0
X30: =IF(100*V16+W16>100*V17+W17,1,IF(100*V16+W16<100*V17+W17,1,0)) -> 0
B31: Groupe D | X31: =IF(100*V18+W18>100*V19+W19,1,IF(100*V18+W18<100*V19+W19,1,0)) -> 0
B32: 42024 | C32: 0.70833333 | D32: COTE D'IVOIR | G32: GUINEA | J32: Groupe D | K32: Pts | L32: BP | M32: BC | N32: ="+/-" -> +/- | X32: =IF(100*V20+W20>100*V21+W21,1,IF(100*V20+W20<100*V21+W21,1,0)) -> 0 | AL32: Rank | AM32: Team | AN32: Pts | AO32: GF | AP32: GA | AQ32: GD | AR32: Ag1 | AS32: Ag2 | AT32: Ag3 | AU32: Ag4 | AV32: Sp1 | AW32: Sp2 | AX32: Sp3 | AY32: Sp4 | AZ32: T123 | BA32: T124 | BB32: T134 | BC32: T234 | BD32: Rk1 | BE32: Rk2 | BF32: Rk3 | BG32: Rk4 | BH32: T1234 | BI32: T123 | BJ32: T124 | BK32: T134 | BL32: T234 | BM32: T12 | BN32: T13 | BO32: T14 | BP32: T23 | BQ32: T24 | BR32: T34 | BS32: NoT | BT32: sRk1 | BU32: sRk2 | BV32: sRk3 | BW32: sRk4
B33: 42024 | C33: 0.83333333 | D33: MALI | G33: CAMEROONE | I33: =AI33 -> 1 | J33: =INDEX(AM33:AM36,MATCH(AK33,$AL33:$AL36,0)) -> COTE D'IVOIR | K33: =INDEX(AN33:AN36,MATCH(AK33,$AL33:$AL36,0)) -> 0 | L33: =INDEX(AO33:AO36,MATCH(AK33,$AL33:$AL36,0)) -> 0 | M33: =INDEX(AP33:AP36,MATCH(AK33,$AL33:$AL36,0)) -> 0 | N33: =INDEX(AQ33:AQ36,MATCH(AK33,$AL33:$AL36,0)) -> 0 | X33: =IF(100*V22+W22>100*V23+W23,1,IF(100*V22+W22<100*V23+W23,1,0)) -> 0 | AI33: 1 | AJ33: =ROUND(AK33,0) -> 2 | AK33: =MIN(AL33:AL36) -> 2.45 | AL33: =SUM(BD33:BG33)+2.45 -> 2.45 | AM33: =D32 -> COTE D'IVOIR | AN33: =SUM(AR33:AU33) -> 0 | AO33: =E32+E34+F36 -> 0 | AP33: =F32+F34+E36 -> 0 | AQ33: =AO33-AP33 -> 0 | AR33: x | AS33: =IF(ISBLANK(E32),0,IF(E32>F32,3,IF(E32=F32,1,0))) -> 0 | AT33: =IF(ISBLANK(E34),0,IF(E34>F34,3,IF(E34=F34,1,0))) -> 0 | AU33: =IF(ISBLANK(F36),0,IF(F36>E36,3,IF(F36=E36,1,0))) -> 0 | AV33: x | AW33: =(10*(AQ33-AQ34)+AO33-AO34>0) -> FALSE | AX33: =10*(AQ33-AQ35)+AO33-AO35>0 -> FALSE | AY33: =10*(AQ33-AQ36)+AO33-AO36>0 -> FALSE | AZ33: =10000*(AS33+AT33)+(E34-F34+E32-F32)*100+(E34+E32) -> 0 | BA33: =10000*(AS33+AU33)+(E32-F32+F36-E36)*100+(E32+F36) -> 0 | BB33: =10000*(AT33+AU33)+(F36-E36+E34-F34)*100+(F36+E34) -> 0 | BC33: x | BD33: x | BE33: =IF($AN33>$AN34,-0.5,IF($AN34>$AN33,0.5,IF(AW33,-0.5,IF(AV34,0.5,BU33)))) -> 0 | BF33: =IF($AN33>$AN35,-0.5,IF($AN35>$AN33,0.5,IF(AX33,-0.5,IF(AV35,0.5,BV33)))) -> 0 | BG33: =IF($AN33>$AN36,-0.5,IF($AN36>$AN33,0.5,IF(AY33,-0.5,IF(AV36,0.5,BW33)))) -> 0 | BH33: =AND(AND(AN33=AN34,AN34=AN35,AN35=AN36),AND(AO33=AO34,AO34=AO35,AO35=AO36),AND(AP33=AP34,AP34=AP35,AP35=AP36)) -> TRUE | BI33: =AND(NOT(BH33),AN33=AN34,AN33=AN35,AO33=AO34,AO33=AO35,AP33=AP34,AP33=AP35) -> FALSE | BJ33: =AND(NOT(BH33),AN33=AN34,AN33=AN36,AO33=AO34,AO33=AO36,AP33=AP34,AP33=AP36) -> FALSE | BK33: =AND(NOT(BH33),AN33=AN35,AN33=AN36,AO33=AO35,AO33=AO36,AP33=AP35,AP33=AP36) -> FALSE | BL33: =AND(NOT(BH33),AN34=AN35,AN34=AN36,AO34=AO35,AO34=AO36,AP34=AP35,AP34=AP36) -> FALSE | BM33: =AND(NOT(BH33),NOT(BI33),NOT(BJ33),AN33=AN34,AO33=AO34,AP33=AP34) -> FALSE | BN33: =AND(NOT(BH33),NOT(BI33),NOT(BK33),AN33=AN35,AO33=AO35,AP33=AP35) -> FALSE | BO33: =AND(NOT(BH33),NOT(BJ33),NOT(BK33),AN33=AN36,AO33=AO36,AP33=AP36) -> FALSE | BP33: =AND(NOT(BH33),NOT(BI33),NOT(BL33),AN34=AN35,AO34=AO35) -> FALSE | BQ33: =AND(NOT(BH33),NOT(BJ33),NOT(BL33),AN34=AN36,AO34=AO36,AP34=AP36) -> FALSE | BR33: =AND(NOT(BH33),NOT(BK33),NOT(BL33),AN35=AN36,AO35=AO36,AP35=AP36) -> FALSE | BS33: {=AND(NOT(BH33:BR33))} -> FALSE | BT33: x | BU33: =IF($BM33,IF(F32-E32<0,-0.5,IF(E32-F32<0,0.5,0)),IF($BI33,IF($AZ33>$AZ34,-0.5,IF($AZ33<$AZ34,0.5,0)),IF($BJ33,IF($BA33>$BA34,-0.5, IF($BA33<$BA34,0.5,0)),0))) -> 0 | BV33: =IF($BN33,IF(F34-E34<0,-0.5,IF(E34-F34<0,0.5,0)),IF($BI33,IF($AZ33>$AZ35,-0.5,IF($AZ33<$AZ35,0.5,0)),IF($BK33,IF($BB33>$BB35,-0.5,IF($BB33<$BB35,0.5,0)),0))) -> 0 | BW33: =IF($BO33,IF(E36-F36<0,-0.5,IF(F36-E36<0,0.5,0)),IF($BJ33,IF($BA33>$BA36,-0.5,IF($BA33<$BA36,0.5,0)),IF($BK33,IF($BB33>$BB36,-0.5, IF($BB33<$BB36,0.5,0)),0))) -> 0
B34: 42028 | C34: 0.70833333 | D34: =D32 -> COTE D'IVOIR | G34: =D33 -> MALI | I34: =AI34 -> 1 | J34: =INDEX(AM33:AM36,MATCH(AK34,$AL33:$AL36,0)) -> GUINEA | K34: =INDEX(AN33:AN36,MATCH(AK34,$AL33:$AL36,0)) -> 0 | L34: =INDEX(AO33:AO36,MATCH(AK34,$AL33:$AL36,0)) -> 0 | M34: =INDEX(AP33:AP36,MATCH(AK34,$AL33:$AL36,0)) -> 0 | N34: =INDEX(AQ33:AQ36,MATCH(AK34,$AL33:$AL36,0)) -> 0 | AI34: =IF(ROUND(AK34,0)=ROUND(AK33,0),AI33,2) -> 1 | AJ34: =ROUND(AK34,0) -> 2 | AK34: =MAX(MIN(AL33:AL35),MIN(AL33,AL34,AL36),MIN(AL33,AL35,AL36),MIN(AL34:AL36)) -> 2.46 | AL34: =SUM(BD34:BG34)+2.46 -> 2.46 | AM34: =G32 -> GUINEA | AN34: =SUM(AR34:AU34) -> 0 | AO34: =F32+F35+E37 -> 0 | AP34: =E32+E35+F37 -> 0 | AQ34: =AO34-AP34 -> 0 | AR34: =IF(ISBLANK(F32),0,IF(AS33=3,0,IF(AS33=1,1,3))) -> 0 | AS34: x | AT34: =IF(ISBLANK(E37),0,IF(AS35=3,0,IF(AS35=1,1,3))) -> 0 | AU34: =IF(ISBLANK(F35),0,IF(F35>E35,3,IF(F35=E35,1,0))) -> 0 | AV34: =(10*(AQ33-AQ34)+AO33-AO34<0) -> FALSE | AW34: x | AX34: =10*(AQ34-AQ35)+AO34-AO35>0 -> FALSE | AY34: =10*(AQ34-AQ36)+AO34-AO36>0 -> FALSE | AZ34: =10000*(AR34+AT34)+(F32-E32+E37-F37)*100+(F32+E37) -> 0 | BA34: =10000*(AR34+AU34)+(F32-E32+F35-E35)*100+(F32+F35) -> 0 | BB34: x | BC34: =10000*(AT34+AU34)+(F35-E35+E37-F37)*100+(F35+E37) -> 0 | BD34: =-BE33 -> 0 | BE34: x | BF34: =IF($AN34>$AN35,-0.5,IF($AN35>$AN34,0.5,IF(AX34,-0.5,IF(AW35,0.5,BV34)))) -> 0 | BG34: =IF($AN34>$AN36,-0.5,IF($AN36>$AN34,0.5,IF(AY34,-0.5,IF(AW36,0.5,BW34)))) -> 0 | BU34: x | BV34: =IF($BP33,IF(F37-E37<0,-0.5,IF(E37-F37<0,0.5,0)),IF($BI33,IF($AZ34>$AZ35,-0.5,IF($AZ34<$AZ35,0.5,0)),IF($BL33,IF($BC34>$BC35,-0.5,IF($BC34<$BC35,0.5,0)),0))) -> 0 | BW34: =IF($BQ33,IF(E35-F35<0,-0.5,IF(F35-E35<0,0.5,0)),IF($BJ33,IF($BA34>$BA36,-0.5,IF($BA34<$BA36,0.5,0)),IF($BL33,IF($BC34>$BC36,-0.5,IF($BC34<$BC36,0.5,0)),0))) -> 0
B35: 42028 | C35: 0.83333333 | D35: =G33 -> CAMEROONE | G35: =G32 -> GUINEA | I35: =AI35 -> 1 | J35: =INDEX(AM33:AM36,MATCH(AK35,$AL33:$AL36,0)) -> MALI | K35: =INDEX(AN33:AN36,MATCH(AK35,$AL33:$AL36,0)) -> 0 | L35: =INDEX(AO33:AO36,MATCH(AK35,$AL33:$AL36,0)) -> 0 | M35: =INDEX(AP33:AP36,MATCH(AK35,$AL33:$AL36,0)) -> 0 | N35: =INDEX(AQ33:AQ36,MATCH(AK35,$AL33:$AL36,0)) -> 0 | S35: FINALE | W35: Pen | AI35: =IF(ROUND(AK35,0)=ROUND(AK34,0),AI34,3) -> 1 | AJ35: =ROUND(AK35,0) -> 2 | AK35: =MIN(MAX(AL33:AL35),MAX(AL33,AL34,AL36),MAX(AL33,AL35,AL36),MAX(AL34:AL36)) -> 2.47 | AL35: =SUM(BD35:BG35)+2.47 -> 2.47 | AM35: =D33 -> MALI | AN35: =SUM(AR35:AU35) -> 0 | AO35: =E33+F34+F37 -> 0 | AP35: =F33+E34+E37 -> 0 | AQ35: =AO35-AP35 -> 0 | AR35: =IF(ISBLANK(F34),0,IF(AT33=3,0,IF(AT33=1,1,3))) -> 0 | AS35: =IF(ISBLANK(F37),0,IF(F37>E37,3,IF(F37=E37,1,0))) -> 0 | AT35: x | AU35: =IF(ISBLANK(E33),0,IF(E33>F33,3,IF(E33=F33,1,0))) -> 0 | AV35: =10*(AQ33-AQ35)+AO33-AO35<0 -> FALSE | AW35: =10*(AQ34-AQ35)+AO34-AO35<0 -> FALSE | AX35: x | AY35: =10*(AQ35-AQ36)+AO35-AO36>0 -> FALSE | AZ35: =10000*(AR35+AS35)+(F34-E34+F37-E37)*100+(F34+F37) -> 0 | BA35: x | BB35: =10000*(AR35+AU35)+(E33-F33+F34-E34)*100+(E33+F34) -> 0 | BC35: =10000*(AS35+AU35)+(E33-F33+F37-E37)*100+(E33+F37) -> 0 | BD35: =-BF33 -> 0 | BE35: =-BF34 -> 0 | BF35: x | BG35: =IF($AN35>$AN36,-0.5,IF($AN36>$AN35,0.5,IF(AY35,-0.5,IF(AX36,0.5,BW35)))) -> 0 | BV35: x | BW35: =IF($BR33,IF(F33-E33<0,-0.5,IF(E33-F33<0,0.5,0)),IF($BK33,IF($BB35>$BB36,-0.5,IF($BB35<$BB36,0.5,0)),IF($BL33,IF($BC35>$BC36,-0.5,IF($BC35<$BC36,0.5,0)),0))) -> 0
B36: 42032 | C36: 0.79166667 | D36: =G33 -> CAMEROONE | G36: =D32 -> COTE D'IVOIR | I36: =AI36 -> 1 | J36: =INDEX(AM33:AM36,MATCH(AK36,$AL33:$AL36,0)) -> CAMEROONE | K36: =INDEX(AN33:AN36,MATCH(AK36,$AL33:$AL36,0)) -> 0 | L36: =INDEX(AO33:AO36,MATCH(AK36,$AL33:$AL36,0)) -> 0 | M36: =INDEX(AP33:AP36,MATCH(AK36,$AL33:$AL36,0)) -> 0 | N36: =INDEX(AQ33:AQ36,MATCH(AK36,$AL33:$AL36,0)) -> 0 | S36: 42043 | T36: 0.83333333 | U36: =IF(100*V26+W26>100*V27+W27,U26,IF(100*V26+W26<100*V27+W27,U27,IF(X27*X26=1,"-",CONCATENATE(U26," ou ",U27)))) -> A1 ou B2 ou C1 ou D2 | AI36: =IF(ROUND(AK36,0)=ROUND(AK35,0),AI35,4) -> 1 | AJ36: =ROUND(AK36,0) -> 2 | AK36: =MAX(AL33:AL36) -> 2.48 | AL36: =SUM(BD36:BG36)+2.48 -> 2.48 | AM36: =G33 -> CAMEROONE | AN36: =SUM(AR36:AU36) -> 0 | AO36: =F33+E35+E36 -> 0 | AP36: =E33+F35+F36 -> 0 | AQ36: =AO36-AP36 -> 0 | AR36: =IF(ISBLANK(E36),0,IF(AU33=3,0,IF(AU33=1,1,3))) -> 0 | AS36: =IF(ISBLANK(E35),0,IF(AU34=3,0,IF(AU34=1,1,3))) -> 0 | AT36: =IF(ISBLANK(F33),0,IF(AU35=3,0,IF(AU35=1,1,3))) -> 0 | AU36: x | AV36: =10*(AQ33-AQ36)+AO33-AO36<0 -> FALSE | AW36: =10*(AQ34-AQ36)+AO34-AO36<0 -> FALSE | AX36: =10*(AQ35-AQ36)+AO35-AO36<0 -> FALSE | AY36: x | AZ36: x | BA36: =10000*(AR36+AS36)+(E35-F35+E36-F36)*100+(E35+E36) -> 0 | BB36: =10000*(AR36+AT36)+(E36-F36+F33-E33)*100+(E36+F33) -> 0 | BC36: =10000*(AS36+AT36)+(E35-F35+F33-E33)*100+(E35+F33) -> 0 | BD36: =-BG33 -> 0 | BE36: =-BG34 -> 0 | BF36: =-BG35 -> 0 | BG36: x | BW36: x
B37: 42032 | C37: 0.79166667 | D37: =G32 -> GUINEA | G37: =D33 -> MALI | J37: =IF(OR(I35<3,I34<2),"TIRAGE AU SORT !!!"," ") -> TIRAGE AU SORT !!!
U38: =IF(100*V28+W28>100*V29+W29,U28,IF(100*V28+W28<100*V29+W29,U29,IF(X30*X31=1,"-",CONCATENATE(U28," ou ",U29)))) -> B1 ou A2 ou D1 ou C2
EX39: Vainqueur | EZ39: =IF(100*V36+W36>100*V37+W37,U36,IF(100*V36+W36<100*V37+W37,U37," - ")) -> - | FA39: =SUM(V36) -> 0 | FB39: =SUM(W36) -> 0
AL40: Rank | AM40: Team | AN40: Pts | AO40: GF | AP40: GA | AQ40: GD | AR40: Ag1 | AS40: Ag2 | AT40: Ag3 | AU40: Ag4 | AV40: Sp1 | AW40: Sp2 | AX40: Sp3 | AY40: Sp4 | AZ40: T123 | BA40: T124 | BB40: T134 | BC40: T234 | BD40: Rk1 | BE40: Rk2 | BF40: Rk3 | BG40: Rk4 | BH40: T1234 | BI40: T123 | BJ40: T124 | BK40: T134 | BL40: T234 | BM40: T12 | BN40: T13 | BO40: T14 | BP40: T23 | BQ40: T24 | BR40: T34 | BS40: NoT | BT40: sRk1 | BU40: sRk2 | BV40: sRk3 | BW40: sRk4 | EZ40: =IF(100*V38+W38>100*V39+W39,U38,IF(100*V38+W38<100*V39+W39,U39," - ")) -> - | FA40: =SUM(V38) -> 0 | FB40: =SUM(W38) -> 0
AI41: 1 | AJ41: =ROUND(AK41,0) -> 2 | AK41: =MIN(AL41:AL44) -> 2.45 | AL41: =SUM(BD41:BG41)+2.45 -> 2.45 | AM41: =D40 -> 0 | AN41: =SUM(AR41:AU41) -> 0 | AO41: =E40+E42+F44 -> 0 | AP41: =F40+F42+E44 -> 0 | AQ41: =AO41-AP41 -> 0 | AR41: x | AS41: =IF(ISBLANK(E40),0,IF(E40>F40,3,IF(E40=F40,1,0))) -> 0 | AT41: =IF(ISBLANK(E42),0,IF(E42>F42,3,IF(E42=F42,1,0))) -> 0 | AU41: =IF(ISBLANK(F44),0,IF(F44>E44,3,IF(F44=E44,1,0))) -> 0 | AV41: x | AW41: =(10*(AQ41-AQ42)+AO41-AO42>0) -> FALSE | AX41: =10*(AQ41-AQ43)+AO41-AO43>0 -> FALSE | AY41: =10*(AQ41-AQ44)+AO41-AO44>0 -> FALSE | AZ41: =10000*(AS41+AT41)+(E42-F42+E40-F40)*100+(E42+E40) -> 0 | BA41: =10000*(AS41+AU41)+(E40-F40+F44-E44)*100+(E40+F44) -> 0 | BB41: =10000*(AT41+AU41)+(F44-E44+E42-F42)*100+(F44+E42) -> 0 | BC41: x | BD41: x | BE41: =IF($AN41>$AN42,-0.5,IF($AN42>$AN41,0.5,IF(AW41,-0.5,IF(AV42,0.5,BU41)))) -> 0 | BF41: =IF($AN41>$AN43,-0.5,IF($AN43>$AN41,0.5,IF(AX41,-0.5,IF(AV43,0.5,BV41)))) -> 0 | BG41: =IF($AN41>$AN44,-0.5,IF($AN44>$AN41,0.5,IF(AY41,-0.5,IF(AV44,0.5,BW41)))) -> 0 | BH41: =AND(AND(AN41=AN42,AN42=AN43,AN43=AN44),AND(AO41=AO42,AO42=AO43,AO43=AO44),AND(AP41=AP42,AP42=AP43,AP43=AP44)) -> TRUE | BI41: =AND(NOT(BH41),AN41=AN42,AN41=AN43,AO41=AO42,AO41=AO43,AP41=AP42,AP41=AP43) -> FALSE | BJ41: =AND(NOT(BH41),AN41=AN42,AN41=AN44,AO41=AO42,AO41=AO44,AP41=AP42,AP41=AP44) -> FALSE | BK41: =AND(NOT(BH41),AN41=AN43,AN41=AN44,AO41=AO43,AO41=AO44,AP41=AP43,AP41=AP44) -> FALSE | BL41: =AND(NOT(BH41),AN42=AN43,AN42=AN44,AO42=AO43,AO42=AO44,AP42=AP43,AP42=AP44) -> FALSE | BM41: =AND(NOT(BH41),NOT(BI41),NOT(BJ41),AN41=AN42,AO41=AO42,AP41=AP42) -> FALSE | BN41: =AND(NOT(BH41),NOT(BI41),NOT(BK41),AN41=AN43,AO41=AO43,AP41=AP43) -> FALSE | BO41: =AND(NOT(BH41),NOT(BJ41),NOT(BK41),AN41=AN44,AO41=AO44,AP41=AP44) -> FALSE | BP41: =AND(NOT(BH41),NOT(BI41),NOT(BL41),AN42=AN43,AO42=AO43) -> FALSE | BQ41: =AND(NOT(BH41),NOT(BJ41),NOT(BL41),AN42=AN44,AO42=AO44,AP42=AP44) -> FALSE | BR41: =AND(NOT(BH41),NOT(BK41),NOT(BL41),AN43=AN44,AO43=AO44,AP43=AP44) -> FALSE | BS41: {=AND(NOT(BH41:BR41))} -> FALSE | BT41: x | BU41: =IF($BM41,IF(F40-E40<0,-0.5,IF(E40-F40<0,0.5,0)),IF($BI41,IF($AZ41>$AZ42,-0.5,IF($AZ41<$AZ42,0.5,0)),IF($BJ41,IF($BA41>$BA42,-0.5, IF($BA41<$BA42,0.5,0)),0))) -> 0 | BV41: =IF($BN41,IF(F42-E42<0,-0.5,IF(E42-F42<0,0.5,0)),IF($BI41,IF($AZ41>$AZ43,-0.5,IF($AZ41<$AZ43,0.5,0)),IF($BK41,IF($BB41>$BB43,-0.5,IF($BB41<$BB43,0.5,0)),0))) -> 0 | BW41: =IF($BO41,IF(E44-F44<0,-0.5,IF(F44-E44<0,0.5,0)),IF($BJ41,IF($BA41>$BA44,-0.5,IF($BA41<$BA44,0.5,0)),IF($BK41,IF($BB41>$BB44,-0.5, IF($BB41<$BB44,0.5,0)),0))) -> 0
AI42: =IF(ROUND(AK42,0)=ROUND(AK41,0),AI41,2) -> 1 | AJ42: =ROUND(AK42,0) -> 2 | AK42: =MAX(MIN(AL41:AL43),MIN(AL41,AL42,AL44),MIN(AL41,AL43,AL44),MIN(AL42:AL44)) -> 2.46 | AL42: =SUM(BD42:BG42)+2.46 -> 2.46 | AM42: =G40 -> 0 | AN42: =SUM(AR42:AU42) -> 0 | AO42: =F40+F43+E45 -> 0 | AP42: =E40+E43+F45 -> 0 | AQ42: =AO42-AP42 -> 0 | AR42: =IF(ISBLANK(F40),0,IF(AS41=3,0,IF(AS41=1,1,3))) -> 0 | AS42: x | AT42: =IF(ISBLANK(E45),0,IF(AS43=3,0,IF(AS43=1,1,3))) -> 0 | AU42: =IF(ISBLANK(F43),0,IF(F43>E43,3,IF(F43=E43,1,0))) -> 0 | AV42: =(10*(AQ41-AQ42)+AO41-AO42<0) -> FALSE | AW42: x | AX42: =10*(AQ42-AQ43)+AO42-AO43>0 -> FALSE | AY42: =10*(AQ42-AQ44)+AO42-AO44>0 -> FALSE | AZ42: =10000*(AR42+AT42)+(F40-E40+E45-F45)*100+(F40+E45) -> 0 | BA42: =10000*(AR42+AU42)+(F40-E40+F43-E43)*100+(F40+F43) -> 0 | BB42: x | BC42: =10000*(AT42+AU42)+(F43-E43+E45-F45)*100+(F43+E45) -> 0 | BD42: =-BE41 -> 0 | BE42: x | BF42: =IF($AN42>$AN43,-0.5,IF($AN43>$AN42,0.5,IF(AX42,-0.5,IF(AW43,0.5,BV42)))) -> 0 | BG42: =IF($AN42>$AN44,-0.5,IF($AN44>$AN42,0.5,IF(AY42,-0.5,IF(AW44,0.5,BW42)))) -> 0 | BU42: x | BV42: =IF($BP41,IF(F45-E45<0,-0.5,IF(E45-F45<0,0.5,0)),IF($BI41,IF($AZ42>$AZ43,-0.5,IF($AZ42<$AZ43,0.5,0)),IF($BL41,IF($BC42>$BC43,-0.5,IF($BC42<$BC43,0.5,0)),0))) -> 0 | BW42: =IF($BQ41,IF(E43-F43<0,-0.5,IF(F43-E43<0,0.5,0)),IF($BJ41,IF($BA42>$BA44,-0.5,IF($BA42<$BA44,0.5,0)),IF($BL41,IF($BC42>$BC44,-0.5,IF($BC42<$BC44,0.5,0)),0))) -> 0
AI43: =IF(ROUND(AK43,0)=ROUND(AK42,0),AI42,3) -> 1 | AJ43: =ROUND(AK43,0) -> 2 | AK43: =MIN(MAX(AL41:AL43),MAX(AL41,AL42,AL44),MAX(AL41,AL43,AL44),MAX(AL42:AL44)) -> 2.47 | AL43: =SUM(BD43:BG43)+2.47 -> 2.47 | AM43: =D41 -> 0 | AN43: =SUM(AR43:AU43) -> 0 | AO43: =E41+F42+F45 -> 0 | AP43: =F41+E42+E45 -> 0 | AQ43: =AO43-AP43 -> 0 | AR43: =IF(ISBLANK(F42),0,IF(AT41=3,0,IF(AT41=1,1,3))) -> 0 | AS43: =IF(ISBLANK(F45),0,IF(F45>E45,3,IF(F45=E45,1,0))) -> 0 | AT43: x | AU43: =IF(ISBLANK(E41),0,IF(E41>F41,3,IF(E41=F41,1,0))) -> 0 | AV43: =10*(AQ41-AQ43)+AO41-AO43<0 -> FALSE | AW43: =10*(AQ42-AQ43)+AO42-AO43<0 -> FALSE | AX43: x | AY43: =10*(AQ43-AQ44)+AO43-AO44>0 -> FALSE | AZ43: =10000*(AR43+AS43)+(F42-E42+F45-E45)*100+(F42+F45) -> 0 | BA43: x | BB43: =10000*(AR43+AU43)+(E41-F41+F42-E42)*100+(E41+F42) -> 0 | BC43: =10000*(AS43+AU43)+(E41-F41+F45-E45)*100+(E41+F45) -> 0 | BD43: =-BF41 -> 0 | BE43: =-BF42 -> 0 | BF43: x | BG43: =IF($AN43>$AN44,-0.5,IF($AN44>$AN43,0.5,IF(AY43,-0.5,IF(AX44,0.5,BW43)))) -> 0 | BV43: x | BW43: =IF($BR41,IF(F41-E41<0,-0.5,IF(E41-F41<0,0.5,0)),IF($BK41,IF($BB43>$BB44,-0.5,IF($BB43<$BB44,0.5,0)),IF($BL41,IF($BC43>$BC44,-0.5,IF($BC43<$BC44,0.5,0)),0))) -> 0
AI44: =IF(ROUND(AK44,0)=ROUND(AK43,0),AI43,4) -> 1 | AJ44: =ROUND(AK44,0) -> 2 | AK44: =MAX(AL41:AL44) -> 2.48 | AL44: =SUM(BD44:BG44)+2.48 -> 2.48 | AM44: =G41 -> 0 | AN44: =SUM(AR44:AU44) -> 0 | AO44: =F41+E43+E44 -> 0 | AP44: =E41+F43+F44 -> 0 | AQ44: =AO44-AP44 -> 0 | AR44: =IF(ISBLANK(E44),0,IF(AU41=3,0,IF(AU41=1,1,3))) -> 0 | AS44: =IF(ISBLANK(E43),0,IF(AU42=3,0,IF(AU42=1,1,3))) -> 0 | AT44: =IF(ISBLANK(F41),0,IF(AU43=3,0,IF(AU43=1,1,3))) -> 0 | AU44: x | AV44: =10*(AQ41-AQ44)+AO41-AO44<0 -> FALSE | AW44: =10*(AQ42-AQ44)+AO42-AO44<0 -> FALSE | AX44: =10*(AQ43-AQ44)+AO43-AO44<0 -> FALSE | AY44: x | AZ44: x | BA44: =10000*(AR44+AS44)+(E43-F43+E44-F44)*100+(E43+E44) -> 0 | BB44: =10000*(AR44+AT44)+(E44-F44+F41-E41)*100+(E44+F41) -> 0 | BC44: =10000*(AS44+AT44)+(E43-F43+F41-E41)*100+(E43+F41) -> 0 | BD44: =-BG41 -> 0 | BE44: =-BG42 -> 0 | BF44: =-BG43 -> 0 | BG44: x | BW44: x
I46: COMPION D'AFRIQUE | U46: =IF(100*FA39+FB39>100*FA40+FB40,EZ39,IF(100*FA40+FB40>100*FA39+FB39,EZ40,"-")) -> -
AL48: Rank | AM48: Team | AN48: Pts | AO48: GF | AP48: GA | AQ48: GD | AR48: Ag1 | AS48: Ag2 | AT48: Ag3 | AU48: Ag4 | AV48: Sp1 | AW48: Sp2 | AX48: Sp3 | AY48: Sp4 | AZ48: T123 | BA48: T124 | BB48: T134 | BC48: T234 | BD48: Rk1 | BE48: Rk2 | BF48: Rk3 | BG48: Rk4 | BH48: T1234 | BI48: T123 | BJ48: T124 | BK48: T134 | BL48: T234 | BM48: T12 | BN48: T13 | BO48: T14 | BP48: T23 | BQ48: T24 | BR48: T34 | BS48: NoT | BT48: sRk1 | BU48: sRk2 | BV48: sRk3 | BW48: sRk4
...

Sheet Carte des Buts
B2: Groupe | C2: Difficulté | D2: Class. | E2: Equipe | F2: Buts Pour | G2: Buts Contre | H2: Différence | I2: Classification
B3: A | C3: =SUM(D3:D6) -> 307 | D3: 119 | E3: ='Tableau des Matches'!AM9 -> EQUATORIAL GUINEA | F3: ='Tableau des Matches'!AO9 -> 0 | G3: ='Tableau des Matches'!AP9 -> 0 | H3: =F3-G3 -> 0 | I3: 4
D4: 59 | E4: ='Tableau des Matches'!AM10 -> CONGO | F4: ='Tableau des Matches'!AO10 -> 0 | G4: ='Tableau des Matches'!AP10 -> 0 | H4: =F4-G4 -> 0
D5: 65 | E5: ='Tableau des Matches'!AM11 -> BURKINA FASO | F5: ='Tableau des Matches'!AO11 -> 0 | G5: ='Tableau des Matches'!AP11 -> 0 | H5: =F5-G5 -> 0
D6: 64 | E6: ='Tableau des Matches'!AM12 -> GABON | F6: ='Tableau des Matches'!AO12 -> 0 | G6: ='Tableau des Matches'!AP12 -> 0 | H6: =F6-G6 -> 0
B7: B | C7: =SUM(D7:D10) -> 178 | D7: 62 | E7: ='Tableau des Matches'!AM17 -> ZAMBIE | F7: ='Tableau des Matches'!AO17 -> 0 | G7: ='Tableau des Matches'!AP17 -> 0 | H7: =F7-G7 -> 0 | I7: 3
D8: 55 | E8: ='Tableau des Matches'!AM18 -> RD CONGO | F8: ='Tableau des Matches'!AO18 -> 0 | G8: ='Tableau des Matches'!AP18 -> 0 | H8: =F8-G8 -> 0
D9: 22 | E9: ='Tableau des Matches'!AM19 -> TUNISIE | F9: ='Tableau des Matches'!AO19 -> 0 | G9: ='Tableau des Matches'!AP19 -> 0 | H9: =F9-G9 -> 0
D10: 39 | E10: ='Tableau des Matches'!AM20 -> CAP VERT | F10: ='Tableau des Matches'!AO20 -> 0 | G10: ='Tableau des Matches'!AP20 -> 0 | H10: =F10-G10 -> 0
B11: C | C11: =SUM(D11:D14) -> 141 | D11: 37 | E11: ='Tableau des Matches'!AM25 -> GHANA | F11: ='Tableau des Matches'!AO25 -> 0 | G11: ='Tableau des Matches'!AP25 -> 0 | H11: =F11-G11 -> 0 | I11: 1
D12: 35 | E12: ='Tableau des Matches'!AM26 -> SENEGAL | F12: ='Tableau des Matches'!AO26 -> 0 | G12: ='Tableau des Matches'!AP26 -> 0 | H12: =F12-G12 -> 0
D13: 18 | E13: ='Tableau des Matches'!AM27 -> ALGERIE | F13: ='Tableau des Matches'!AO27 -> 0 | G13: ='Tableau des Matches'!AP27 -> 0 | H13: =F13-G13 -> 0
D14: 51 | E14: ='Tableau des Matches'!AM28 -> AFRIQUE DE SUD | F14: ='Tableau des Matches'!AO28 -> 0 | G14: ='Tableau des Matches'!AP28 -> 0 | H14: =F14-G14 -> 0
B15: D | C15: =SUM(D15:D18) -> 152 | D15: 24 | E15: ='Tableau des Matches'!AM33 -> COTE D'IVOIR | F15: ='Tableau des Matches'!AO33 -> 0 | G15: ='Tableau des Matches'!AP33 -> 0 | H15: =F15-G15 -> 0 | I15: 2
D16: 38 | E16: ='Tableau des Matches'!AM34 -> GUINEA | F16: ='Tableau des Matches'!AO34 -> 0 | G16: ='Tableau des Matches'!AP34 -> 0 | H16: =F16-G16 -> 0
D17: 49 | E17: ='Tableau des Matches'!AM35 -> MALI | F17: ='Tableau des Matches'!AO35 -> 0 | G17: ='Tableau des Matches'!AP35 -> 0 | H17: =F17-G17 -> 0
D18: 41 | E18: ='Tableau des Matches'!AM36 -> CAMEROONE | F18: ='Tableau des Matches'!AO36 -> 0 | G18: ='Tableau des Matches'!AP36 -> 0 | H18: =F18-G18 -> 0
