Workbook
Name chiffres: Sudoku!$AN$4:$AN$12

Sheet Sudoku
B2: Grille à remplir | N2: Grille d'erreurs (code couleur par chiffre) | X2: Code couleur par chiffre
N4: =IF(B4="","",IF(OR(B4=C4,B4=D4,B4=E4,B4=F4,B4=G4,B4=H4,B4=I4,B4=J4,B4=B5,B4=B6,B4=B7,B4=B8,B4=B9,B4=B10,B4=B11,B4=B12,B4=C5,B4=D5,B4=C6,B4=D6),B4,"")) | O4: =IF(C4="","",IF(OR(C4=B4,C4=D4,C4=E4,C4=F4,C4=G4,C4=H4,C4=I4,C4=J4,C4=C5,C4=C6,C4=C7,C4=C8,C4=C9,C4=C10,C4=C11,C4=C12,C4=B5,C4=D5,C4=B6,C4=D6),C4,"")) | P4: =IF(D4="","",IF(OR(D4=B4,D4=C4,D4=E4,D4=F4,D4=G4,D4=H4,D4=I4,D4=J4,D4=D5,D4=D6,D4=D7,D4=D8,D4=D9,D4=D10,D4=D11,D4=D12,D4=B5,D4=C5,D4=B6,D4=C6),D4,"")) | Q4: =IF(E4="","",IF(OR(E4=F4,E4=G4,E4=H4,E4=I4,E4=J4,E4=D4,E4=C4,E4=B4,E4=E5,E4=E6,E4=E7,E4=E8,E4=E9,E4=E10,E4=E11,E4=E12,E4=F5,E4=G5,E4=F6,E4=G6),E4,"")) | R4: =IF(F4="","",IF(OR(F4=E4,F4=G4,F4=H4,F4=I4,F4=J4,F4=D4,F4=C4,F4=B4,F4=F5,F4=F6,F4=F7,F4=F8,F4=F9,F4=F10,F4=F11,F4=F12,F4=E5,F4=G5,F4=E6,F4=G6),F4,"")) | S4: =IF(G4="","",IF(OR(G4=E4,G4=F4,G4=H4,G4=I4,G4=J4,G4=D4,G4=C4,G4=B4,G4=G5,G4=G6,G4=G7,G4=G8,G4=G9,G4=G10,G4=G11,G4=G12,G4=E5,G4=F5,G4=E6,G4=F6),G4,"")) | T4: =IF(H4="","",IF(OR(H4=I4,H4=J4,H4=D4,H4=C4,H4=B4,H4=G4,H4=F4,H4=E4,H4=H5,H4=H6,H4=H7,H4=H8,H4=H9,H4=H10,H4=H11,H4=H12,H4=I5,H4=J5,H4=I6,H4=J6),H4,"")) | U4: =IF(I4="","",IF(OR(I4=H4,I4=J4,I4=D4,I4=C4,I4=B4,I4=G4,I4=F4,I4=E4,I4=I5,I4=I6,I4=I7,I4=I8,I4=I9,I4=I10,I4=I11,I4=I12,I4=H5,I4=J5,I4=H6,I4=J6),I4,"")) | V4: =IF(J4="","",IF(OR(J4=H4,J4=I4,J4=D4,J4=C4,J4=B4,J4=G4,J4=F4,J4=E4,J4=J5,J4=J6,J4=J7,J4=J8,J4=J9,J4=J10,J4=J11,J4=J12,J4=H5,J4=I5,J4=H6,J4=I6),J4,"")) | X4: 1 | Y4: 2 | Z4: 3 | AN4: =IF(K14="Tous les 1 sont placés.","",AO4) -> 1 | AO4: 1
N5: =IF(B5="","",IF(OR(B5=C5,B5=D5,B5=E5,B5=F5,B5=G5,B5=H5,B5=I5,B5=J5,B5=B6,B5=B7,B5=B8,B5=B9,B5=B10,B5=B11,B5=B12,B5=B4,B5=C6,B5=D6,B5=C4,B5=D4),B5,"")) | O5: =IF(C5="","",IF(OR(C5=B5,C5=D5,C5=E5,C5=F5,C5=G5,C5=H5,C5=I5,C5=J5,C5=C6,C5=C7,C5=C8,C5=C9,C5=C10,C5=C11,C5=C12,C5=B4,C5=B6,C5=D6,C5=C4,C5=D4),C5,"")) | P5: =IF(D5="","",IF(OR(D5=B5,D5=C5,D5=E5,D5=F5,D5=G5,D5=H5,D5=I5,D5=J5,D5=D6,D5=D7,D5=D8,D5=D9,D5=D10,D5=D11,D5=D12,D5=B4,D5=B6,D5=C6,D5=C4,D5=D4),D5,"")) | Q5: =IF(E5="","",IF(OR(E5=F5,E5=G5,E5=H5,E5=I5,E5=J5,E5=D5,E5=C5,E5=B5,E5=E6,E5=E7,E5=E8,E5=E9,E5=E10,E5=E11,E5=E12,E5=E4,E5=F6,E5=G6,E5=F4,E5=G4),E5,"")) | R5: =IF(F5="","",IF(OR(F5=E5,F5=G5,F5=H5,F5=I5,F5=J5,F5=D5,F5=C5,F5=B5,F5=F6,F5=F7,F5=F8,F5=F9,F5=F10,F5=F11,F5=F12,F5=E4,F5=E6,F5=G6,F5=F4,F5=G4),F5,"")) | S5: =IF(G5="","",IF(OR(G5=E5,G5=F5,G5=H5,G5=I5,G5=J5,G5=D5,G5=C5,G5=B5,G5=G6,G5=G7,G5=G8,G5=G9,G5=G10,G5=G11,G5=G12,G5=E4,G5=E6,G5=F6,G5=F4,G5=G4),G5,"")) | T5: =IF(H5="","",IF(OR(H5=I5,H5=J5,H5=D5,H5=C5,H5=B5,H5=G5,H5=F5,H5=E5,H5=H6,H5=H7,H5=H8,H5=H9,H5=H10,H5=H11,H5=H12,H5=H4,H5=I6,H5=J6,H5=I4,H5=J4),H5,"")) | U5: =IF(I5="","",IF(OR(I5=H5,I5=J5,I5=D5,I5=C5,I5=B5,I5=G5,I5=F5,I5=E5,I5=I6,I5=I7,I5=I8,I5=I9,I5=I10,I5=I11,I5=I12,I5=H4,I5=H6,I5=J6,I5=I4,I5=J4),I5,"")) | V5: =IF(J5="","",IF(OR(J5=H5,J5=I5,J5=D5,J5=C5,J5=B5,J5=G5,J5=F5,J5=E5,J5=J6,J5=J7,J5=J8,J5=J9,J5=J10,J5=J11,J5=J12,J5=H4,J5=H6,J5=I6,J5=I4,J5=J4),J5,"")) | X5: 4 | Y5: 5 | Z5: 6 | AN5: =IF(K15="Tous les 2 sont placés.","",AO5) -> 2 | AO5: 2
N6: =IF(B6="","",IF(OR(B6=C6,B6=D6,B6=E6,B6=F6,B6=G6,B6=H6,B6=I6,B6=J6,B6=B7,B6=B8,B6=B9,B6=B10,B6=B11,B6=B12,B6=B4,B6=B5,B6=C4,B6=D4,B6=C5,B6=D5),B6,"")) | O6: =IF(C6="","",IF(OR(C6=B6,C6=D6,C6=E6,C6=F6,C6=G6,C6=H6,C6=I6,C6=J6,C6=C7,C6=C8,C6=C9,C6=C10,C6=C11,C6=C12,C6=B4,C6=B5,C6=C4,C6=D4,C6=C5,C6=D5),C6,"")) | P6: =IF(D6="","",IF(OR(D6=B6,D6=C6,D6=E6,D6=F6,D6=G6,D6=H6,D6=I6,D6=J6,D6=D7,D6=D8,D6=D9,D6=D10,D6=D11,D6=D12,D6=D4,D6=B5,D6=B4,D6=C4,D6=C5,D6=D5),D6,"")) | Q6: =IF(E6="","",IF(OR(E6=F6,E6=G6,E6=H6,E6=I6,E6=J6,E6=D6,E6=C6,E6=B6,E6=E7,E6=E8,E6=E9,E6=E10,E6=E11,E6=E12,E6=E4,E6=E5,E6=F4,E6=G4,E6=F5,E6=G5),E6,"")) | R6: =IF(F6="","",IF(OR(F6=E6,F6=G6,F6=H6,F6=I6,F6=J6,F6=D6,F6=C6,F6=B6,F6=F7,F6=F8,F6=F9,F6=F10,F6=F11,F6=F12,F6=E4,F6=E5,F6=F4,F6=G4,F6=F5,F6=G5),F6,"")) | S6: =IF(G6="","",IF(OR(G6=E6,G6=F6,G6=H6,G6=I6,G6=J6,G6=D6,G6=C6,G6=B6,G6=G7,G6=G8,G6=G9,G6=G10,G6=G11,G6=G12,G6=G4,G6=E5,G6=E4,G6=F4,G6=F5,G6=G5),G6,"")) | T6: =IF(H6="","",IF(OR(H6=I6,H6=J6,H6=D6,H6=C6,H6=B6,H6=G6,H6=F6,H6=E6,H6=H7,H6=H8,H6=H9,H6=H10,H6=H11,H6=H12,H6=H4,H6=H5,H6=I4,H6=J4,H6=I5,H6=J5),H6,"")) | U6: =IF(I6="","",IF(OR(I6=H6,I6=J6,I6=D6,I6=C6,I6=B6,I6=G6,I6=F6,I6=E6,I6=I7,I6=I8,I6=I9,I6=I10,I6=I11,I6=I12,I6=H4,I6=H5,I6=I4,I6=J4,I6=I5,I6=J5),I6,"")) | V6: =IF(J6="","",IF(OR(J6=H6,J6=I6,J6=D6,J6=C6,J6=B6,J6=G6,J6=F6,J6=E6,J6=J7,J6=J8,J6=J9,J6=J10,J6=J11,J6=J12,J6=J4,J6=H5,J6=H4,J6=I4,J6=I5,J6=J5),J6,"")) | X6: 7 | Y6: 8 | Z6: 9 | AN6: =IF(K16="Tous les 3 sont placés.","",AO6) -> 3 | AO6: 3
N7: =IF(B7="","",IF(OR(B7=C7,B7=D7,B7=E7,B7=F7,B7=G7,B7=H7,B7=I7,B7=J7,B7=B8,B7=B9,B7=B10,B7=B11,B7=B12,B7=B6,B7=B5,B7=B4,B7=C8,B7=D8,B7=C9,B7=D9),B7,"")) | O7: =IF(C7="","",IF(OR(C7=B7,C7=D7,C7=E7,C7=F7,C7=G7,C7=H7,C7=I7,C7=J7,C7=C8,C7=C9,C7=C10,C7=C11,C7=C12,C7=C6,C7=C5,C7=C4,C7=B8,C7=D8,C7=B9,C7=D9),C7,"")) | P7: =IF(D7="","",IF(OR(D7=B7,D7=C7,D7=E7,D7=F7,D7=G7,D7=H7,D7=I7,D7=J7,D7=D8,D7=D9,D7=D10,D7=D11,D7=D12,D7=D6,D7=D5,D7=D4,D7=B8,D7=C8,D7=B9,D7=C9),D7,"")) | Q7: =IF(E7="","",IF(OR(E7=F7,E7=G7,E7=H7,E7=I7,E7=J7,E7=D7,E7=C7,E7=B7,E7=E8,E7=E9,E7=E10,E7=E11,E7=E12,E7=E6,E7=E5,E7=E4,E7=F8,E7=G8,E7=F9,E7=G9),E7,"")) | R7: =IF(F7="","",IF(OR(F7=E7,F7=G7,F7=H7,F7=I7,F7=J7,F7=D7,F7=C7,F7=B7,F7=F8,F7=F9,F7=F10,F7=F11,F7=F12,F7=F6,F7=F5,F7=F4,F7=E8,F7=G8,F7=E9,F7=G9),F7,"")) | S7: =IF(G7="","",IF(OR(G7=E7,G7=F7,G7=H7,G7=I7,G7=J7,G7=D7,G7=C7,G7=B7,G7=G8,G7=G9,G7=G10,G7=G11,G7=G12,G7=G6,G7=G5,G7=G4,G7=E8,G7=F8,G7=E9,G7=F9),G7,"")) | T7: =IF(H7="","",IF(OR(H7=I7,H7=J7,H7=D7,H7=C7,H7=B7,H7=G7,H7=F7,H7=E7,H7=H8,H7=H9,H7=H10,H7=H11,H7=H12,H7=H6,H7=H5,H7=H4,H7=I8,H7=J8,H7=I9,H7=J9),H7,"")) | U7: =IF(I7="","",IF(OR(I7=H7,I7=J7,I7=D7,I7=C7,I7=B7,I7=G7,I7=F7,I7=E7,I7=I8,I7=I9,I7=I10,I7=I11,I7=I12,I7=I6,I7=I5,I7=I4,I7=H8,I7=J8,I7=H9,I7=J9),I7,"")) | V7: =IF(J7="","",IF(OR(J7=H7,J7=I7,J7=D7,J7=C7,J7=B7,J7=G7,J7=F7,J7=E7,J7=J8,J7=J9,J7=J10,J7=J11,J7=J12,J7=J6,J7=J5,J7=J4,J7=H8,J7=I8,J7=H9,J7=I9),J7,"")) | AN7: =IF(K17="Tous les 4 sont placés.","",AO7) -> 4 | AO7: 4
N8: =IF(B8="","",IF(OR(B8=C8,B8=D8,B8=E8,B8=F8,B8=G8,B8=H8,B8=I8,B8=J8,B8=B9,B8=B10,B8=B11,B8=B12,B8=B6,B8=B5,B8=B4,B8=B7,B8=C9,B8=D9,B8=C7,B8=D7),B8,"")) | O8: =IF(C8="","",IF(OR(C8=B8,C8=D8,C8=E8,C8=F8,C8=G8,C8=H8,C8=I8,C8=J8,C8=C9,C8=C10,C8=C11,C8=C12,C8=C6,C8=C5,C8=C4,C8=B7,C8=B9,C8=D9,C8=C7,C8=D7),C8,"")) | P8: =IF(D8="","",IF(OR(D8=B8,D8=C8,D8=E8,D8=F8,D8=G8,D8=H8,D8=I8,D8=J8,D8=D9,D8=D10,D8=D11,D8=D12,D8=D6,D8=D5,D8=D4,D8=B7,D8=B9,D8=C9,D8=C7,D8=D7),D8,"")) | Q8: =IF(E8="","",IF(OR(E8=F8,E8=G8,E8=H8,E8=I8,E8=J8,E8=D8,E8=C8,E8=B8,E8=E9,E8=E10,E8=E11,E8=E12,E8=E6,E8=E5,E8=E4,E8=E7,E8=F9,E8=G9,E8=F7,E8=G7),E8,"")) | R8: =IF(F8="","",IF(OR(F8=E8,F8=G8,F8=H8,F8=I8,F8=J8,F8=D8,F8=C8,F8=B8,F8=F9,F8=F10,F8=F11,F8=F12,F8=F6,F8=F5,F8=F4,F8=E7,F8=E9,F8=G9,F8=F7,F8=G7),F8,"")) | S8: =IF(G8="","",IF(OR(G8=E8,G8=F8,G8=H8,G8=I8,G8=J8,G8=D8,G8=C8,G8=B8,G8=G9,G8=G10,G8=G11,G8=G12,G8=G6,G8=G5,G8=G4,G8=E7,G8=E9,G8=F9,G8=F7,G8=G7),G8,"")) | T8: =IF(H8="","",IF(OR(H8=I8,H8=J8,H8=D8,H8=C8,H8=B8,H8=G8,H8=F8,H8=E8,H8=H9,H8=H10,H8=H11,H8=H12,H8=H6,H8=H5,H8=H4,H8=H7,H8=I9,H8=J9,H8=I7,H8=J7),H8,"")) | U8: =IF(I8="","",IF(OR(I8=H8,I8=J8,I8=D8,I8=C8,I8=B8,I8=G8,I8=F8,I8=E8,I8=I9,I8=I10,I8=I11,I8=I12,I8=I6,I8=I5,I8=I4,I8=H7,I8=H9,I8=J9,I8=I7,I8=J7),I8,"")) | V8: =IF(J8="","",IF(OR(J8=H8,J8=I8,J8=D8,J8=C8,J8=B8,J8=G8,J8=F8,J8=E8,J8=J9,J8=J10,J8=J11,J8=J12,J8=J6,J8=J5,J8=J4,J8=H7,J8=H9,J8=I9,J8=I7,J8=J7),J8,"")) | AN8: =IF(K18="Tous les 5 sont placés.","",AO8) -> 5 | AO8: 5
N9: =IF(B9="","",IF(OR(B9=C9,B9=D9,B9=E9,B9=F9,B9=G9,B9=H9,B9=I9,B9=J9,B9=B10,B9=B11,B9=B12,B9=B6,B9=B5,B9=B4,B9=B7,B9=B8,B9=C7,B9=D7,B9=C8,B9=D8),B9,"")) | O9: =IF(C9="","",IF(OR(C9=B9,C9=D9,C9=E9,C9=F9,C9=G9,C9=H9,C9=I9,C9=J9,C9=C10,C9=C11,C9=C12,C9=C6,C9=C5,C9=C4,C9=B7,C9=B8,C9=C7,C9=D7,C9=C8,C9=D8),C9,"")) | P9: =IF(D9="","",IF(OR(D9=B9,D9=C9,D9=E9,D9=F9,D9=G9,D9=H9,D9=I9,D9=J9,D9=D10,D9=D11,D9=D12,D9=D6,D9=D5,D9=D4,D9=D7,D9=B8,D9=B7,D9=C7,D9=C8,D9=D8),D9,"")) | Q9: =IF(E9="","",IF(OR(E9=F9,E9=G9,E9=H9,E9=I9,E9=J9,E9=D9,E9=C9,E9=B9,E9=E10,E9=E11,E9=E12,E9=E6,E9=E5,E9=E4,E9=E7,E9=E8,E9=F7,E9=G7,E9=F8,E9=G8),E9,"")) | R9: =IF(F9="","",IF(OR(F9=E9,F9=G9,F9=H9,F9=I9,F9=J9,F9=D9,F9=C9,F9=B9,F9=F10,F9=F11,F9=F12,F9=F6,F9=F5,F9=F4,F9=E7,F9=E8,F9=F7,F9=G7,F9=F8,F9=G8),F9,"")) | S9: =IF(G9="","",IF(OR(G9=E9,G9=F9,G9=H9,G9=I9,G9=J9,G9=D9,G9=C9,G9=B9,G9=G10,G9=G11,G9=G12,G9=G6,G9=G5,G9=G4,G9=G7,G9=E8,G9=E7,G9=F7,G9=F8,G9=G8),G9,"")) | T9: =IF(H9="","",IF(OR(H9=I9,H9=J9,H9=D9,H9=C9,H9=B9,H9=G9,H9=F9,H9=E9,H9=H10,H9=H11,H9=H12,H9=H6,H9=H5,H9=H4,H9=H7,H9=H8,H9=I7,H9=J7,H9=I8,H9=J8),H9,"")) | U9: =IF(I9="","",IF(OR(I9=H9,I9=J9,I9=D9,I9=C9,I9=B9,I9=G9,I9=F9,I9=E9,I9=I10,I9=I11,I9=I12,I9=I6,I9=I5,I9=I4,I9=H7,I9=H8,I9=I7,I9=J7,I9=I8,I9=J8),I9,"")) | V9: =IF(J9="","",IF(OR(J9=H9,J9=I9,J9=D9,J9=C9,J9=B9,J9=G9,J9=F9,J9=E9,J9=J10,J9=J11,J9=J12,J9=J6,J9=J5,J9=J4,J9=J7,J9=H8,J9=H7,J9=I7,J9=I8,J9=J8),J9,"")) | AN9: =IF(K19="Tous les 6 sont placés.","",AO9) -> 6 | AO9: 6
N10: =IF(B10="","",IF(OR(B10=C10,B10=D10,B10=E10,B10=F10,B10=G10,B10=H10,B10=I10,B10=J10,B10=B11,B10=B12,B10=B6,B10=B5,B10=B4,B10=B9,B10=B8,B10=B7,B10=C11,B10=D11,B10=C12,B10=D12),B10,"")) | O10: =IF(C10="","",IF(OR(C10=B10,C10=D10,C10=E10,C10=F10,C10=G10,C10=H10,C10=I10,C10=J10,C10=C11,C10=C12,C10=C6,C10=C5,C10=C4,C10=C9,C10=C8,C10=C7,C10=B11,C10=D11,C10=B12,C10=D12),C10,"")) | P10: =IF(D10="","",IF(OR(D10=B10,D10=C10,D10=E10,D10=F10,D10=G10,D10=H10,D10=I10,D10=J10,D10=D11,D10=D12,D10=D5,D10=D6,D10=D4,D10=D9,D10=D8,D10=D7,D10=B11,D10=C11,D10=B12,D10=C12),D10,"")) | Q10: =IF(E10="","",IF(OR(E10=F10,E10=G10,E10=H10,E10=I10,E10=J10,E10=D10,E10=C10,E10=B10,E10=E11,E10=E12,E10=E6,E10=E5,E10=E4,E10=E9,E10=E8,E10=E7,E10=F11,E10=G11,E10=F12,E10=G12),E10,"")) | R10: =IF(F10="","",IF(OR(F10=E10,F10=G10,F10=H10,F10=I10,F10=J10,F10=D10,F10=C10,F10=B10,F10=F11,F10=F12,F10=F5,F10=F6,F10=F4,F10=F9,F10=F8,F10=F7,F10=E11,F10=G11,F10=E12,F10=G12),F10,"")) | S10: =IF(G10="","",IF(OR(G10=E10,G10=F10,G10=H10,G10=I10,G10=J10,G10=D10,G10=C10,G10=B10,G10=G11,G10=G12,G10=G6,G10=G5,G10=G4,G10=G9,G10=G8,G10=G7,G10=E11,G10=F11,G10=E12,G10=F12),G10,"")) | T10: =IF(H10="","",IF(OR(H10=I10,H10=J10,H10=D10,H10=C10,H10=B10,H10=G10,H10=F10,H10=E10,H10=H11,H10=H12,H10=H6,H10=H5,H10=H4,H10=H9,H10=H8,H10=H7,H10=I11,H10=J11,H10=I12,H10=J12),H10,"")) | U10: =IF(I10="","",IF(OR(I10=H10,I10=J10,I10=D10,I10=C10,I10=B10,I10=G10,I10=F10,I10=E10,I10=I11,I10=I12,I10=I5,I10=I6,I10=I4,I10=I9,I10=I8,I10=I7,I10=H11,I10=J11,I10=H12,I10=J12),I10,"")) | V10: =IF(J10="","",IF(OR(J10=H10,J10=I10,J10=D10,J10=C10,J10=B10,J10=G10,J10=F10,J10=E10,J10=J11,J10=J12,J10=J6,J10=J5,J10=J4,J10=J9,J10=J8,J10=J7,J10=H11,J10=I11,J10=H12,J10=I12),J10,"")) | AN10: =IF(K20="Tous les 7 sont placés.","",AO10) -> 7 | AO10: 7
N11: =IF(B11="","",IF(OR(B11=C11,B11=D11,B11=E11,B11=F11,B11=G11,B11=H11,B11=I11,B11=J11,B11=B12,B11=B6,B11=B5,B11=B4,B11=B9,B11=B8,B11=B7,B11=B10,B11=C12,B11=D12,B11=C10,B11=D10),B11,"")) | O11: =IF(C11="","",IF(OR(C11=B11,C11=D11,C11=E11,C11=F11,C11=G11,C11=H11,C11=I11,C11=J11,C11=C12,C11=C6,C11=C5,C11=C4,C11=C9,C11=C8,C11=C7,C11=B10,C11=B12,C11=D12,C11=C10,C11=D10),C11,"")) | P11: =IF(D11="","",IF(OR(D11=B11,D11=C11,D11=E11,D11=F11,D11=G11,D11=H11,D11=I11,D11=J11,D11=D12,D11=D6,D11=D5,D11=D4,D11=D9,D11=D8,D11=D7,D11=B10,D11=B12,D11=C12,D11=C10,D11=D10),D11,"")) | Q11: =IF(E11="","",IF(OR(E11=F11,E11=G11,E11=H11,E11=I11,E11=J11,E11=D11,E11=C11,E11=B11,E11=E12,E11=E4,E11=E5,E11=E6,E11=E9,E11=E8,E11=E7,E11=E10,E11=F12,E11=G12,E11=F10,E11=G10),E11,"")) | R11: =IF(F11="","",IF(OR(F11=E11,F11=G11,F11=H11,F11=I11,F11=J11,F11=D11,F11=C11,F11=B11,F11=F12,F11=F6,F11=F5,F11=F4,F11=F9,F11=F8,F11=F7,F11=E10,F11=E12,F11=G12,F11=F10,F11=G10),F11,"")) | S11: =IF(G11="","",IF(OR(G11=E11,G11=F11,G11=H11,G11=I11,G11=J11,G11=D11,G11=C11,G11=B11,G11=G12,G11=G6,G11=G5,G11=G4,G11=G9,G11=G8,G11=G7,G11=E10,G11=E12,G11=F12,G11=F10,G11=G10),G11,"")) | T11: =IF(H11="","",IF(OR(H11=I11,H11=J11,H11=D11,H11=C11,H11=B11,H11=G11,H11=F11,H11=E11,H11=H12,H11=H5,H11=H6,H11=H4,H11=H9,H11=H8,H11=H7,H11=H10,H11=I12,H11=J12,H11=I10,H11=J10),H11,"")) | U11: =IF(I11="","",IF(OR(I11=H11,I11=J11,I11=D11,I11=C11,I11=B11,I11=G11,I11=F11,I11=E11,I11=I12,I11=I6,I11=I4,I11=I5,I11=I9,I11=I8,I11=I7,I11=H10,I11=H12,I11=J12,I11=I10,I11=J10),I11,"")) | V11: =IF(J11="","",IF(OR(J11=H11,J11=I11,J11=D11,J11=C11,J11=B11,J11=G11,J11=F11,J11=E11,J11=J12,J11=J6,J11=J5,J11=J4,J11=J9,J11=J8,J11=J7,J11=H10,J11=H12,J11=I12,J11=I10,J11=J10),J11,"")) | AN11: =IF(K21="Tous les 8 sont placés.","",AO11) -> 8 | AO11: 8
N12: =IF(B12="","",IF(OR(B12=C12,B12=D12,B12=E12,B12=F12,B12=G12,B12=H12,B12=I12,B12=J12,B12=B6,B12=B5,B12=B4,B12=B9,B12=B8,B12=B7,B12=B10,B12=B11,B12=C10,B12=D10,B12=C11,B12=D11),B12,"")) | O12: =IF(C12="","",IF(OR(C12=B12,C12=D12,C12=E12,C12=F12,C12=G12,C12=H12,C12=I12,C12=J12,C12=C6,C12=C5,C12=C4,C12=C9,C12=C8,C12=C7,C12=B10,C12=B11,C12=C10,C12=D10,C12=C11,C12=D11),C12,"")) | P12: =IF(D12="","",IF(OR(D12=B12,D12=C12,D12=E12,D12=F12,D12=G12,D12=H12,D12=I12,D12=J12,D12=D6,D12=D5,D12=D4,D12=D9,D12=D8,D12=D7,D12=D10,D12=B11,D12=B10,D12=C10,D12=C11,D12=D11),D12,"")) | Q12: =IF(E12="","",IF(OR(E12=F12,E12=G12,E12=H12,E12=I12,E12=J12,E12=D12,E12=C12,E12=B12,E12=E5,E12=E6,E12=E4,E12=E9,E12=E8,E12=E7,E12=E10,E12=E11,E12=F10,E12=G10,E12=F11,E12=G11),E12,"")) | R12: =IF(F12="","",IF(OR(F12=E12,F12=G12,F12=H12,F12=I12,F12=J12,F12=D12,F12=C12,F12=B12,F12=F4,F12=F5,F12=F6,F12=F9,F12=F8,F12=F7,F12=E10,F12=E11,F12=F10,F12=G10,F12=F11,F12=G11),F12,"")) | S12: =IF(G12="","",IF(OR(G12=E12,G12=F12,G12=H12,G12=I12,G12=J12,G12=D12,G12=C12,G12=B12,G12=G6,G12=G5,G12=G4,G12=G9,G12=G8,G12=G7,G12=G10,G12=E11,G12=E10,G12=F10,G12=F11,G12=G11),G12,"")) | T12: =IF(H12="","",IF(OR(H12=I12,H12=J12,H12=D12,H12=C12,H12=B12,H12=G12,H12=F12,H12=E12,H12=H6,H12=H5,H12=H4,H12=H9,H12=H8,H12=H7,H12=H10,H12=H11,H12=I10,H12=J10,H12=I11,H12=J11),H12,"")) | U12: =IF(I12="","",IF(OR(I12=H12,I12=J12,I12=D12,I12=C12,I12=B12,I12=G12,I12=F12,I12=E12,I12=I6,I12=I5,I12=I4,I12=I9,I12=I8,I12=I7,I12=H10,I12=H11,I12=I10,I12=J10,I12=I11,I12=J11),I12,"")) | V12: =IF(J12="","",IF(OR(J12=H12,J12=I12,J12=D12,J12=C12,J12=B12,J12=G12,J12=F12,J12=E12,J12=J6,J12=J5,J12=J4,J12=J9,J12=J8,J12=J7,J12=J10,J12=H11,J12=H10,J12=I10,J12=I11,J12=J11),J12,"")) | AN12: =IF(K22="Tous les 9 sont placés.","",AO12) -> 9 | AO12: 9
B14: Je recherche le chiffre : | E14: 1 | F14: (de 1 à 9) | K14: =IF(Données!B99=0,"Tous les 1 sont placés.",IF(Données!B99<0,"Il y a trop de 1 dans la grille!",""))
K15: =IF(Données!C99=0,"Tous les 2 sont placés.",IF(Données!C99<0,"Il y a trop de 2 dans la grille!",""))
B16: =IF($E$14=Données!B12,"Il reste "&Données!B99,IF(E14=Données!C12,"Il reste "&Données!C99,IF(Sudoku!E14=Données!D12,"Il reste "&Données!D99,IF(Sudoku!E14=Données!E12,"Il reste "&Données!E99,IF(Sudoku!E14=Données!F12,"Il reste "&Données!F99,IF(Sudoku!E14=Données!G12,"Il reste "&Données!G99,IF(Sudoku!E14=Données!H12,"Il reste "&Données!H99,IF(Sudoku!E14=Données!I12,"Il reste "&Données!I99,IF(Sudoku!E14=Données!J12,"Il reste "&Données!J99,""))))))))) -> Il reste 9 | D16: =IF(E14="","",E14) -> 1 | E16: =IF(D16="","","à placer.") -> à placer. | K16: =IF(Données!D99=0,"Tous les 3 sont placés.",IF(Données!D99<0,"Il y a trop de 3 dans la grille!",""))
K17: =IF(Données!E99=0,"Tous les 4 sont placés.",IF(Données!E99<0,"Il y a trop de 4 dans la grille!",""))
B18: =IF(AND(Données!L12=405,Données!M12=405,Données!N12=405),"Félicitations ! La grille de Sudoku est entièrement remplie !!","") | K18: =IF(Données!F99=0,"Tous les 5 sont placés.",IF(Données!F99<0,"Il y a trop de 5 dans la grille!",""))
K19: =IF(Données!G99=0,"Tous les 6 sont placés.",IF(Données!G99<0,"Il y a trop de 6 dans la grille!",""))
K20: =IF(Données!H99=0,"Tous les 7 sont placés.",IF(Données!H99<0,"Il y a trop de 7 dans la grille!",""))
K21: =IF(Données!I99=0,"Tous les 8 sont placés.",IF(Données!I99<0,"Il y a trop de 8 dans la grille!",""))
K22: =IF(Données!J99=0,"Tous les 9 sont placés.",IF(Données!J99<0,"Il y a trop de 9 dans la grille!",""))

Sheet Données
B2: =IF(Sudoku!B4="","",Sudoku!B4) | C2: =IF(Sudoku!C4="","",Sudoku!C4) | D2: =IF(Sudoku!D4="","",Sudoku!D4) | E2: =IF(Sudoku!E4="","",Sudoku!E4) | F2: =IF(Sudoku!F4="","",Sudoku!F4) | G2: =IF(Sudoku!G4="","",Sudoku!G4) | H2: =IF(Sudoku!H4="","",Sudoku!H4) | I2: =IF(Sudoku!I4="","",Sudoku!I4) | J2: =IF(Sudoku!J4="","",Sudoku!J4) | L2: Horizontal | M2: Vertical | N2: Grille x9
B3: =IF(Sudoku!B5="","",Sudoku!B5) | C3: =IF(Sudoku!C5="","",Sudoku!C5) | D3: =IF(Sudoku!D5="","",Sudoku!D5) | E3: =IF(Sudoku!E5="","",Sudoku!E5) | F3: =IF(Sudoku!F5="","",Sudoku!F5) | G3: =IF(Sudoku!G5="","",Sudoku!G5) | H3: =IF(Sudoku!H5="","",Sudoku!H5) | I3: =IF(Sudoku!I5="","",Sudoku!I5) | J3: =IF(Sudoku!J5="","",Sudoku!J5) | L3: =SUM(B2:J2) -> 0 | M3: =SUM(B2:B10) -> 0 | N3: =SUM(B2:D4) -> 0
B4: =IF(Sudoku!B6="","",Sudoku!B6) | C4: =IF(Sudoku!C6="","",Sudoku!C6) | D4: =IF(Sudoku!D6="","",Sudoku!D6) | E4: =IF(Sudoku!E6="","",Sudoku!E6) | F4: =IF(Sudoku!F6="","",Sudoku!F6) | G4: =IF(Sudoku!G6="","",Sudoku!G6) | H4: =IF(Sudoku!H6="","",Sudoku!H6) | I4: =IF(Sudoku!I6="","",Sudoku!I6) | J4: =IF(Sudoku!J6="","",Sudoku!J6) | L4: =SUM(B3:J3) -> 0 | M4: =SUM(C2:C10) -> 0 | N4: =SUM(E2:G4) -> 0
B5: =IF(Sudoku!B7="","",Sudoku!B7) | C5: =IF(Sudoku!C7="","",Sudoku!C7) | D5: =IF(Sudoku!D7="","",Sudoku!D7) | E5: =IF(Sudoku!E7="","",Sudoku!E7) | F5: =IF(Sudoku!F7="","",Sudoku!F7) | G5: =IF(Sudoku!G7="","",Sudoku!G7) | H5: =IF(Sudoku!H7="","",Sudoku!H7) | I5: =IF(Sudoku!I7="","",Sudoku!I7) | J5: =IF(Sudoku!J7="","",Sudoku!J7) | L5: =SUM(B4:J4) -> 0 | M5: =SUM(D2:D10) -> 0 | N5: =SUM(H2:J4) -> 0
B6: =IF(Sudoku!B8="","",Sudoku!B8) | C6: =IF(Sudoku!C8="","",Sudoku!C8) | D6: =IF(Sudoku!D8="","",Sudoku!D8) | E6: =IF(Sudoku!E8="","",Sudoku!E8) | F6: =IF(Sudoku!F8="","",Sudoku!F8) | G6: =IF(Sudoku!G8="","",Sudoku!G8) | H6: =IF(Sudoku!H8="","",Sudoku!H8) | I6: =IF(Sudoku!I8="","",Sudoku!I8) | J6: =IF(Sudoku!J8="","",Sudoku!J8) | L6: =SUM(B5:J5) -> 0 | M6: =SUM(E2:E10) -> 0 | N6: =SUM(B5:D7) -> 0
B7: =IF(Sudoku!B9="","",Sudoku!B9) | C7: =IF(Sudoku!C9="","",Sudoku!C9) | D7: =IF(Sudoku!D9="","",Sudoku!D9) | E7: =IF(Sudoku!E9="","",Sudoku!E9) | F7: =IF(Sudoku!F9="","",Sudoku!F9) | G7: =IF(Sudoku!G9="","",Sudoku!G9) | H7: =IF(Sudoku!H9="","",Sudoku!H9) | I7: =IF(Sudoku!I9="","",Sudoku!I9) | J7: =IF(Sudoku!J9="","",Sudoku!J9) | L7: =SUM(B6:J6) -> 0 | M7: =SUM(F2:F10) -> 0 | N7: =SUM(E5:G7) -> 0
B8: =IF(Sudoku!B10="","",Sudoku!B10) | C8: =IF(Sudoku!C10="","",Sudoku!C10) | D8: =IF(Sudoku!D10="","",Sudoku!D10) | E8: =IF(Sudoku!E10="","",Sudoku!E10) | F8: =IF(Sudoku!F10="","",Sudoku!F10) | G8: =IF(Sudoku!G10="","",Sudoku!G10) | H8: =IF(Sudoku!H10="","",Sudoku!H10) | I8: =IF(Sudoku!I10="","",Sudoku!I10) | J8: =IF(Sudoku!J10="","",Sudoku!J10) | L8: =SUM(B7:J7) -> 0 | M8: =SUM(G2:G10) -> 0 | N8: =SUM(H5:J7) -> 0
B9: =IF(Sudoku!B11="","",Sudoku!B11) | C9: =IF(Sudoku!C11="","",Sudoku!C11) | D9: =IF(Sudoku!D11="","",Sudoku!D11) | E9: =IF(Sudoku!E11="","",Sudoku!E11) | F9: =IF(Sudoku!F11="","",Sudoku!F11) | G9: =IF(Sudoku!G11="","",Sudoku!G11) | H9: =IF(Sudoku!H11="","",Sudoku!H11) | I9: =IF(Sudoku!I11="","",Sudoku!I11) | J9: =IF(Sudoku!J11="","",Sudoku!J11) | L9: =SUM(B8:J8) -> 0 | M9: =SUM(H2:H10) -> 0 | N9: =SUM(B8:D10) -> 0
B10: =IF(Sudoku!B12="","",Sudoku!B12) | C10: =IF(Sudoku!C12="","",Sudoku!C12) | D10: =IF(Sudoku!D12="","",Sudoku!D12) | E10: =IF(Sudoku!E12="","",Sudoku!E12) | F10: =IF(Sudoku!F12="","",Sudoku!F12) | G10: =IF(Sudoku!G12="","",Sudoku!G12) | H10: =IF(Sudoku!H12="","",Sudoku!H12) | I10: =IF(Sudoku!I12="","",Sudoku!I12) | J10: =IF(Sudoku!J12="","",Sudoku!J12) | L10: =SUM(B9:J9) -> 0 | M10: =SUM(I2:I10) -> 0 | N10: =SUM(E8:G10) -> 0
L11: =SUM(B10:J10) -> 0 | M11: =SUM(J2:J10) -> 0 | N11: =SUM(H8:J10) -> 0
B12: 1 | C12: 2 | D12: 3 | E12: 4 | F12: 5 | G12: 6 | H12: 7 | I12: 8 | J12: 9 | L12: =SUM(L3:L11) -> 0 | M12: =SUM(M3:M11) -> 0 | N12: =SUM(N3:N11) -> 0
A13: B | B13: =IF($B$2=B12,B12,"") | C13: =IF(B2=$C$12,$C$12,"") | D13: =IF(B2=$D$12,$D$12,"") | E13: =IF(B2=$E$12,$E$12,"") | F13: =IF(B2=$F$12,$F$12,"") | G13: =IF(B2=$G$12,$G$12,"") | H13: =IF(B2=$H$12,$H$12,"") | I13: =IF(B2=$I$12,$I$12,"") | J13: =IF(B2=$J$12,$J$12,"")
B14: =IF(B3=$B$12,$B$12,"") | C14: =IF(B3=$C$12,$C$12,"") | D14: =IF(B3=$D$12,$D$12,"") | E14: =IF(B3=$E$12,$E$12,"") | F14: =IF(B3=$F$12,$F$12,"") | G14: =IF(B3=$G$12,$G$12,"") | H14: =IF(B3=$H$12,$H$12,"") | I14: =IF(B3=$I$12,$I$12,"") | J14: =IF(B3=$J$12,$J$12,"")
B15: =IF(B4=$B$12,$B$12,"") | C15: =IF(B4=$C$12,$C$12,"") | D15: =IF(B4=$D$12,$D$12,"") | E15: =IF(B4=$E$12,$E$12,"") | F15: =IF(B4=$F$12,$F$12,"") | G15: =IF(B4=$G$12,$G$12,"") | H15: =IF(B4=$H$12,$H$12,"") | I15: =IF(B4=$I$12,$I$12,"") | J15: =IF(B4=$J$12,$J$12,"")
B16: =IF(B5=$B$12,$B$12,"") | C16: =IF(B5=$C$12,$C$12,"") | D16: =IF(B5=$D$12,$D$12,"") | E16: =IF(B5=$E$12,$E$12,"") | F16: =IF(B5=$F$12,$F$12,"") | G16: =IF(B5=$G$12,$G$12,"") | H16: =IF(B5=$H$12,$H$12,"") | I16: =IF(B5=$I$12,$I$12,"") | J16: =IF(B5=$J$12,$J$12,"")
B17: =IF(B6=$B$12,$B$12,"") | C17: =IF(B6=$C$12,$C$12,"") | D17: =IF(B6=$D$12,$D$12,"") | E17: =IF(B6=$E$12,$E$12,"") | F17: =IF(B6=$F$12,$F$12,"") | G17: =IF(B6=$G$12,$G$12,"") | H17: =IF(B6=$H$12,$H$12,"") | I17: =IF(B6=$I$12,$I$12,"") | J17: =IF(B6=$J$12,$J$12,"")
B18: =IF(B7=$B$12,$B$12,"") | C18: =IF(B7=$C$12,$C$12,"") | D18: =IF(B7=$D$12,$D$12,"") | E18: =IF(B7=$E$12,$E$12,"") | F18: =IF(B7=$F$12,$F$12,"") | G18: =IF(B7=$G$12,$G$12,"") | H18: =IF(B7=$H$12,$H$12,"") | I18: =IF(B7=$I$12,$I$12,"") | J18: =IF(B7=$J$12,$J$12,"")
B19: =IF(B8=$B$12,$B$12,"") | C19: =IF(B8=$C$12,$C$12,"") | D19: =IF(B8=$D$12,$D$12,"") | E19: =IF(B8=$E$12,$E$12,"") | F19: =IF(B8=$F$12,$F$12,"") | G19: =IF(B8=$G$12,$G$12,"") | H19: =IF(B8=$H$12,$H$12,"") | I19: =IF(B8=$I$12,$I$12,"") | J19: =IF(B8=$J$12,$J$12,"")
B20: =IF(B9=$B$12,$B$12,"") | C20: =IF(B9=$C$12,$C$12,"") | D20: =IF(B9=$D$12,$D$12,"") | E20: =IF(B9=$E$12,$E$12,"") | F20: =IF(B9=$F$12,$F$12,"") | G20: =IF(B9=$G$12,$G$12,"") | H20: =IF(B9=$H$12,$H$12,"") | I20: =IF(B9=$I$12,$I$12,"") | J20: =IF(B9=$J$12,$J$12,"")
B21: =IF(B10=$B$12,$B$12,"") | C21: =IF(B10=$C$12,$C$12,"") | D21: =IF(B10=$D$12,$D$12,"") | E21: =IF(B10=$E$12,$E$12,"") | F21: =IF(B10=$F$12,$F$12,"") | G21: =IF(B10=$G$12,$G$12,"") | H21: =IF(B10=$H$12,$H$12,"") | I21: =IF(B10=$I$12,$I$12,"") | J21: =IF(B10=$J$12,$J$12,"")
A22: C | B22: =IF($C$2=B12,B12,"") | C22: =IF(C2=$C$12,$C$12,"") | D22: =IF(C2=$D$12,$D$12,"") | E22: =IF(C2=$E$12,$E$12,"") | F22: =IF(C2=$F$12,$F$12,"") | G22: =IF(C2=$G$12,$G$12,"") | H22: =IF(C2=$H$12,$H$12,"") | I22: =IF(C2=$I$12,$I$12,"") | J22: =IF(C2=$J$12,$J$12,"")
B23: =IF(C3=$B$12,$B$12,"") | C23: =IF(C3=$C$12,$C$12,"") | D23: =IF(C3=$D$12,$D$12,"") | E23: =IF(C3=$E$12,$E$12,"") | F23: =IF(C3=$F$12,$F$12,"") | G23: =IF(C3=$G$12,$G$12,"") | H23: =IF(C3=$H$12,$H$12,"") | I23: =IF(C3=$I$12,$I$12,"") | J23: =IF(C3=$J$12,$J$12,"")
B24: =IF(C4=$B$12,$B$12,"") | C24: =IF(C4=$C$12,$C$12,"") | D24: =IF(C4=$D$12,$D$12,"") | E24: =IF(C4=$E$12,$E$12,"") | F24: =IF(C4=$F$12,$F$12,"") | G24: =IF(C4=$G$12,$G$12,"") | H24: =IF(C4=$H$12,$H$12,"") | I24: =IF(C4=$I$12,$I$12,"") | J24: =IF(C4=$J$12,$J$12,"")
B25: =IF(C5=$B$12,$B$12,"") | C25: =IF(C5=$C$12,$C$12,"") | D25: =IF(C5=$D$12,$D$12,"") | E25: =IF(C5=$E$12,$E$12,"") | F25: =IF(C5=$F$12,$F$12,"") | G25: =IF(C5=$G$12,$G$12,"") | H25: =IF(C5=$H$12,$H$12,"") | I25: =IF(C5=$I$12,$I$12,"") | J25: =IF(C5=$J$12,$J$12,"")
B26: =IF(C6=$B$12,$B$12,"") | C26: =IF(C6=$C$12,$C$12,"") | D26: =IF(C6=$D$12,$D$12,"") | E26: =IF(C6=$E$12,$E$12,"") | F26: =IF(C6=$F$12,$F$12,"") | G26: =IF(C6=$G$12,$G$12,"") | H26: =IF(C6=$H$12,$H$12,"") | I26: =IF(C6=$I$12,$I$12,"") | J26: =IF(C6=$J$12,$J$12,"")
B27: =IF(C7=$B$12,$B$12,"") | C27: =IF(C7=$C$12,$C$12,"") | D27: =IF(C7=$D$12,$D$12,"") | E27: =IF(C7=$E$12,$E$12,"") | F27: =IF(C7=$F$12,$F$12,"") | G27: =IF(C7=$G$12,$G$12,"") | H27: =IF(C7=$H$12,$H$12,"") | I27: =IF(C7=$I$12,$I$12,"") | J27: =IF(C7=$J$12,$J$12,"")
B28: =IF(C8=$B$12,$B$12,"") | C28: =IF(C8=$C$12,$C$12,"") | D28: =IF(C8=$D$12,$D$12,"") | E28: =IF(C8=$E$12,$E$12,"") | F28: =IF(C8=$F$12,$F$12,"") | G28: =IF(C8=$G$12,$G$12,"") | H28: =IF(C8=$H$12,$H$12,"") | I28: =IF(C8=$I$12,$I$12,"") | J28: =IF(C8=$J$12,$J$12,"")
B29: =IF(C9=$B$12,$B$12,"") | C29: =IF(C9=$C$12,$C$12,"") | D29: =IF(C9=$D$12,$D$12,"") | E29: =IF(C9=$E$12,$E$12,"") | F29: =IF(C9=$F$12,$F$12,"") | G29: =IF(C9=$G$12,$G$12,"") | H29: =IF(C9=$H$12,$H$12,"") | I29: =IF(C9=$I$12,$I$12,"") | J29: =IF(C9=$J$12,$J$12,"")
B30: =IF(C10=$B$12,$B$12,"") | C30: =IF(C10=$C$12,$C$12,"") | D30: =IF(C10=$D$12,$D$12,"") | E30: =IF(C10=$E$12,$E$12,"") | F30: =IF(C10=$F$12,$F$12,"") | G30: =IF(C10=$G$12,$G$12,"") | H30: =IF(C10=$H$12,$H$12,"") | I30: =IF(C10=$I$12,$I$12,"") | J30: =IF(C10=$J$12,$J$12,"")
A31: D | B31: =IF($D$2=B12,B12,"") | C31: =IF(D2=$C$12,$C$12,"") | D31: =IF(D2=$D$12,$D$12,"") | E31: =IF(D2=$E$12,$E$12,"") | F31: =IF(D2=$F$12,$F$12,"") | G31: =IF(D2=$G$12,$G$12,"") | H31: =IF(D2=$H$12,$H$12,"") | I31: =IF(D2=$I$12,$I$12,"") | J31: =IF(D2=$J$12,$J$12,"")
B32: =IF(D3=$B$12,$B$12,"") | C32: =IF(D3=$C$12,$C$12,"") | D32: =IF(D3=$D$12,$D$12,"") | E32: =IF(D3=$E$12,$E$12,"") | F32: =IF(D3=$F$12,$F$12,"") | G32: =IF(D3=$G$12,$G$12,"") | H32: =IF(D3=$H$12,$H$12,"") | I32: =IF(D3=$I$12,$I$12,"") | J32: =IF(D3=$J$12,$J$12,"")
B33: =IF(D4=$B$12,$B$12,"") | C33: =IF(D4=$C$12,$C$12,"") | D33: =IF(D4=$D$12,$D$12,"") | E33: =IF(D4=$E$12,$E$12,"") | F33: =IF(D4=$F$12,$F$12,"") | G33: =IF(D4=$G$12,$G$12,"") | H33: =IF(D4=$H$12,$H$12,"") | I33: =IF(D4=$I$12,$I$12,"") | J33: =IF(D4=$J$12,$J$12,"")
B34: =IF(D5=$B$12,$B$12,"") | C34: =IF(D5=$C$12,$C$12,"") | D34: =IF(D5=$D$12,$D$12,"") | E34: =IF(D5=$E$12,$E$12,"") | F34: =IF(D5=$F$12,$F$12,"") | G34: =IF(D5=$G$12,$G$12,"") | H34: =IF(D5=$H$12,$H$12,"") | I34: =IF(D5=$I$12,$I$12,"") | J34: =IF(D5=$J$12,$J$12,"")
B35: =IF(D6=$B$12,$B$12,"") | C35: =IF(D6=$C$12,$C$12,"") | D35: =IF(D6=$D$12,$D$12,"") | E35: =IF(D6=$E$12,$E$12,"") | F35: =IF(D6=$F$12,$F$12,"") | G35: =IF(D6=$G$12,$G$12,"") | H35: =IF(D6=$H$12,$H$12,"") | I35: =IF(D6=$I$12,$I$12,"") | J35: =IF(D6=$J$12,$J$12,"")
B36: =IF(D7=$B$12,$B$12,"") | C36: =IF(D7=$C$12,$C$12,"") | D36: =IF(D7=$D$12,$D$12,"") | E36: =IF(D7=$E$12,$E$12,"") | F36: =IF(D7=$F$12,$F$12,"") | G36: =IF(D7=$G$12,$G$12,"") | H36: =IF(D7=$H$12,$H$12,"") | I36: =IF(D7=$I$12,$I$12,"") | J36: =IF(D7=$J$12,$J$12,"")
B37: =IF(D8=$B$12,$B$12,"") | C37: =IF(D8=$C$12,$C$12,"") | D37: =IF(D8=$D$12,$D$12,"") | E37: =IF(D8=$E$12,$E$12,"") | F37: =IF(D8=$F$12,$F$12,"") | G37: =IF(D8=$G$12,$G$12,"") | H37: =IF(D8=$H$12,$H$12,"") | I37: =IF(D8=$I$12,$I$12,"") | J37: =IF(D8=$J$12,$J$12,"")
B38: =IF(D9=$B$12,$B$12,"") | C38: =IF(D9=$C$12,$C$12,"") | D38: =IF(D9=$D$12,$D$12,"") | E38: =IF(D9=$E$12,$E$12,"") | F38: =IF(D9=$F$12,$F$12,"") | G38: =IF(D9=$G$12,$G$12,"") | H38: =IF(D9=$H$12,$H$12,"") | I38: =IF(D9=$I$12,$I$12,"") | J38: =IF(D9=$J$12,$J$12,"")
B39: =IF(D10=$B$12,$B$12,"") | C39: =IF(D10=$C$12,$C$12,"") | D39: =IF(D10=$D$12,$D$12,"") | E39: =IF(D10=$E$12,$E$12,"") | F39: =IF(D10=$F$12,$F$12,"") | G39: =IF(D10=$G$12,$G$12,"") | H39: =IF(D10=$H$12,$H$12,"") | I39: =IF(D10=$I$12,$I$12,"") | J39: =IF(D10=$J$12,$J$12,"")
A40: E | B40: =IF($E$2=B12,B12,"") | C40: =IF(E2=$C$12,$C$12,"") | D40: =IF(E2=$D$12,$D$12,"") | E40: =IF(E2=$E$12,$E$12,"") | F40: =IF(E2=$F$12,$F$12,"") | G40: =IF(E2=$G$12,$G$12,"") | H40: =IF(E2=$H$12,$H$12,"") | I40: =IF(E2=$I$12,$I$12,"") | J40: =IF(E2=$J$12,$J$12,"")
B41: =IF(E3=$B$12,$B$12,"") | C41: =IF(E3=$C$12,$C$12,"") | D41: =IF(E3=$D$12,$D$12,"") | E41: =IF(E3=$E$12,$E$12,"") | F41: =IF(E3=$F$12,$F$12,"") | G41: =IF(E3=$G$12,$G$12,"") | H41: =IF(E3=$H$12,$H$12,"") | I41: =IF(E3=$I$12,$I$12,"") | J41: =IF(E3=$J$12,$J$12,"")
...
