Workbook
Name autoajust_listederoulante: OFFSET('Base Exemple'!$B$5,0,0,COUNTA('Base Exemple'!$B:$B)-1,1)
Name Bouton_retour: INDEX('Base Exemple'!$E$18:$E$25,Exemple!$C$2)
Name Choix_drapeau: INDEX('Base Exemple'!$C$5:$C$12,Exemple!$C$2)

Sheet Tuto
A1: TUTO : COMMENT CRÉER UNE APPLICATION MULTILANGUES
A13: 1. Créer une liste déroulante de choix de langue
A15: A/ Organiser le formatage de la zone Excel où le choix de la langue va se faire.
A16: L'organisation va être importante tout au long de cet exercice, car tout va se calculer sur la valeur rendue par le formulaire. Il est donc nécessaire
A17: auparavant d'avoir le rendu global final d'affichage du fichier.
A18: Sur la base de l'onglet exemple, nous allons créer une barre dédiée au choix de la langue d'affichage (Ligne 2).
A20: La zone de choix se répartira sur l'occupation de 4 colonnes A->D (les cellules doivent êtres vides)
F21: > La ligne 2 est formaté en bleu
F22: > Le formatage de la cellule A1 doit voir son alignement sur ajuster, afin d'ajuster
F23: automatiquement la taille de la police à la taille de la cellule si le mot équivalent
F24: dans une langue étrangère est plus long que le mot d'origine. Ce principe sera à
A25: Rendu final | F25: reprendre tout du long de ce qu'il y'aura à traduire.
A27: B/ Créer la base langage
A28: Comme indiqué plus haut, l'organisation va être très importante afin de faciliter le travail et aller plus vite.
A29: Vous pouvez créer votre base langage, à partir de laquelle vous allez récupérer les valeurs traduite n'importe où, même cacher les colonnes et
A30: lignes utilisées. Afin de rendre clair l'exercice, nous créerons cette base dans un onglet spécifique : Base Exemple.
A32: Vous pouvez créer cette base en organisation verticale ou horizontale, ici nous allons utiliser la recherchev, donc l'organisation sera verticale.
A33: Vous pouvez créer autant de base que necessaire, il suffira juste de moduler la formule de recherchev pour aller dans tel ou tel base.
G34: > La colonne A servira à calculer la position d'index dans chaque langue
G35: ainsi 1 sera le français, 2 l'anglais,…
G36: La liste déroulante, en fonction du choix renvoi une valeur index d'où
G37: cette colonne.
G38: > La colonne B reprend les noms de langues, qui seront repris dans la
G39: liste déroulante.
G40: Fin, on s'arrête là pour le moment
A50: Comme on peut voir, à chaque ligne, une langue et ses traductions
A52: C/ Création de la liste déroulante
A53: Afin de choisir la langue d'affichage de l'application, le choix le plus pratique est la liste déroulante, n'ayant pas besoin de gérer des macros
A54: nous choisissons d'insérer le bouton formulaire de zone liste déroulante.
E63: Onglet Développeur > Insérer > Contrôles de formulaire > Zone de liste déroulante
A66: Puis clic droit > Format de contrôle afin de formater la liste
F67: > La plage d'entrée, correspond à la colonne B, nous allons y reprendre les noms des
F68: langues (ne pas prendre la colonne, si vous utilisez d'autres valeurs en dessous).
F69: > En fonction du choix de l'utilisateur, la liste renvoi une valeur de position dans
F70: l'index de la colonne (ainsi choisir français renvoi 1, anglais 2,…)
F71: Et à partir de cette valeur, nous pourrons calculer à partir d'où faire la recherchev
F72: La cellule où renvoyée la valeur est C2
F73: OK
F75: Enfin positionner la liste déroulante entre C2->D2 et faire en sorte que l'utilisateur
F76: ne voit pas la valeur C2
...

Sheet Exemple
A2: =VLOOKUP($C$2,'Base Exemple'!$A$5:$XEZ$12,4,FALSE) -> Langage : | C2: 1 | F2: Exemple de fonctionnement d'un fichier Excel Multilangues
A6: =VLOOKUP($C$2,'Base Exemple'!$A$5:$XEZ$12,5,FALSE) -> SUIVI DES VENTES MONDE | K6: =TODAY() -> 42899
A9: =VLOOKUP($C$2,'Base Exemple'!$A$5:$XEZ$12,6,FALSE) -> Région Europe | C9: =J9 -> Agence | D9: =N9 -> Montant | E9: =M26 -> Objectif Agence | H9: =VLOOKUP($C$2,'Base Exemple'!$A$5:$XEZ$12,9,FALSE) -> ID Affaire | I9: =VLOOKUP($C$2,'Base Exemple'!$A$5:$XEZ$12,10,FALSE) -> Clients | J9: =VLOOKUP($C$2,'Base Exemple'!$A$5:$XEZ$12,11,FALSE) -> Agence | K9: =VLOOKUP($C$2,'Base Exemple'!$A$5:$XEZ$12,12,FALSE) -> Type | L9: =VLOOKUP($C$2,'Base Exemple'!$A$5:$XEZ$12,12,FALSE) -> Type | M9: =VLOOKUP($C$2,'Base Exemple'!$A$5:$XEZ$12,14,FALSE) -> Situation | N9: =VLOOKUP($C$2,'Base Exemple'!$A$5:$XEZ$12,13,FALSE) -> Montant
C10: A123 | D10: 252000 | E10: =$N$26 -> 150000 | H10: 4564979 | I10: Volvo | J10: A132 | K10: Service management | L10: =HLOOKUP(K10,'Base Exemple'!$A$5:$XEZ$12,Exemple!$C$2,FALSE) -> Service management | M10: =VLOOKUP($C$2,'Base Exemple'!$A$5:$XEZ$12,20,FALSE) -> En cours | N10: 275000
C11: A132 | D11: 445000 | E11: =$N$26 -> 150000 | H11: 1236549 | I11: Ford | J11: A1458 | K11: Audit | L11: =HLOOKUP(K11,'Base Exemple'!$A$5:$XEZ$12,Exemple!$C$2,FALSE) -> Audit | M11: =VLOOKUP($C$2,'Base Exemple'!$A$5:$XEZ$12,19,FALSE) -> Terminé | N11: 189000
C12: A135 | D12: 55000 | E12: =$N$26 -> 150000 | H12: 13235647 | I12: Alcaltel | J12: A899 | K12: Audit | L12: =HLOOKUP(K12,'Base Exemple'!$A$5:$XEZ$12,Exemple!$C$2,FALSE) -> Audit | M12: =VLOOKUP($C$2,'Base Exemple'!$A$5:$XEZ$12,19,FALSE) -> Terminé | N12: 179000
C13: A14 | D13: 25800 | E13: =$N$26 -> 150000 | H13: 78446 | I13: EDF | J13: A132 | K13: Service management | L13: =HLOOKUP(K13,'Base Exemple'!$A$5:$XEZ$12,Exemple!$C$2,FALSE) -> Service management | M13: =VLOOKUP($C$2,'Base Exemple'!$A$5:$XEZ$12,19,FALSE) -> Terminé | N13: 170000
C14: A145 | D14: 29379 | E14: =$N$26 -> 150000 | H14: 4698 | I14: Orange | J14: A123 | K14: Formation | L14: =HLOOKUP(K14,'Base Exemple'!$A$5:$XEZ$12,Exemple!$C$2,FALSE) -> Formation | M14: =VLOOKUP($C$2,'Base Exemple'!$A$5:$XEZ$12,19,FALSE) -> Terminé | N14: 157000
C15: A1458 | D15: 189000 | E15: =$N$26 -> 150000 | H15: 1235466 | I15: Adecco | J15: A456 | K15: Service management | L15: =HLOOKUP(K15,'Base Exemple'!$A$5:$XEZ$12,Exemple!$C$2,FALSE) -> Service management | M15: =VLOOKUP($C$2,'Base Exemple'!$A$5:$XEZ$12,19,FALSE) -> Terminé | N15: 145000
C16: A456 | D16: 145000 | E16: =$N$26 -> 150000 | H16: 147895 | I16: Orange | J16: A123 | K16: Formation | L16: =HLOOKUP(K16,'Base Exemple'!$A$5:$XEZ$12,Exemple!$C$2,FALSE) -> Formation | M16: =VLOOKUP($C$2,'Base Exemple'!$A$5:$XEZ$12,19,FALSE) -> Terminé | N16: 95000
C17: A899 | D17: 247298 | E17: =$N$26 -> 150000 | H17: 12365498 | I17: Alcaltel | J17: A899 | K17: Audit | L17: =HLOOKUP(K17,'Base Exemple'!$A$5:$XEZ$12,Exemple!$C$2,FALSE) -> Audit | M17: =VLOOKUP($C$2,'Base Exemple'!$A$5:$XEZ$12,20,FALSE) -> En cours | N17: 55000
H18: 12658 | I18: Ferarra | J18: A135 | K18: Audit | L18: =HLOOKUP(K18,'Base Exemple'!$A$5:$XEZ$12,Exemple!$C$2,FALSE) -> Audit | M18: =VLOOKUP($C$2,'Base Exemple'!$A$5:$XEZ$12,19,FALSE) -> Terminé | N18: 32000
H19: 127748 | I19: Orange | J19: A14 | K19: Service management | L19: =HLOOKUP(K19,'Base Exemple'!$A$5:$XEZ$12,Exemple!$C$2,FALSE) -> Service management | M19: =VLOOKUP($C$2,'Base Exemple'!$A$5:$XEZ$12,20,FALSE) -> En cours | N19: 25800
H20: 498451 | I20: Siemens | J20: A135 | K20: Service management | L20: =HLOOKUP(K20,'Base Exemple'!$A$5:$XEZ$12,Exemple!$C$2,FALSE) -> Service management | M20: =VLOOKUP($C$2,'Base Exemple'!$A$5:$XEZ$12,19,FALSE) -> Terminé | N20: 23000
H21: 987984 | I21: EDF | J21: A145 | K21: Formation | L21: =HLOOKUP(K21,'Base Exemple'!$A$5:$XEZ$12,Exemple!$C$2,FALSE) -> Formation | M21: =VLOOKUP($C$2,'Base Exemple'!$A$5:$XEZ$12,20,FALSE) -> En cours | N21: 14879
H22: 23546 | I22: Deutshbann | J22: A145 | K22: Audit | L22: =HLOOKUP(K22,'Base Exemple'!$A$5:$XEZ$12,Exemple!$C$2,FALSE) -> Audit | M22: =VLOOKUP($C$2,'Base Exemple'!$A$5:$XEZ$12,20,FALSE) -> En cours | N22: 14500
H23: 41154 | I23: Volvo | J23: A899 | K23: Formation | L23: =HLOOKUP(K23,'Base Exemple'!$A$5:$XEZ$12,Exemple!$C$2,FALSE) -> Formation | M23: =VLOOKUP($C$2,'Base Exemple'!$A$5:$XEZ$12,20,FALSE) -> En cours | N23: 13298
M24: =VLOOKUP($C$2,'Base Exemple'!$A$5:$XEZ$12,15,FALSE) -> Total | N24: =SUM(N10:N23) -> 1388477
C25: =K9 -> Type | D25: =N9 -> Montant | H25: =I9 -> Clients | I25: =N9 -> Montant | J25: %
C26: =L11 -> Audit | D26: 469500 | H26: Volvo | I26: 288298 | J26: =I26/$N$24 -> 0.20763614 | M26: =VLOOKUP($C$2,'Base Exemple'!$A$5:$XEZ$12,21,FALSE) -> Objectif Agence | N26: 150000
C27: =L14 -> Formation | D27: 280177 | H27: Orange | I27: 277800 | J27: =I27/$N$24 -> 0.20007533
C28: =L15 -> Service management | D28: 638800 | H28: Alcaltel | I28: 234000 | J28: =I28/$N$24 -> 0.16852998
H29: Ford | I29: 189000 | J29: =I29/$N$24 -> 0.13612037 | M29: =VLOOKUP($C$2,'Base Exemple'!$A$5:$XEZ$12,11,FALSE) -> Agence | N29: =VLOOKUP($C$2,'Base Exemple'!$A$5:$XEZ$12,13,FALSE) -> Montant
H30: EDF | I30: 184879 | J30: =I30/$N$24 -> 0.13315237 | M30: A132 | N30: =SUMIF($J$10:$N$23,M30,$N$10:$N$23) -> 445000
H31: Adecco | I31: 145000 | J31: =I31/$N$24 -> 0.10443097 | M31: A123 | N31: =SUMIF($J$10:$N$23,M31,$N$10:$N$23) -> 252000
H32: Ferarra | I32: 32000 | J32: =I32/$N$24 -> 0.023046835 | M32: A899 | N32: =SUMIF($J$10:$N$23,M32,$N$10:$N$23) -> 247298
H33: Siemens | I33: 23000 | J33: =I33/$N$24 -> 0.016564912 | M33: A1458 | N33: =SUMIF($J$10:$N$23,M33,$N$10:$N$23) -> 189000
H34: Deutshbann | I34: 14500 | J34: =I34/$N$24 -> 0.010443097 | M34: A456 | N34: =SUMIF($J$10:$N$23,M34,$N$10:$N$23) -> 145000
M35: A135 | N35: =SUMIF($J$10:$N$23,M35,$N$10:$N$23) -> 55000
M36: A145 | N36: =SUMIF($J$10:$N$23,M36,$N$10:$N$23) -> 29379
M37: A14 | N37: =SUMIF($J$10:$N$23,M37,$N$10:$N$23) -> 25800
A41: =VLOOKUP($C$2,'Base Exemple'!$A$5:$XEZ$12,7,FALSE) -> Région Asie | C41: =J41 -> Agence | D41: =N41 -> Montant | E41: =M58 -> Objectif Agence | H41: =VLOOKUP($C$2,'Base Exemple'!$A$5:$XEZ$12,9,FALSE) -> ID Affaire | I41: =VLOOKUP($C$2,'Base Exemple'!$A$5:$XEZ$12,10,FALSE) -> Clients | J41: =VLOOKUP($C$2,'Base Exemple'!$A$5:$XEZ$12,11,FALSE) -> Agence | K41: =VLOOKUP($C$2,'Base Exemple'!$A$5:$XEZ$12,12,FALSE) -> Type | L41: =VLOOKUP($C$2,'Base Exemple'!$A$5:$XEZ$12,12,FALSE) -> Type | M41: =VLOOKUP($C$2,'Base Exemple'!$A$5:$XEZ$12,14,FALSE) -> Situation | N41: =VLOOKUP($C$2,'Base Exemple'!$A$5:$XEZ$12,13,FALSE) -> Montant
C42: K897 | D42: 454800 | E42: =$N$58 -> 125000 | H42: 13214 | I42: Adecco | J42: C124 | K42: Service management | L42: =HLOOKUP(K42,'Base Exemple'!$A$5:$XEZ$12,Exemple!$C$2,FALSE) -> Service management | M42: =VLOOKUP($C$2,'Base Exemple'!$A$5:$XEZ$12,20,FALSE) -> En cours | N42: 15300
C43: S459 | D43: 327000 | E43: =$N$58 -> 125000 | H43: 13464 | I43: EDF | J43: G65 | K43: Formation | L43: =HLOOKUP(K43,'Base Exemple'!$A$5:$XEZ$12,Exemple!$C$2,FALSE) -> Formation | M43: =VLOOKUP($C$2,'Base Exemple'!$A$5:$XEZ$12,20,FALSE) -> En cours | N43: 17800
C44: G65 | D44: 60600 | E44: =$N$58 -> 125000 | H44: 12325 | I44: Alcaltel | J44: G65 | K44: Audit | L44: =HLOOKUP(K44,'Base Exemple'!$A$5:$XEZ$12,Exemple!$C$2,FALSE) -> Audit | M44: =VLOOKUP($C$2,'Base Exemple'!$A$5:$XEZ$12,19,FALSE) -> Terminé | N44: 19800
C45: C124 | D45: 50300 | E45: =$N$58 -> 125000 | H45: 14646 | I45: V. Tokoy | J45: K897 | K45: Audit | L45: =HLOOKUP(K45,'Base Exemple'!$A$5:$XEZ$12,Exemple!$C$2,FALSE) -> Audit | M45: =VLOOKUP($C$2,'Base Exemple'!$A$5:$XEZ$12,20,FALSE) -> En cours | N45: 21000
H46: 13564 | I46: Siemens | J46: G65 | K46: Service management | L46: =HLOOKUP(K46,'Base Exemple'!$A$5:$XEZ$12,Exemple!$C$2,FALSE) -> Service management | M46: =VLOOKUP($C$2,'Base Exemple'!$A$5:$XEZ$12,20,FALSE) -> En cours | N46: 23000
H47: 134154 | I47: Japan Tel | J47: S459 | K47: Audit | L47: =HLOOKUP(K47,'Base Exemple'!$A$5:$XEZ$12,Exemple!$C$2,FALSE) -> Audit | M47: =VLOOKUP($C$2,'Base Exemple'!$A$5:$XEZ$12,20,FALSE) -> En cours | N47: 25000
H48: 131654 | I48: Wuhai | J48: K897 | K48: Service management | L48: =HLOOKUP(K48,'Base Exemple'!$A$5:$XEZ$12,Exemple!$C$2,FALSE) -> Service management | M48: =VLOOKUP($C$2,'Base Exemple'!$A$5:$XEZ$12,20,FALSE) -> En cours | N48: 25800
H49: 13654 | I49: Hiro | J49: K897 | K49: Audit | L49: =HLOOKUP(K49,'Base Exemple'!$A$5:$XEZ$12,Exemple!$C$2,FALSE) -> Audit | M49: =VLOOKUP($C$2,'Base Exemple'!$A$5:$XEZ$12,19,FALSE) -> Terminé | N49: 32000
...

Sheet Base Exemple
A1: BASE VARIABLES TEXTE SUPPORT LANGUES DE L'ONGLET EXEMPLE
I2: tableaux des ventes
A3: ID Col | C3: 3 | D3: 4 | E3: 5 | F3: 6 | G3: 7 | H3: 8 | I3: 9 | J3: 10 | K3: 11 | L3: 12 | M3: 13 | N3: 14 | O3: 15 | P3: 16 | Q3: 17 | R3: 18 | S3: 19 | T3: 20 | U3: 21
A4: ID Langue | B4: Langue | C4: Flag
A5: 1 | B5: Français | D5: Langage : | E5: SUIVI DES VENTES MONDE | F5: Région Europe | G5: Région Asie | H5: Région Océanie | I5: ID Affaire | J5: Clients | K5: Agence | L5: Type | M5: Montant | N5: Situation | O5: Total | P5: Service management | Q5: Formation | R5: Audit | S5: Terminé | T5: En cours | U5: Objectif Agence
A6: 2 | B6: English | D6: Language : | E6: WORLD SALES MONITORING | F6: Europe Region | G6: Asia Region | H6: Region Oceania | I6: ID Business | J6: customers | K6: Agency | L6: Category | M6: Amount | N6: Situation | O6: Total | P6: Management | Q6: Training | R6: Audit | S6: Completed | T6: In progress | U6: Objective Agency
A7: 3 | B7: Deutsch | D7: Sprache : | E7: ÜBERWACHUNG VON WORLD SALES | F7: Europa Region | G7: Asien Region | H7: Region Ozeanien | I7: ID Geschäft | J7: Kunden | K7: Agentur | L7: Kategorie | M7: Menge | N7: Lage | O7: Gesamt | P7: Management | Q7: Ausbildung | R7: Prüfung | S7: Abgeschlossen | T7: In Bearbeitung | U7: Zielagentur
A8: 4 | B8: Polski | D8: Język: | E8: MONITORING SPRZEDAŻY ŚWIATA | F8: Region Europy | G8: Region Azji | H8: Region Oceania | I8: Biznes ID | J8: klienci | K8: Agencja | L8: Kategoria | M8: Ilość | N8: Sytuacja | O8: Całkowity | P8: Zarządzanie | Q8: Trening | R8: Rewizja | S8: Zakończony | T8: W trakcie | U8: Agencja Celu
A9: 5 | B9: भारतीय | D9: भाषा: | E9: वर्ल्ड सेल मॉनिटरिंग | F9: यूरोप क्षेत्र | G9: एशिया क्षेत्र | H9: क्षेत्र ओशिनिया | I9: आईडी व्यवसाय | J9: ग्राहकों | K9: एजेंसी | L9: वर्ग | M9: रकम | N9: परिस्थिति | O9: कुल | P9: प्रबंध | Q9: प्रशिक्षण | R9: लेखा परीक्षा | S9: पूरा कर लिया है | T9: चालू | U9: उद्देश्य एजेंसी
A10: 6 | B10: 日本 | D10: 言語： | E10: 世界販売の監視 | F10: ヨーロッパ地域 | G10: アジア地域 | H10: 地域オセアニア | I10: IDビジネス | J10: 顧客 | K10: 代理店 | L10: カテゴリー | M10: 量 | N10: 状況 | O10: 合計 | P10: 管理 | Q10: トレーニング | R10: 監査 | S10: 完了しました | T10: 進行中 | U10: 客観的機関
A11: 7 | B11: 中国 | D11: 语言 ： | E11: 世界销售监测 | F11: 欧洲地区 | G11: 亚洲地区 | H11: 区域大洋洲 | I11: ID业务 | J11: 顾客 | K11: 机构 | L11: 类别 | M11: 量 | N11: 情况 | O11: 总 | P11: 管理 | Q11: 训练 | R11: 审计 | S11: 已完成 | T11: 进行中 | U11: 目标机构
A12: 8 | B12: العربي | D12: اللغة: | E12: مراقبة المبيعات العالمية | F12: أوروبا | G12: آسيا | H12: إقليم أوقيانوسيا | I12: إد الأعمال | J12: الزبائن | K12: وكالة | L12: الفئة | M12: كمية | N12: موقف | O12: مجموع | P12: إدارة | Q12: تدريب | R12: تدقيق | S12: منجز | T12: في تَقَدم | U12: الوكالة الموضوعية
D16: Formatage Bouton 1
D17: ID Bouton 1 | E17: Texte bouton 1
D18: 1 | E18: Retour au Tuto
D19: 2 | E19: Back to Tuto
D20: 3 | E20: Zurück zu Tutorial
D21: 4 | E21: Powrót do Tutorial
D22: 5 | E22: वापस करने के लिए ट्यूटोरियल
D23: 6 | E23: 戻るチュートリアルへ
D24: 7 | E24: 返回教程
D25: 8 | E25: العودة إلى دروس
