Workbook

Sheet MENU
A1: =PARAMÈTRES!B3 -> 2020
I2: !!! INFO !!! : Avant de commencer à utiliser le fichier, il faut tout d'abord se rendre sur la page "PARAMÈTRES". Une fois dans cette page, il suffit de rentrer les informations nécessaires dans les cases coloriées puis de retourner au menu prinicipal à l'aide du boutton "RETOUR". Depuis le "MENU", il suffit de cliquer sur un des mois pour se rendre sur la page de celui-ci. Les deux cases "PARAMÈTRES" et "GRAPHIQUE" sont aussi des cases interactives. Une fois sur la page d'un mois, il suffit de rentrer ses horaires. De plus, dans la colonne "STATUT", vous pouvez modifier comme vous le désirer les status particuliers. C'est aussi simple que ça !!!
A5: SOCIÉTÉ : | B5: =PARAMÈTRES!B7 -> 0
A7: NOM : | B7: =UPPER(PARAMÈTRES!B9) | E7: PRÉNOM : | F7: =PARAMÈTRES!B11 -> 0
A9: JANVIER | C9: TOTAL | E9: JUILLET | G9: TOTAL
C10: =JANVIER!V72 -> 0 | G10: =JUILLET!V72 -> 0
A13: FÉVRIER | C13: TOTAL | E13: AOÛT | G13: TOTAL
C14: =FÉVRIER!V68 -> 0 | G14: =AOÛT!V72 -> 0
A17: MARS | C17: TOTAL | E17: SEPTEMBRE | G17: TOTAL
C18: =MARS!V72 -> 0 | G18: =SEPTEMBRE!V70 -> 0
A21: AVRIL | C21: TOTAL | E21: OCTOBRE | G21: TOTAL
C22: =AVRIL!V70 -> 0 | G22: =OCTOBRE!V72 -> 0
A25: MAI | C25: TOTAL | E25: NOVEMBRE | G25: TOTAL
C26: =MAI!V72 -> 0 | G26: =NOVEMBRE!V70 -> 0
A29: JUIN | C29: TOTAL | E29: DÉCEMBRE | G29: TOTAL
C30: =JUIN!V70 -> 0 | G30: =DÉCEMBRE!V72 -> 0
A33: PARAMÈTRES | E33: GRAPHIQUE

Sheet JANVIER
A1: MOIS : | B1: 1 | U1: < | V1: RETOUR | W1: >
A2: ANNÉE : | B2: =PARAMÈTRES!B3 -> 2020
D4: =CONCATENATE(D5," - ",B2) -> JANVIER - 2020
D5: =IF(B1=1,"JANVIER",IF(B1=2,"FÉVRIER",IF(B1=3,"MARS",IF(B1=4,"AVRIL",IF(B1=5,"MAI",IF(B1=6,"JUIN",IF(B1=7,"JUILLET",IF(B1=8,"AOÛT",IF(B1=9,"SEPTEMBRE",IF(B1=10,"OCTOBRE",IF(B1=11,"NOVEMBRE",IF(B1=12,"DÉCEMBRE","")))))))))))) -> JANVIER
D7: STATUT | F7: ARRIVÉE | H7: DÉPART | J7: ARRIVÉE | L7: DÉPART | N7: ARRIVÉE | P7: DÉPART | R7: ARRIVÉE | T7: DÉPART | V7: TOTAL H./J. | X7: SUPP./NEGG.
A9: =DATE($B$2,$B$1,1) -> 43831 | B9: =DATE($B$2,$B$1,1) -> 43831 | V9: =IF(L9="","",H9-F9+L9-J9+P9-N9+T9-R9) | X9: =IFERROR(IF(V9<PARAMÈTRES!$B$5,PARAMÈTRES!B5-V9,V9-PARAMÈTRES!$B$5),0) -> 0
A11: =IF(A9="","",IF(MONTH(A9+1)=MONTH(A9),A9+1,"")) -> 43832 | B11: =IF(A9="","",IF(MONTH(A9+1)=MONTH(A9),A9+1,"")) -> 43832 | V11: =IF(L11="","",H11-F11+L11-J11+P11-N11+T11-R11) | X11: =IFERROR(IF(V11<PARAMÈTRES!$B$5,PARAMÈTRES!B7-V11,V11-PARAMÈTRES!$B$5),0) -> 0
A13: =IF(A11="","",IF(MONTH(A11+1)=MONTH(A11),A11+1,"")) -> 43833 | B13: =IF(A11="","",IF(MONTH(A11+1)=MONTH(A11),A11+1,"")) -> 43833 | V13: =IF(L13="","",H13-F13+L13-J13+P13-N13+T13-R13) | X13: =IFERROR(IF(V13<PARAMÈTRES!$B$5,PARAMÈTRES!B9-V13,V13-PARAMÈTRES!$B$5),0) -> 0
A15: =IF(A13="","",IF(MONTH(A13+1)=MONTH(A13),A13+1,"")) -> 43834 | B15: =IF(A13="","",IF(MONTH(A13+1)=MONTH(A13),A13+1,"")) -> 43834 | V15: =IF(L15="","",H15-F15+L15-J15+P15-N15+T15-R15) | X15: =IFERROR(IF(V15<PARAMÈTRES!$B$5,PARAMÈTRES!B11-V15,V15-PARAMÈTRES!$B$5),0) -> 0
A17: =IF(A15="","",IF(MONTH(A15+1)=MONTH(A15),A15+1,"")) -> 43835 | B17: =IF(A15="","",IF(MONTH(A15+1)=MONTH(A15),A15+1,"")) -> 43835 | V17: =IF(L17="","",H17-F17+L17-J17+P17-N17+T17-R17) | X17: =IFERROR(IF(V17<PARAMÈTRES!$B$5,PARAMÈTRES!B13-V17,V17-PARAMÈTRES!$B$5),0) -> 0
A19: =IF(A17="","",IF(MONTH(A17+1)=MONTH(A17),A17+1,"")) -> 43836 | B19: =IF(A17="","",IF(MONTH(A17+1)=MONTH(A17),A17+1,"")) -> 43836 | V19: =IF(L19="","",H19-F19+L19-J19+P19-N19+T19-R19) | X19: =IFERROR(IF(V19<PARAMÈTRES!$B$5,PARAMÈTRES!B15-V19,V19-PARAMÈTRES!$B$5),0) -> 0
A21: =IF(A19="","",IF(MONTH(A19+1)=MONTH(A19),A19+1,"")) -> 43837 | B21: =IF(A19="","",IF(MONTH(A19+1)=MONTH(A19),A19+1,"")) -> 43837 | V21: =IF(L21="","",H21-F21+L21-J21+P21-N21+T21-R21) | X21: =IFERROR(IF(V21<PARAMÈTRES!$B$5,PARAMÈTRES!B17-V21,V21-PARAMÈTRES!$B$5),0) -> 0
A23: =IF(A21="","",IF(MONTH(A21+1)=MONTH(A21),A21+1,"")) -> 43838 | B23: =IF(A21="","",IF(MONTH(A21+1)=MONTH(A21),A21+1,"")) -> 43838 | V23: =IF(L23="","",H23-F23+L23-J23+P23-N23+T23-R23) | X23: =IFERROR(IF(V23<PARAMÈTRES!$B$5,PARAMÈTRES!B19-V23,V23-PARAMÈTRES!$B$5),0) -> 0
A25: =IF(A23="","",IF(MONTH(A23+1)=MONTH(A23),A23+1,"")) -> 43839 | B25: =IF(A23="","",IF(MONTH(A23+1)=MONTH(A23),A23+1,"")) -> 43839 | V25: =IF(L25="","",H25-F25+L25-J25+P25-N25+T25-R25) | X25: =IFERROR(IF(V25<PARAMÈTRES!$B$5,PARAMÈTRES!B21-V25,V25-PARAMÈTRES!$B$5),0) -> 0
A27: =IF(A25="","",IF(MONTH(A25+1)=MONTH(A25),A25+1,"")) -> 43840 | B27: =IF(A25="","",IF(MONTH(A25+1)=MONTH(A25),A25+1,"")) -> 43840 | V27: =IF(L27="","",H27-F27+L27-J27+P27-N27+T27-R27) | X27: =IFERROR(IF(V27<PARAMÈTRES!$B$5,PARAMÈTRES!B23-V27,V27-PARAMÈTRES!$B$5),0) -> 0
A29: =IF(A27="","",IF(MONTH(A27+1)=MONTH(A27),A27+1,"")) -> 43841 | B29: =IF(A27="","",IF(MONTH(A27+1)=MONTH(A27),A27+1,"")) -> 43841 | V29: =IF(L29="","",H29-F29+L29-J29+P29-N29+T29-R29) | X29: =IFERROR(IF(V29<PARAMÈTRES!$B$5,PARAMÈTRES!B25-V29,V29-PARAMÈTRES!$B$5),0) -> 0
A31: =IF(A29="","",IF(MONTH(A29+1)=MONTH(A29),A29+1,"")) -> 43842 | B31: =IF(A29="","",IF(MONTH(A29+1)=MONTH(A29),A29+1,"")) -> 43842 | V31: =IF(L31="","",H31-F31+L31-J31+P31-N31+T31-R31) | X31: =IFERROR(IF(V31<PARAMÈTRES!$B$5,PARAMÈTRES!B27-V31,V31-PARAMÈTRES!$B$5),0) -> 0
A33: =IF(A31="","",IF(MONTH(A31+1)=MONTH(A31),A31+1,"")) -> 43843 | B33: =IF(A31="","",IF(MONTH(A31+1)=MONTH(A31),A31+1,"")) -> 43843 | V33: =IF(L33="","",H33-F33+L33-J33+P33-N33+T33-R33) | X33: =IFERROR(IF(V33<PARAMÈTRES!$B$5,PARAMÈTRES!B29-V33,V33-PARAMÈTRES!$B$5),0) -> 0
... A69: =IF(A67="","",IF(MONTH(A67+1)=MONTH(A67),A67+1,"")) -> 43861 | B69: =IF(A67="","",IF(MONTH(A67+1)=MONTH(A67),A67+1,"")) -> 43861 | V69: =IF(L69="","",H69-F69+L69-J69+P69-N69+T69-R69) | X69: =IFERROR(IF(V69<PARAMÈTRES!$B$5,PARAMÈTRES!B65-V69,V69-PARAMÈTRES!$B$5),0) -> 0
T72: TOTAL MOIS | V72: =SUM(V9,V11,V13,V15,V17,V19,V21,V23,V25,V27,V29,V31,V33,V35,V37,V39,V41,V43,V45,V47,V49,V51,V53,V55,V57,V59,V61,V63,V65,V67,V69) -> 0

Sheet FÉVRIER
A1: MOIS : | B1: 2 | U1: < | V1: RETOUR | W1: >
A2: ANNÉE : | B2: =PARAMÈTRES!B3 -> 2020
D4: =CONCATENATE(D5," - ",B2) -> FÉVRIER - 2020
D5: =IF(B1=1,"JANVIER",IF(B1=2,"FÉVRIER",IF(B1=3,"MARS",IF(B1=4,"AVRIL",IF(B1=5,"MAI",IF(B1=6,"JUIN",IF(B1=7,"JUILLET",IF(B1=8,"AOÛT",IF(B1=9,"SEPTEMBRE",IF(B1=10,"OCTOBRE",IF(B1=11,"NOVEMBRE",IF(B1=12,"DÉCEMBRE","")))))))))))) -> FÉVRIER
D7: STATUT | F7: ARRIVÉE | H7: DÉPART | J7: ARRIVÉE | L7: DÉPART | N7: ARRIVÉE | P7: DÉPART | R7: ARRIVÉE | T7: DÉPART | V7: TOTAL H./J. | X7: SUPP./NEGG.
A9: =DATE($B$2,$B$1,1) -> 43862 | B9: =DATE($B$2,$B$1,1) -> 43862 | V9: =IF(L9="","",H9-F9+L9-J9+P9-N9+T9-R9) | X9: =IFERROR(IF(V9<PARAMÈTRES!$B$5,PARAMÈTRES!B5-V9,V9-PARAMÈTRES!$B$5),0) -> 0
A11: =IF(A9="","",IF(MONTH(A9+1)=MONTH(A9),A9+1,"")) -> 43863 | B11: =IF(A9="","",IF(MONTH(A9+1)=MONTH(A9),A9+1,"")) -> 43863 | V11: =IF(L11="","",H11-F11+L11-J11+P11-N11+T11-R11) | X11: =IFERROR(IF(V11<PARAMÈTRES!$B$5,PARAMÈTRES!B7-V11,V11-PARAMÈTRES!$B$5),0) -> 0
A13: =IF(A11="","",IF(MONTH(A11+1)=MONTH(A11),A11+1,"")) -> 43864 | B13: =IF(A11="","",IF(MONTH(A11+1)=MONTH(A11),A11+1,"")) -> 43864 | V13: =IF(L13="","",H13-F13+L13-J13+P13-N13+T13-R13) | X13: =IFERROR(IF(V13<PARAMÈTRES!$B$5,PARAMÈTRES!B9-V13,V13-PARAMÈTRES!$B$5),0) -> 0
A15: =IF(A13="","",IF(MONTH(A13+1)=MONTH(A13),A13+1,"")) -> 43865 | B15: =IF(A13="","",IF(MONTH(A13+1)=MONTH(A13),A13+1,"")) -> 43865 | V15: =IF(L15="","",H15-F15+L15-J15+P15-N15+T15-R15) | X15: =IFERROR(IF(V15<PARAMÈTRES!$B$5,PARAMÈTRES!B11-V15,V15-PARAMÈTRES!$B$5),0) -> 0
A17: =IF(A15="","",IF(MONTH(A15+1)=MONTH(A15),A15+1,"")) -> 43866 | B17: =IF(A15="","",IF(MONTH(A15+1)=MONTH(A15),A15+1,"")) -> 43866 | V17: =IF(L17="","",H17-F17+L17-J17+P17-N17+T17-R17) | X17: =IFERROR(IF(V17<PARAMÈTRES!$B$5,PARAMÈTRES!B13-V17,V17-PARAMÈTRES!$B$5),0) -> 0
A19: =IF(A17="","",IF(MONTH(A17+1)=MONTH(A17),A17+1,"")) -> 43867 | B19: =IF(A17="","",IF(MONTH(A17+1)=MONTH(A17),A17+1,"")) -> 43867 | V19: =IF(L19="","",H19-F19+L19-J19+P19-N19+T19-R19) | X19: =IFERROR(IF(V19<PARAMÈTRES!$B$5,PARAMÈTRES!B15-V19,V19-PARAMÈTRES!$B$5),0) -> 0
A21: =IF(A19="","",IF(MONTH(A19+1)=MONTH(A19),A19+1,"")) -> 43868 | B21: =IF(A19="","",IF(MONTH(A19+1)=MONTH(A19),A19+1,"")) -> 43868 | V21: =IF(L21="","",H21-F21+L21-J21+P21-N21+T21-R21) | X21: =IFERROR(IF(V21<PARAMÈTRES!$B$5,PARAMÈTRES!B17-V21,V21-PARAMÈTRES!$B$5),0) -> 0
A23: =IF(A21="","",IF(MONTH(A21+1)=MONTH(A21),A21+1,"")) -> 43869 | B23: =IF(A21="","",IF(MONTH(A21+1)=MONTH(A21),A21+1,"")) -> 43869 | V23: =IF(L23="","",H23-F23+L23-J23+P23-N23+T23-R23) | X23: =IFERROR(IF(V23<PARAMÈTRES!$B$5,PARAMÈTRES!B19-V23,V23-PARAMÈTRES!$B$5),0) -> 0
A25: =IF(A23="","",IF(MONTH(A23+1)=MONTH(A23),A23+1,"")) -> 43870 | B25: =IF(A23="","",IF(MONTH(A23+1)=MONTH(A23),A23+1,"")) -> 43870 | V25: =IF(L25="","",H25-F25+L25-J25+P25-N25+T25-R25) | X25: =IFERROR(IF(V25<PARAMÈTRES!$B$5,PARAMÈTRES!B21-V25,V25-PARAMÈTRES!$B$5),0) -> 0
A27: =IF(A25="","",IF(MONTH(A25+1)=MONTH(A25),A25+1,"")) -> 43871 | B27: =IF(A25="","",IF(MONTH(A25+1)=MONTH(A25),A25+1,"")) -> 43871 | V27: =IF(L27="","",H27-F27+L27-J27+P27-N27+T27-R27) | X27: =IFERROR(IF(V27<PARAMÈTRES!$B$5,PARAMÈTRES!B23-V27,V27-PARAMÈTRES!$B$5),0) -> 0
A29: =IF(A27="","",IF(MONTH(A27+1)=MONTH(A27),A27+1,"")) -> 43872 | B29: =IF(A27="","",IF(MONTH(A27+1)=MONTH(A27),A27+1,"")) -> 43872 | V29: =IF(L29="","",H29-F29+L29-J29+P29-N29+T29-R29) | X29: =IFERROR(IF(V29<PARAMÈTRES!$B$5,PARAMÈTRES!B25-V29,V29-PARAMÈTRES!$B$5),0) -> 0
A31: =IF(A29="","",IF(MONTH(A29+1)=MONTH(A29),A29+1,"")) -> 43873 | B31: =IF(A29="","",IF(MONTH(A29+1)=MONTH(A29),A29+1,"")) -> 43873 | V31: =IF(L31="","",H31-F31+L31-J31+P31-N31+T31-R31) | X31: =IFERROR(IF(V31<PARAMÈTRES!$B$5,PARAMÈTRES!B27-V31,V31-PARAMÈTRES!$B$5),0) -> 0
A33: =IF(A31="","",IF(MONTH(A31+1)=MONTH(A31),A31+1,"")) -> 43874 | B33: =IF(A31="","",IF(MONTH(A31+1)=MONTH(A31),A31+1,"")) -> 43874 | V33: =IF(L33="","",H33-F33+L33-J33+P33-N33+T33-R33) | X33: =IFERROR(IF(V33<PARAMÈTRES!$B$5,PARAMÈTRES!B29-V33,V33-PARAMÈTRES!$B$5),0) -> 0
... A65: =IF(A63="","",IF(MONTH(A63+1)=MONTH(A63),A63+1,"")) -> 43890 | B65: =IF(A63="","",IF(MONTH(A63+1)=MONTH(A63),A63+1,"")) -> 43890 | V65: =IF(L65="","",H65-F65+L65-J65+P65-N65+T65-R65) | X65: =IFERROR(IF(V65<PARAMÈTRES!$B$5,PARAMÈTRES!B61-V65,V65-PARAMÈTRES!$B$5),0) -> 0
T68: TOTAL MOIS | V68: =SUM(V9,V11,V13,V15,V17,V19,V21,V23,V25,V27,V29,V31,V33,V35,V37,V39,V41,V43,V45,V47,V49,V51,V53,V55,V57,V59,V61,V63,V65) -> 0

Sheet MARS
A1: MOIS : | B1: 3 | U1: < | V1: RETOUR | W1: >
A2: ANNÉE : | B2: =PARAMÈTRES!B3 -> 2020
D4: =CONCATENATE(D5," - ",B2) -> MARS - 2020
D5: =IF(B1=1,"JANVIER",IF(B1=2,"FÉVRIER",IF(B1=3,"MARS",IF(B1=4,"AVRIL",IF(B1=5,"MAI",IF(B1=6,"JUIN",IF(B1=7,"JUILLET",IF(B1=8,"AOÛT",IF(B1=9,"SEPTEMBRE",IF(B1=10,"OCTOBRE",IF(B1=11,"NOVEMBRE",IF(B1=12,"DÉCEMBRE","")))))))))))) -> MARS
D7: STATUT | F7: ARRIVÉE | H7: DÉPART | J7: ARRIVÉE | L7: DÉPART | N7: ARRIVÉE | P7: DÉPART | R7: ARRIVÉE | T7: DÉPART | V7: TOTAL H./J. | X7: SUPP./NEGG.
A9: =DATE($B$2,$B$1,1) -> 43891 | B9: =DATE($B$2,$B$1,1) -> 43891 | V9: =IF(L9="","",H9-F9+L9-J9+P9-N9+T9-R9) | X9: =IFERROR(IF(V9<PARAMÈTRES!$B$5,PARAMÈTRES!B5-V9,V9-PARAMÈTRES!$B$5),0) -> 0
A11: =IF(A9="","",IF(MONTH(A9+1)=MONTH(A9),A9+1,"")) -> 43892 | B11: =IF(A9="","",IF(MONTH(A9+1)=MONTH(A9),A9+1,"")) -> 43892 | V11: =IF(L11="","",H11-F11+L11-J11+P11-N11+T11-R11) | X11: =IFERROR(IF(V11<PARAMÈTRES!$B$5,PARAMÈTRES!B7-V11,V11-PARAMÈTRES!$B$5),0) -> 0
A13: =IF(A11="","",IF(MONTH(A11+1)=MONTH(A11),A11+1,"")) -> 43893 | B13: =IF(A11="","",IF(MONTH(A11+1)=MONTH(A11),A11+1,"")) -> 43893 | V13: =IF(L13="","",H13-F13+L13-J13+P13-N13+T13-R13) | X13: =IFERROR(IF(V13<PARAMÈTRES!$B$5,PARAMÈTRES!B9-V13,V13-PARAMÈTRES!$B$5),0) -> 0
A15: =IF(A13="","",IF(MONTH(A13+1)=MONTH(A13),A13+1,"")) -> 43894 | B15: =IF(A13="","",IF(MONTH(A13+1)=MONTH(A13),A13+1,"")) -> 43894 | V15: =IF(L15="","",H15-F15+L15-J15+P15-N15+T15-R15) | X15: =IFERROR(IF(V15<PARAMÈTRES!$B$5,PARAMÈTRES!B11-V15,V15-PARAMÈTRES!$B$5),0) -> 0
A17: =IF(A15="","",IF(MONTH(A15+1)=MONTH(A15),A15+1,"")) -> 43895 | B17: =IF(A15="","",IF(MONTH(A15+1)=MONTH(A15),A15+1,"")) -> 43895 | V17: =IF(L17="","",H17-F17+L17-J17+P17-N17+T17-R17) | X17: =IFERROR(IF(V17<PARAMÈTRES!$B$5,PARAMÈTRES!B13-V17,V17-PARAMÈTRES!$B$5),0) -> 0
A19: =IF(A17="","",IF(MONTH(A17+1)=MONTH(A17),A17+1,"")) -> 43896 | B19: =IF(A17="","",IF(MONTH(A17+1)=MONTH(A17),A17+1,"")) -> 43896 | V19: =IF(L19="","",H19-F19+L19-J19+P19-N19+T19-R19) | X19: =IFERROR(IF(V19<PARAMÈTRES!$B$5,PARAMÈTRES!B15-V19,V19-PARAMÈTRES!$B$5),0) -> 0
A21: =IF(A19="","",IF(MONTH(A19+1)=MONTH(A19),A19+1,"")) -> 43897 | B21: =IF(A19="","",IF(MONTH(A19+1)=MONTH(A19),A19+1,"")) -> 43897 | V21: =IF(L21="","",H21-F21+L21-J21+P21-N21+T21-R21) | X21: =IFERROR(IF(V21<PARAMÈTRES!$B$5,PARAMÈTRES!B17-V21,V21-PARAMÈTRES!$B$5),0) -> 0
A23: =IF(A21="","",IF(MONTH(A21+1)=MONTH(A21),A21+1,"")) -> 43898 | B23: =IF(A21="","",IF(MONTH(A21+1)=MONTH(A21),A21+1,"")) -> 43898 | V23: =IF(L23="","",H23-F23+L23-J23+P23-N23+T23-R23) | X23: =IFERROR(IF(V23<PARAMÈTRES!$B$5,PARAMÈTRES!B19-V23,V23-PARAMÈTRES!$B$5),0) -> 0
A25: =IF(A23="","",IF(MONTH(A23+1)=MONTH(A23),A23+1,"")) -> 43899 | B25: =IF(A23="","",IF(MONTH(A23+1)=MONTH(A23),A23+1,"")) -> 43899 | V25: =IF(L25="","",H25-F25+L25-J25+P25-N25+T25-R25) | X25: =IFERROR(IF(V25<PARAMÈTRES!$B$5,PARAMÈTRES!B21-V25,V25-PARAMÈTRES!$B$5),0) -> 0
A27: =IF(A25="","",IF(MONTH(A25+1)=MONTH(A25),A25+1,"")) -> 43900 | B27: =IF(A25="","",IF(MONTH(A25+1)=MONTH(A25),A25+1,"")) -> 43900 | V27: =IF(L27="","",H27-F27+L27-J27+P27-N27+T27-R27) | X27: =IFERROR(IF(V27<PARAMÈTRES!$B$5,PARAMÈTRES!B23-V27,V27-PARAMÈTRES!$B$5),0) -> 0
A29: =IF(A27="","",IF(MONTH(A27+1)=MONTH(A27),A27+1,"")) -> 43901 | B29: =IF(A27="","",IF(MONTH(A27+1)=MONTH(A27),A27+1,"")) -> 43901 | V29: =IF(L29="","",H29-F29+L29-J29+P29-N29+T29-R29) | X29: =IFERROR(IF(V29<PARAMÈTRES!$B$5,PARAMÈTRES!B25-V29,V29-PARAMÈTRES!$B$5),0) -> 0
A31: =IF(A29="","",IF(MONTH(A29+1)=MONTH(A29),A29+1,"")) -> 43902 | B31: =IF(A29="","",IF(MONTH(A29+1)=MONTH(A29),A29+1,"")) -> 43902 | V31: =IF(L31="","",H31-F31+L31-J31+P31-N31+T31-R31) | X31: =IFERROR(IF(V31<PARAMÈTRES!$B$5,PARAMÈTRES!B27-V31,V31-PARAMÈTRES!$B$5),0) -> 0
A33: =IF(A31="","",IF(MONTH(A31+1)=MONTH(A31),A31+1,"")) -> 43903 | B33: =IF(A31="","",IF(MONTH(A31+1)=MONTH(A31),A31+1,"")) -> 43903 | V33: =IF(L33="","",H33-F33+L33-J33+P33-N33+T33-R33) | X33: =IFERROR(IF(V33<PARAMÈTRES!$B$5,PARAMÈTRES!B29-V33,V33-PARAMÈTRES!$B$5),0) -> 0
... A69: =IF(A67="","",IF(MONTH(A67+1)=MONTH(A67),A67+1,"")) -> 43921 | B69: =IF(A67="","",IF(MONTH(A67+1)=MONTH(A67),A67+1,"")) -> 43921 | V69: =IF(L69="","",H69-F69+L69-J69+P69-N69+T69-R69) | X69: =IFERROR(IF(V69<PARAMÈTRES!$B$5,PARAMÈTRES!B65-V69,V69-PARAMÈTRES!$B$5),0) -> 0
T72: TOTAL MOIS | V72: =SUM(V9,V11,V13,V15,V17,V19,V21,V23,V25,V27,V29,V31,V33,V35,V37,V39,V41,V43,V45,V47,V49,V51,V53,V55,V57,V59,V61,V63,V65,V67,V69) -> 0

Sheet AVRIL
A1: MOIS : | B1: 4 | U1: < | V1: RETOUR | W1: >
A2: ANNÉE : | B2: =PARAMÈTRES!B3 -> 2020
D4: =CONCATENATE(D5," - ",B2) -> AVRIL - 2020
D5: =IF(B1=1,"JANVIER",IF(B1=2,"FÉVRIER",IF(B1=3,"MARS",IF(B1=4,"AVRIL",IF(B1=5,"MAI",IF(B1=6,"JUIN",IF(B1=7,"JUILLET",IF(B1=8,"AOÛT",IF(B1=9,"SEPTEMBRE",IF(B1=10,"OCTOBRE",IF(B1=11,"NOVEMBRE",IF(B1=12,"DÉCEMBRE","")))))))))))) -> AVRIL
D7: STATUT | F7: ARRIVÉE | H7: DÉPART | J7: ARRIVÉE | L7: DÉPART | N7: ARRIVÉE | P7: DÉPART | R7: ARRIVÉE | T7: DÉPART | V7: TOTAL H./J. | X7: SUPP./NEGG.
A9: =DATE($B$2,$B$1,1) -> 43922 | B9: =DATE($B$2,$B$1,1) -> 43922 | V9: =IF(L9="","",H9-F9+L9-J9+P9-N9+T9-R9) | X9: =IFERROR(IF(V9<PARAMÈTRES!$B$5,PARAMÈTRES!B5-V9,V9-PARAMÈTRES!$B$5),0) -> 0
A11: =IF(A9="","",IF(MONTH(A9+1)=MONTH(A9),A9+1,"")) -> 43923 | B11: =IF(A9="","",IF(MONTH(A9+1)=MONTH(A9),A9+1,"")) -> 43923 | V11: =IF(L11="","",H11-F11+L11-J11+P11-N11+T11-R11) | X11: =IFERROR(IF(V11<PARAMÈTRES!$B$5,PARAMÈTRES!B7-V11,V11-PARAMÈTRES!$B$5),0) -> 0
A13: =IF(A11="","",IF(MONTH(A11+1)=MONTH(A11),A11+1,"")) -> 43924 | B13: =IF(A11="","",IF(MONTH(A11+1)=MONTH(A11),A11+1,"")) -> 43924 | V13: =IF(L13="","",H13-F13+L13-J13+P13-N13+T13-R13) | X13: =IFERROR(IF(V13<PARAMÈTRES!$B$5,PARAMÈTRES!B9-V13,V13-PARAMÈTRES!$B$5),0) -> 0
A15: =IF(A13="","",IF(MONTH(A13+1)=MONTH(A13),A13+1,"")) -> 43925 | B15: =IF(A13="","",IF(MONTH(A13+1)=MONTH(A13),A13+1,"")) -> 43925 | V15: =IF(L15="","",H15-F15+L15-J15+P15-N15+T15-R15) | X15: =IFERROR(IF(V15<PARAMÈTRES!$B$5,PARAMÈTRES!B11-V15,V15-PARAMÈTRES!$B$5),0) -> 0
A17: =IF(A15="","",IF(MONTH(A15+1)=MONTH(A15),A15+1,"")) -> 43926 | B17: =IF(A15="","",IF(MONTH(A15+1)=MONTH(A15),A15+1,"")) -> 43926 | V17: =IF(L17="","",H17-F17+L17-J17+P17-N17+T17-R17) | X17: =IFERROR(IF(V17<PARAMÈTRES!$B$5,PARAMÈTRES!B13-V17,V17-PARAMÈTRES!$B$5),0) -> 0
A19: =IF(A17="","",IF(MONTH(A17+1)=MONTH(A17),A17+1,"")) -> 43927 | B19: =IF(A17="","",IF(MONTH(A17+1)=MONTH(A17),A17+1,"")) -> 43927 | V19: =IF(L19="","",H19-F19+L19-J19+P19-N19+T19-R19) | X19: =IFERROR(IF(V19<PARAMÈTRES!$B$5,PARAMÈTRES!B15-V19,V19-PARAMÈTRES!$B$5),0) -> 0
A21: =IF(A19="","",IF(MONTH(A19+1)=MONTH(A19),A19+1,"")) -> 43928 | B21: =IF(A19="","",IF(MONTH(A19+1)=MONTH(A19),A19+1,"")) -> 43928 | V21: =IF(L21="","",H21-F21+L21-J21+P21-N21+T21-R21) | X21: =IFERROR(IF(V21<PARAMÈTRES!$B$5,PARAMÈTRES!B17-V21,V21-PARAMÈTRES!$B$5),0) -> 0
A23: =IF(A21="","",IF(MONTH(A21+1)=MONTH(A21),A21+1,"")) -> 43929 | B23: =IF(A21="","",IF(MONTH(A21+1)=MONTH(A21),A21+1,"")) -> 43929 | V23: =IF(L23="","",H23-F23+L23-J23+P23-N23+T23-R23) | X23: =IFERROR(IF(V23<PARAMÈTRES!$B$5,PARAMÈTRES!B19-V23,V23-PARAMÈTRES!$B$5),0) -> 0
A25: =IF(A23="","",IF(MONTH(A23+1)=MONTH(A23),A23+1,"")) -> 43930 | B25: =IF(A23="","",IF(MONTH(A23+1)=MONTH(A23),A23+1,"")) -> 43930 | V25: =IF(L25="","",H25-F25+L25-J25+P25-N25+T25-R25) | X25: =IFERROR(IF(V25<PARAMÈTRES!$B$5,PARAMÈTRES!B21-V25,V25-PARAMÈTRES!$B$5),0) -> 0
A27: =IF(A25="","",IF(MONTH(A25+1)=MONTH(A25),A25+1,"")) -> 43931 | B27: =IF(A25="","",IF(MONTH(A25+1)=MONTH(A25),A25+1,"")) -> 43931 | V27: =IF(L27="","",H27-F27+L27-J27+P27-N27+T27-R27) | X27: =IFERROR(IF(V27<PARAMÈTRES!$B$5,PARAMÈTRES!B23-V27,V27-PARAMÈTRES!$B$5),0) -> 0
A29: =IF(A27="","",IF(MONTH(A27+1)=MONTH(A27),A27+1,"")) -> 43932 | B29: =IF(A27="","",IF(MONTH(A27+1)=MONTH(A27),A27+1,"")) -> 43932 | V29: =IF(L29="","",H29-F29+L29-J29+P29-N29+T29-R29) | X29: =IFERROR(IF(V29<PARAMÈTRES!$B$5,PARAMÈTRES!B25-V29,V29-PARAMÈTRES!$B$5),0) -> 0
A31: =IF(A29="","",IF(MONTH(A29+1)=MONTH(A29),A29+1,"")) -> 43933 | B31: =IF(A29="","",IF(MONTH(A29+1)=MONTH(A29),A29+1,"")) -> 43933 | V31: =IF(L31="","",H31-F31+L31-J31+P31-N31+T31-R31) | X31: =IFERROR(IF(V31<PARAMÈTRES!$B$5,PARAMÈTRES!B27-V31,V31-PARAMÈTRES!$B$5),0) -> 0
A33: =IF(A31="","",IF(MONTH(A31+1)=MONTH(A31),A31+1,"")) -> 43934 | B33: =IF(A31="","",IF(MONTH(A31+1)=MONTH(A31),A31+1,"")) -> 43934 | V33: =IF(L33="","",H33-F33+L33-J33+P33-N33+T33-R33) | X33: =IFERROR(IF(V33<PARAMÈTRES!$B$5,PARAMÈTRES!B29-V33,V33-PARAMÈTRES!$B$5),0) -> 0
... A67: =IF(A65="","",IF(MONTH(A65+1)=MONTH(A65),A65+1,"")) -> 43951 | B67: =IF(A65="","",IF(MONTH(A65+1)=MONTH(A65),A65+1,"")) -> 43951 | V67: =IF(L67="","",H67-F67+L67-J67+P67-N67+T67-R67) | X67: =IFERROR(IF(V67<PARAMÈTRES!$B$5,PARAMÈTRES!B63-V67,V67-PARAMÈTRES!$B$5),0) -> 0
T70: TOTAL MOIS | V70: =SUM(V9,V11,V13,V15,V17,V19,V21,V23,V25,V27,V29,V31,V33,V35,V37,V39,V41,V43,V45,V47,V49,V51,V53,V55,V57,V59,V61,V63,V65,V67) -> 0

Sheet MAI
A1: MOIS : | B1: 5 | U1: < | V1: RETOUR | W1: >
A2: ANNÉE : | B2: =PARAMÈTRES!B3 -> 2020
D4: =CONCATENATE(D5," - ",B2) -> MAI - 2020
D5: =IF(B1=1,"JANVIER",IF(B1=2,"FÉVRIER",IF(B1=3,"MARS",IF(B1=4,"AVRIL",IF(B1=5,"MAI",IF(B1=6,"JUIN",IF(B1=7,"JUILLET",IF(B1=8,"AOÛT",IF(B1=9,"SEPTEMBRE",IF(B1=10,"OCTOBRE",IF(B1=11,"NOVEMBRE",IF(B1=12,"DÉCEMBRE","")))))))))))) -> MAI
D7: STATUT | F7: ARRIVÉE | H7: DÉPART | J7: ARRIVÉE | L7: DÉPART | N7: ARRIVÉE | P7: DÉPART | R7: ARRIVÉE | T7: DÉPART | V7: TOTAL H./J. | X7: SUPP./NEGG.
A9: =DATE($B$2,$B$1,1) -> 43952 | B9: =DATE($B$2,$B$1,1) -> 43952 | V9: =IF(L9="","",H9-F9+L9-J9+P9-N9+T9-R9) | X9: =IFERROR(IF(V9<PARAMÈTRES!$B$5,PARAMÈTRES!B5-V9,V9-PARAMÈTRES!$B$5),0) -> 0
A11: =IF(A9="","",IF(MONTH(A9+1)=MONTH(A9),A9+1,"")) -> 43953 | B11: =IF(A9="","",IF(MONTH(A9+1)=MONTH(A9),A9+1,"")) -> 43953 | V11: =IF(L11="","",H11-F11+L11-J11+P11-N11+T11-R11) | X11: =IFERROR(IF(V11<PARAMÈTRES!$B$5,PARAMÈTRES!B7-V11,V11-PARAMÈTRES!$B$5),0) -> 0
A13: =IF(A11="","",IF(MONTH(A11+1)=MONTH(A11),A11+1,"")) -> 43954 | B13: =IF(A11="","",IF(MONTH(A11+1)=MONTH(A11),A11+1,"")) -> 43954 | V13: =IF(L13="","",H13-F13+L13-J13+P13-N13+T13-R13) | X13: =IFERROR(IF(V13<PARAMÈTRES!$B$5,PARAMÈTRES!B9-V13,V13-PARAMÈTRES!$B$5),0) -> 0
A15: =IF(A13="","",IF(MONTH(A13+1)=MONTH(A13),A13+1,"")) -> 43955 | B15: =IF(A13="","",IF(MONTH(A13+1)=MONTH(A13),A13+1,"")) -> 43955 | V15: =IF(L15="","",H15-F15+L15-J15+P15-N15+T15-R15) | X15: =IFERROR(IF(V15<PARAMÈTRES!$B$5,PARAMÈTRES!B11-V15,V15-PARAMÈTRES!$B$5),0) -> 0
A17: =IF(A15="","",IF(MONTH(A15+1)=MONTH(A15),A15+1,"")) -> 43956 | B17: =IF(A15="","",IF(MONTH(A15+1)=MONTH(A15),A15+1,"")) -> 43956 | V17: =IF(L17="","",H17-F17+L17-J17+P17-N17+T17-R17) | X17: =IFERROR(IF(V17<PARAMÈTRES!$B$5,PARAMÈTRES!B13-V17,V17-PARAMÈTRES!$B$5),0) -> 0
A19: =IF(A17="","",IF(MONTH(A17+1)=MONTH(A17),A17+1,"")) -> 43957 | B19: =IF(A17="","",IF(MONTH(A17+1)=MONTH(A17),A17+1,"")) -> 43957 | V19: =IF(L19="","",H19-F19+L19-J19+P19-N19+T19-R19) | X19: =IFERROR(IF(V19<PARAMÈTRES!$B$5,PARAMÈTRES!B15-V19,V19-PARAMÈTRES!$B$5),0) -> 0
A21: =IF(A19="","",IF(MONTH(A19+1)=MONTH(A19),A19+1,"")) -> 43958 | B21: =IF(A19="","",IF(MONTH(A19+1)=MONTH(A19),A19+1,"")) -> 43958 | V21: =IF(L21="","",H21-F21+L21-J21+P21-N21+T21-R21) | X21: =IFERROR(IF(V21<PARAMÈTRES!$B$5,PARAMÈTRES!B17-V21,V21-PARAMÈTRES!$B$5),0) -> 0
A23: =IF(A21="","",IF(MONTH(A21+1)=MONTH(A21),A21+1,"")) -> 43959 | B23: =IF(A21="","",IF(MONTH(A21+1)=MONTH(A21),A21+1,"")) -> 43959 | V23: =IF(L23="","",H23-F23+L23-J23+P23-N23+T23-R23) | X23: =IFERROR(IF(V23<PARAMÈTRES!$B$5,PARAMÈTRES!B19-V23,V23-PARAMÈTRES!$B$5),0) -> 0
A25: =IF(A23="","",IF(MONTH(A23+1)=MONTH(A23),A23+1,"")) -> 43960 | B25: =IF(A23="","",IF(MONTH(A23+1)=MONTH(A23),A23+1,"")) -> 43960 | V25: =IF(L25="","",H25-F25+L25-J25+P25-N25+T25-R25) | X25: =IFERROR(IF(V25<PARAMÈTRES!$B$5,PARAMÈTRES!B21-V25,V25-PARAMÈTRES!$B$5),0) -> 0
A27: =IF(A25="","",IF(MONTH(A25+1)=MONTH(A25),A25+1,"")) -> 43961 | B27: =IF(A25="","",IF(MONTH(A25+1)=MONTH(A25),A25+1,"")) -> 43961 | V27: =IF(L27="","",H27-F27+L27-J27+P27-N27+T27-R27) | X27: =IFERROR(IF(V27<PARAMÈTRES!$B$5,PARAMÈTRES!B23-V27,V27-PARAMÈTRES!$B$5),0) -> 0
A29: =IF(A27="","",IF(MONTH(A27+1)=MONTH(A27),A27+1,"")) -> 43962 | B29: =IF(A27="","",IF(MONTH(A27+1)=MONTH(A27),A27+1,"")) -> 43962 | V29: =IF(L29="","",H29-F29+L29-J29+P29-N29+T29-R29) | X29: =IFERROR(IF(V29<PARAMÈTRES!$B$5,PARAMÈTRES!B25-V29,V29-PARAMÈTRES!$B$5),0) -> 0
A31: =IF(A29="","",IF(MONTH(A29+1)=MONTH(A29),A29+1,"")) -> 43963 | B31: =IF(A29="","",IF(MONTH(A29+1)=MONTH(A29),A29+1,"")) -> 43963 | V31: =IF(L31="","",H31-F31+L31-J31+P31-N31+T31-R31) | X31: =IFERROR(IF(V31<PARAMÈTRES!$B$5,PARAMÈTRES!B27-V31,V31-PARAMÈTRES!$B$5),0) -> 0
A33: =IF(A31="","",IF(MONTH(A31+1)=MONTH(A31),A31+1,"")) -> 43964 | B33: =IF(A31="","",IF(MONTH(A31+1)=MONTH(A31),A31+1,"")) -> 43964 | V33: =IF(L33="","",H33-F33+L33-J33+P33-N33+T33-R33) | X33: =IFERROR(IF(V33<PARAMÈTRES!$B$5,PARAMÈTRES!B29-V33,V33-PARAMÈTRES!$B$5),0) -> 0
... A69: =IF(A67="","",IF(MONTH(A67+1)=MONTH(A67),A67+1,"")) -> 43982 | B69: =IF(A67="","",IF(MONTH(A67+1)=MONTH(A67),A67+1,"")) -> 43982 | V69: =IF(L69="","",H69-F69+L69-J69+P69-N69+T69-R69) | X69: =IFERROR(IF(V69<PARAMÈTRES!$B$5,PARAMÈTRES!B65-V69,V69-PARAMÈTRES!$B$5),0) -> 0
T72: TOTAL MOIS | V72: =SUM(V9,V11,V13,V15,V17,V19,V21,V23,V25,V27,V29,V31,V33,V35,V37,V39,V41,V43,V45,V47,V49,V51,V53,V55,V57,V59,V61,V63,V65,V67,V69) -> 0

Sheet JUIN
A1: MOIS : | B1: 6 | U1: < | V1: RETOUR | W1: >
A2: ANNÉE : | B2: =PARAMÈTRES!B3 -> 2020
D4: =CONCATENATE(D5," - ",B2) -> JUIN - 2020
D5: =IF(B1=1,"JANVIER",IF(B1=2,"FÉVRIER",IF(B1=3,"MARS",IF(B1=4,"AVRIL",IF(B1=5,"MAI",IF(B1=6,"JUIN",IF(B1=7,"JUILLET",IF(B1=8,"AOÛT",IF(B1=9,"SEPTEMBRE",IF(B1=10,"OCTOBRE",IF(B1=11,"NOVEMBRE",IF(B1=12,"DÉCEMBRE","")))))))))))) -> JUIN
D7: STATUT | F7: ARRIVÉE | H7: DÉPART | J7: ARRIVÉE | L7: DÉPART | N7: ARRIVÉE | P7: DÉPART | R7: ARRIVÉE | T7: DÉPART | V7: TOTAL H./J. | X7: SUPP./NEGG.
A9: =DATE($B$2,$B$1,1) -> 43983 | B9: =DATE($B$2,$B$1,1) -> 43983 | V9: =IF(L9="","",H9-F9+L9-J9+P9-N9+T9-R9) | X9: =IFERROR(IF(V9<PARAMÈTRES!$B$5,PARAMÈTRES!B5-V9,V9-PARAMÈTRES!$B$5),0) -> 0
A11: =IF(A9="","",IF(MONTH(A9+1)=MONTH(A9),A9+1,"")) -> 43984 | B11: =IF(A9="","",IF(MONTH(A9+1)=MONTH(A9),A9+1,"")) -> 43984 | V11: =IF(L11="","",H11-F11+L11-J11+P11-N11+T11-R11) | X11: =IFERROR(IF(V11<PARAMÈTRES!$B$5,PARAMÈTRES!B7-V11,V11-PARAMÈTRES!$B$5),0) -> 0
A13: =IF(A11="","",IF(MONTH(A11+1)=MONTH(A11),A11+1,"")) -> 43985 | B13: =IF(A11="","",IF(MONTH(A11+1)=MONTH(A11),A11+1,"")) -> 43985 | V13: =IF(L13="","",H13-F13+L13-J13+P13-N13+T13-R13) | X13: =IFERROR(IF(V13<PARAMÈTRES!$B$5,PARAMÈTRES!B9-V13,V13-PARAMÈTRES!$B$5),0) -> 0
A15: =IF(A13="","",IF(MONTH(A13+1)=MONTH(A13),A13+1,"")) -> 43986 | B15: =IF(A13="","",IF(MONTH(A13+1)=MONTH(A13),A13+1,"")) -> 43986 | V15: =IF(L15="","",H15-F15+L15-J15+P15-N15+T15-R15) | X15: =IFERROR(IF(V15<PARAMÈTRES!$B$5,PARAMÈTRES!B11-V15,V15-PARAMÈTRES!$B$5),0) -> 0
A17: =IF(A15="","",IF(MONTH(A15+1)=MONTH(A15),A15+1,"")) -> 43987 | B17: =IF(A15="","",IF(MONTH(A15+1)=MONTH(A15),A15+1,"")) -> 43987 | V17: =IF(L17="","",H17-F17+L17-J17+P17-N17+T17-R17) | X17: =IFERROR(IF(V17<PARAMÈTRES!$B$5,PARAMÈTRES!B13-V17,V17-PARAMÈTRES!$B$5),0) -> 0
A19: =IF(A17="","",IF(MONTH(A17+1)=MONTH(A17),A17+1,"")) -> 43988 | B19: =IF(A17="","",IF(MONTH(A17+1)=MONTH(A17),A17+1,"")) -> 43988 | V19: =IF(L19="","",H19-F19+L19-J19+P19-N19+T19-R19) | X19: =IFERROR(IF(V19<PARAMÈTRES!$B$5,PARAMÈTRES!B15-V19,V19-PARAMÈTRES!$B$5),0) -> 0
A21: =IF(A19="","",IF(MONTH(A19+1)=MONTH(A19),A19+1,"")) -> 43989 | B21: =IF(A19="","",IF(MONTH(A19+1)=MONTH(A19),A19+1,"")) -> 43989 | V21: =IF(L21="","",H21-F21+L21-J21+P21-N21+T21-R21) | X21: =IFERROR(IF(V21<PARAMÈTRES!$B$5,PARAMÈTRES!B17-V21,V21-PARAMÈTRES!$B$5),0) -> 0
A23: =IF(A21="","",IF(MONTH(A21+1)=MONTH(A21),A21+1,"")) -> 43990 | B23: =IF(A21="","",IF(MONTH(A21+1)=MONTH(A21),A21+1,"")) -> 43990 | V23: =IF(L23="","",H23-F23+L23-J23+P23-N23+T23-R23) | X23: =IFERROR(IF(V23<PARAMÈTRES!$B$5,PARAMÈTRES!B19-V23,V23-PARAMÈTRES!$B$5),0) -> 0
A25: =IF(A23="","",IF(MONTH(A23+1)=MONTH(A23),A23+1,"")) -> 43991 | B25: =IF(A23="","",IF(MONTH(A23+1)=MONTH(A23),A23+1,"")) -> 43991 | V25: =IF(L25="","",H25-F25+L25-J25+P25-N25+T25-R25) | X25: =IFERROR(IF(V25<PARAMÈTRES!$B$5,PARAMÈTRES!B21-V25,V25-PARAMÈTRES!$B$5),0) -> 0
A27: =IF(A25="","",IF(MONTH(A25+1)=MONTH(A25),A25+1,"")) -> 43992 | B27: =IF(A25="","",IF(MONTH(A25+1)=MONTH(A25),A25+1,"")) -> 43992 | V27: =IF(L27="","",H27-F27+L27-J27+P27-N27+T27-R27) | X27: =IFERROR(IF(V27<PARAMÈTRES!$B$5,PARAMÈTRES!B23-V27,V27-PARAMÈTRES!$B$5),0) -> 0
A29: =IF(A27="","",IF(MONTH(A27+1)=MONTH(A27),A27+1,"")) -> 43993 | B29: =IF(A27="","",IF(MONTH(A27+1)=MONTH(A27),A27+1,"")) -> 43993 | V29: =IF(L29="","",H29-F29+L29-J29+P29-N29+T29-R29) | X29: =IFERROR(IF(V29<PARAMÈTRES!$B$5,PARAMÈTRES!B25-V29,V29-PARAMÈTRES!$B$5),0) -> 0
A31: =IF(A29="","",IF(MONTH(A29+1)=MONTH(A29),A29+1,"")) -> 43994 | B31: =IF(A29="","",IF(MONTH(A29+1)=MONTH(A29),A29+1,"")) -> 43994 | V31: =IF(L31="","",H31-F31+L31-J31+P31-N31+T31-R31) | X31: =IFERROR(IF(V31<PARAMÈTRES!$B$5,PARAMÈTRES!B27-V31,V31-PARAMÈTRES!$B$5),0) -> 0
A33: =IF(A31="","",IF(MONTH(A31+1)=MONTH(A31),A31+1,"")) -> 43995 | B33: =IF(A31="","",IF(MONTH(A31+1)=MONTH(A31),A31+1,"")) -> 43995 | V33: =IF(L33="","",H33-F33+L33-J33+P33-N33+T33-R33) | X33: =IFERROR(IF(V33<PARAMÈTRES!$B$5,PARAMÈTRES!B29-V33,V33-PARAMÈTRES!$B$5),0) -> 0
... A67: =IF(A65="","",IF(MONTH(A65+1)=MONTH(A65),A65+1,"")) -> 44012 | B67: =IF(A65="","",IF(MONTH(A65+1)=MONTH(A65),A65+1,"")) -> 44012 | V67: =IF(L67="","",H67-F67+L67-J67+P67-N67+T67-R67) | X67: =IFERROR(IF(V67<PARAMÈTRES!$B$5,PARAMÈTRES!B63-V67,V67-PARAMÈTRES!$B$5),0) -> 0
T70: TOTAL MOIS | V70: =SUM(V9,V11,V13,V15,V17,V19,V21,V23,V25,V27,V29,V31,V33,V35,V37,V39,V41,V43,V45,V47,V49,V51,V53,V55,V57,V59,V61,V63,V65,V67) -> 0

Sheet JUILLET
A1: MOIS : | B1: 7 | U1: < | V1: RETOUR | W1: >
A2: ANNÉE : | B2: =PARAMÈTRES!B3 -> 2020
D4: =CONCATENATE(D5," - ",B2) -> JUILLET - 2020
D5: =IF(B1=1,"JANVIER",IF(B1=2,"FÉVRIER",IF(B1=3,"MARS",IF(B1=4,"AVRIL",IF(B1=5,"MAI",IF(B1=6,"JUIN",IF(B1=7,"JUILLET",IF(B1=8,"AOÛT",IF(B1=9,"SEPTEMBRE",IF(B1=10,"OCTOBRE",IF(B1=11,"NOVEMBRE",IF(B1=12,"DÉCEMBRE","")))))))))))) -> JUILLET
D7: STATUT | F7: ARRIVÉE | H7: DÉPART | J7: ARRIVÉE | L7: DÉPART | N7: ARRIVÉE | P7: DÉPART | R7: ARRIVÉE | T7: DÉPART | V7: TOTAL H./J. | X7: SUPP./NEGG.
A9: =DATE($B$2,$B$1,1) -> 44013 | B9: =DATE($B$2,$B$1,1) -> 44013 | V9: =IF(L9="","",H9-F9+L9-J9+P9-N9+T9-R9) | X9: =IFERROR(IF(V9<PARAMÈTRES!$B$5,PARAMÈTRES!B5-V9,V9-PARAMÈTRES!$B$5),0) -> 0
A11: =IF(A9="","",IF(MONTH(A9+1)=MONTH(A9),A9+1,"")) -> 44014 | B11: =IF(A9="","",IF(MONTH(A9+1)=MONTH(A9),A9+1,"")) -> 44014 | V11: =IF(L11="","",H11-F11+L11-J11+P11-N11+T11-R11) | X11: =IFERROR(IF(V11<PARAMÈTRES!$B$5,PARAMÈTRES!B7-V11,V11-PARAMÈTRES!$B$5),0) -> 0
A13: =IF(A11="","",IF(MONTH(A11+1)=MONTH(A11),A11+1,"")) -> 44015 | B13: =IF(A11="","",IF(MONTH(A11+1)=MONTH(A11),A11+1,"")) -> 44015 | V13: =IF(L13="","",H13-F13+L13-J13+P13-N13+T13-R13) | X13: =IFERROR(IF(V13<PARAMÈTRES!$B$5,PARAMÈTRES!B9-V13,V13-PARAMÈTRES!$B$5),0) -> 0
A15: =IF(A13="","",IF(MONTH(A13+1)=MONTH(A13),A13+1,"")) -> 44016 | B15: =IF(A13="","",IF(MONTH(A13+1)=MONTH(A13),A13+1,"")) -> 44016 | V15: =IF(L15="","",H15-F15+L15-J15+P15-N15+T15-R15) | X15: =IFERROR(IF(V15<PARAMÈTRES!$B$5,PARAMÈTRES!B11-V15,V15-PARAMÈTRES!$B$5),0) -> 0
A17: =IF(A15="","",IF(MONTH(A15+1)=MONTH(A15),A15+1,"")) -> 44017 | B17: =IF(A15="","",IF(MONTH(A15+1)=MONTH(A15),A15+1,"")) -> 44017 | V17: =IF(L17="","",H17-F17+L17-J17+P17-N17+T17-R17) | X17: =IFERROR(IF(V17<PARAMÈTRES!$B$5,PARAMÈTRES!B13-V17,V17-PARAMÈTRES!$B$5),0) -> 0
A19: =IF(A17="","",IF(MONTH(A17+1)=MONTH(A17),A17+1,"")) -> 44018 | B19: =IF(A17="","",IF(MONTH(A17+1)=MONTH(A17),A17+1,"")) -> 44018 | V19: =IF(L19="","",H19-F19+L19-J19+P19-N19+T19-R19) | X19: =IFERROR(IF(V19<PARAMÈTRES!$B$5,PARAMÈTRES!B15-V19,V19-PARAMÈTRES!$B$5),0) -> 0
A21: =IF(A19="","",IF(MONTH(A19+1)=MONTH(A19),A19+1,"")) -> 44019 | B21: =IF(A19="","",IF(MONTH(A19+1)=MONTH(A19),A19+1,"")) -> 44019 | V21: =IF(L21="","",H21-F21+L21-J21+P21-N21+T21-R21) | X21: =IFERROR(IF(V21<PARAMÈTRES!$B$5,PARAMÈTRES!B17-V21,V21-PARAMÈTRES!$B$5),0) -> 0
A23: =IF(A21="","",IF(MONTH(A21+1)=MONTH(A21),A21+1,"")) -> 44020 | B23: =IF(A21="","",IF(MONTH(A21+1)=MONTH(A21),A21+1,"")) -> 44020 | V23: =IF(L23="","",H23-F23+L23-J23+P23-N23+T23-R23) | X23: =IFERROR(IF(V23<PARAMÈTRES!$B$5,PARAMÈTRES!B19-V23,V23-PARAMÈTRES!$B$5),0) -> 0
A25: =IF(A23="","",IF(MONTH(A23+1)=MONTH(A23),A23+1,"")) -> 44021 | B25: =IF(A23="","",IF(MONTH(A23+1)=MONTH(A23),A23+1,"")) -> 44021 | V25: =IF(L25="","",H25-F25+L25-J25+P25-N25+T25-R25) | X25: =IFERROR(IF(V25<PARAMÈTRES!$B$5,PARAMÈTRES!B21-V25,V25-PARAMÈTRES!$B$5),0) -> 0
A27: =IF(A25="","",IF(MONTH(A25+1)=MONTH(A25),A25+1,"")) -> 44022 | B27: =IF(A25="","",IF(MONTH(A25+1)=MONTH(A25),A25+1,"")) -> 44022 | V27: =IF(L27="","",H27-F27+L27-J27+P27-N27+T27-R27) | X27: =IFERROR(IF(V27<PARAMÈTRES!$B$5,PARAMÈTRES!B23-V27,V27-PARAMÈTRES!$B$5),0) -> 0
A29: =IF(A27="","",IF(MONTH(A27+1)=MONTH(A27),A27+1,"")) -> 44023 | B29: =IF(A27="","",IF(MONTH(A27+1)=MONTH(A27),A27+1,"")) -> 44023 | V29: =IF(L29="","",H29-F29+L29-J29+P29-N29+T29-R29) | X29: =IFERROR(IF(V29<PARAMÈTRES!$B$5,PARAMÈTRES!B25-V29,V29-PARAMÈTRES!$B$5),0) -> 0
A31: =IF(A29="","",IF(MONTH(A29+1)=MONTH(A29),A29+1,"")) -> 44024 | B31: =IF(A29="","",IF(MONTH(A29+1)=MONTH(A29),A29+1,"")) -> 44024 | V31: =IF(L31="","",H31-F31+L31-J31+P31-N31+T31-R31) | X31: =IFERROR(IF(V31<PARAMÈTRES!$B$5,PARAMÈTRES!B27-V31,V31-PARAMÈTRES!$B$5),0) -> 0
A33: =IF(A31="","",IF(MONTH(A31+1)=MONTH(A31),A31+1,"")) -> 44025 | B33: =IF(A31="","",IF(MONTH(A31+1)=MONTH(A31),A31+1,"")) -> 44025 | V33: =IF(L33="","",H33-F33+L33-J33+P33-N33+T33-R33) | X33: =IFERROR(IF(V33<PARAMÈTRES!$B$5,PARAMÈTRES!B29-V33,V33-PARAMÈTRES!$B$5),0) -> 0
... A69: =IF(A67="","",IF(MONTH(A67+1)=MONTH(A67),A67+1,"")) -> 44043 | B69: =IF(A67="","",IF(MONTH(A67+1)=MONTH(A67),A67+1,"")) -> 44043 | V69: =IF(L69="","",H69-F69+L69-J69+P69-N69+T69-R69) | X69: =IFERROR(IF(V69<PARAMÈTRES!$B$5,PARAMÈTRES!B65-V69,V69-PARAMÈTRES!$B$5),0) -> 0
T72: TOTAL MOIS | V72: =SUM(V9,V11,V13,V15,V17,V19,V21,V23,V25,V27,V29,V31,V33,V35,V37,V39,V41,V43,V45,V47,V49,V51,V53,V55,V57,V59,V61,V63,V65,V67,V69) -> 0

Sheet AOÛT
A1: MOIS : | B1: 8 | U1: < | V1: RETOUR | W1: >
A2: ANNÉE : | B2: =PARAMÈTRES!B3 -> 2020
D4: =CONCATENATE(D5," - ",B2) -> AOÛT - 2020
D5: =IF(B1=1,"JANVIER",IF(B1=2,"FÉVRIER",IF(B1=3,"MARS",IF(B1=4,"AVRIL",IF(B1=5,"MAI",IF(B1=6,"JUIN",IF(B1=7,"JUILLET",IF(B1=8,"AOÛT",IF(B1=9,"SEPTEMBRE",IF(B1=10,"OCTOBRE",IF(B1=11,"NOVEMBRE",IF(B1=12,"DÉCEMBRE","")))))))))))) -> AOÛT
D7: STATUT | F7: ARRIVÉE | H7: DÉPART | J7: ARRIVÉE | L7: DÉPART | N7: ARRIVÉE | P7: DÉPART | R7: ARRIVÉE | T7: DÉPART | V7: TOTAL H./J. | X7: SUPP./NEGG.
A9: =DATE($B$2,$B$1,1) -> 44044 | B9: =DATE($B$2,$B$1,1) -> 44044 | V9: =IF(L9="","",H9-F9+L9-J9+P9-N9+T9-R9) | X9: =IFERROR(IF(V9<PARAMÈTRES!$B$5,PARAMÈTRES!B5-V9,V9-PARAMÈTRES!$B$5),0) -> 0
A11: =IF(A9="","",IF(MONTH(A9+1)=MONTH(A9),A9+1,"")) -> 44045 | B11: =IF(A9="","",IF(MONTH(A9+1)=MONTH(A9),A9+1,"")) -> 44045 | V11: =IF(L11="","",H11-F11+L11-J11+P11-N11+T11-R11) | X11: =IFERROR(IF(V11<PARAMÈTRES!$B$5,PARAMÈTRES!B7-V11,V11-PARAMÈTRES!$B$5),0) -> 0
A13: =IF(A11="","",IF(MONTH(A11+1)=MONTH(A11),A11+1,"")) -> 44046 | B13: =IF(A11="","",IF(MONTH(A11+1)=MONTH(A11),A11+1,"")) -> 44046 | V13: =IF(L13="","",H13-F13+L13-J13+P13-N13+T13-R13) | X13: =IFERROR(IF(V13<PARAMÈTRES!$B$5,PARAMÈTRES!B9-V13,V13-PARAMÈTRES!$B$5),0) -> 0
A15: =IF(A13="","",IF(MONTH(A13+1)=MONTH(A13),A13+1,"")) -> 44047 | B15: =IF(A13="","",IF(MONTH(A13+1)=MONTH(A13),A13+1,"")) -> 44047 | V15: =IF(L15="","",H15-F15+L15-J15+P15-N15+T15-R15) | X15: =IFERROR(IF(V15<PARAMÈTRES!$B$5,PARAMÈTRES!B11-V15,V15-PARAMÈTRES!$B$5),0) -> 0
A17: =IF(A15="","",IF(MONTH(A15+1)=MONTH(A15),A15+1,"")) -> 44048 | B17: =IF(A15="","",IF(MONTH(A15+1)=MONTH(A15),A15+1,"")) -> 44048 | V17: =IF(L17="","",H17-F17+L17-J17+P17-N17+T17-R17) | X17: =IFERROR(IF(V17<PARAMÈTRES!$B$5,PARAMÈTRES!B13-V17,V17-PARAMÈTRES!$B$5),0) -> 0
A19: =IF(A17="","",IF(MONTH(A17+1)=MONTH(A17),A17+1,"")) -> 44049 | B19: =IF(A17="","",IF(MONTH(A17+1)=MONTH(A17),A17+1,"")) -> 44049 | V19: =IF(L19="","",H19-F19+L19-J19+P19-N19+T19-R19) | X19: =IFERROR(IF(V19<PARAMÈTRES!$B$5,PARAMÈTRES!B15-V19,V19-PARAMÈTRES!$B$5),0) -> 0
A21: =IF(A19="","",IF(MONTH(A19+1)=MONTH(A19),A19+1,"")) -> 44050 | B21: =IF(A19="","",IF(MONTH(A19+1)=MONTH(A19),A19+1,"")) -> 44050 | V21: =IF(L21="","",H21-F21+L21-J21+P21-N21+T21-R21) | X21: =IFERROR(IF(V21<PARAMÈTRES!$B$5,PARAMÈTRES!B17-V21,V21-PARAMÈTRES!$B$5),0) -> 0
A23: =IF(A21="","",IF(MONTH(A21+1)=MONTH(A21),A21+1,"")) -> 44051 | B23: =IF(A21="","",IF(MONTH(A21+1)=MONTH(A21),A21+1,"")) -> 44051 | V23: =IF(L23="","",H23-F23+L23-J23+P23-N23+T23-R23) | X23: =IFERROR(IF(V23<PARAMÈTRES!$B$5,PARAMÈTRES!B19-V23,V23-PARAMÈTRES!$B$5),0) -> 0
A25: =IF(A23="","",IF(MONTH(A23+1)=MONTH(A23),A23+1,"")) -> 44052 | B25: =IF(A23="","",IF(MONTH(A23+1)=MONTH(A23),A23+1,"")) -> 44052 | V25: =IF(L25="","",H25-F25+L25-J25+P25-N25+T25-R25) | X25: =IFERROR(IF(V25<PARAMÈTRES!$B$5,PARAMÈTRES!B21-V25,V25-PARAMÈTRES!$B$5),0) -> 0
A27: =IF(A25="","",IF(MONTH(A25+1)=MONTH(A25),A25+1,"")) -> 44053 | B27: =IF(A25="","",IF(MONTH(A25+1)=MONTH(A25),A25+1,"")) -> 44053 | V27: =IF(L27="","",H27-F27+L27-J27+P27-N27+T27-R27) | X27: =IFERROR(IF(V27<PARAMÈTRES!$B$5,PARAMÈTRES!B23-V27,V27-PARAMÈTRES!$B$5),0) -> 0
A29: =IF(A27="","",IF(MONTH(A27+1)=MONTH(A27),A27+1,"")) -> 44054 | B29: =IF(A27="","",IF(MONTH(A27+1)=MONTH(A27),A27+1,"")) -> 44054 | V29: =IF(L29="","",H29-F29+L29-J29+P29-N29+T29-R29) | X29: =IFERROR(IF(V29<PARAMÈTRES!$B$5,PARAMÈTRES!B25-V29,V29-PARAMÈTRES!$B$5),0) -> 0
A31: =IF(A29="","",IF(MONTH(A29+1)=MONTH(A29),A29+1,"")) -> 44055 | B31: =IF(A29="","",IF(MONTH(A29+1)=MONTH(A29),A29+1,"")) -> 44055 | V31: =IF(L31="","",H31-F31+L31-J31+P31-N31+T31-R31) | X31: =IFERROR(IF(V31<PARAMÈTRES!$B$5,PARAMÈTRES!B27-V31,V31-PARAMÈTRES!$B$5),0) -> 0
A33: =IF(A31="","",IF(MONTH(A31+1)=MONTH(A31),A31+1,"")) -> 44056 | B33: =IF(A31="","",IF(MONTH(A31+1)=MONTH(A31),A31+1,"")) -> 44056 | V33: =IF(L33="","",H33-F33+L33-J33+P33-N33+T33-R33) | X33: =IFERROR(IF(V33<PARAMÈTRES!$B$5,PARAMÈTRES!B29-V33,V33-PARAMÈTRES!$B$5),0) -> 0
... A69: =IF(A67="","",IF(MONTH(A67+1)=MONTH(A67),A67+1,"")) -> 44074 | B69: =IF(A67="","",IF(MONTH(A67+1)=MONTH(A67),A67+1,"")) -> 44074 | V69: =IF(L69="","",H69-F69+L69-J69+P69-N69+T69-R69) | X69: =IFERROR(IF(V69<PARAMÈTRES!$B$5,PARAMÈTRES!B65-V69,V69-PARAMÈTRES!$B$5),0) -> 0
T72: TOTAL MOIS | V72: =SUM(V9,V11,V13,V15,V17,V19,V21,V23,V25,V27,V29,V31,V33,V35,V37,V39,V41,V43,V45,V47,V49,V51,V53,V55,V57,V59,V61,V63,V65,V67,V69) -> 0

Sheet SEPTEMBRE
A1: MOIS : | B1: 9 | U1: < | V1: RETOUR | W1: >
A2: ANNÉE : | B2: =PARAMÈTRES!B3 -> 2020
D4: =CONCATENATE(D5," - ",B2) -> SEPTEMBRE - 2020
D5: =IF(B1=1,"JANVIER",IF(B1=2,"FÉVRIER",IF(B1=3,"MARS",IF(B1=4,"AVRIL",IF(B1=5,"MAI",IF(B1=6,"JUIN",IF(B1=7,"JUILLET",IF(B1=8,"AOÛT",IF(B1=9,"SEPTEMBRE",IF(B1=10,"OCTOBRE",IF(B1=11,"NOVEMBRE",IF(B1=12,"DÉCEMBRE","")))))))))))) -> SEPTEMBRE
D7: STATUT | F7: ARRIVÉE | H7: DÉPART | J7: ARRIVÉE | L7: DÉPART | N7: ARRIVÉE | P7: DÉPART | R7: ARRIVÉE | T7: DÉPART | V7: TOTAL H./J. | X7: SUPP./NEGG.
A9: =DATE($B$2,$B$1,1) -> 44075 | B9: =DATE($B$2,$B$1,1) -> 44075 | V9: =IF(L9="","",H9-F9+L9-J9+P9-N9+T9-R9) | X9: =IFERROR(IF(V9<PARAMÈTRES!$B$5,PARAMÈTRES!B5-V9,V9-PARAMÈTRES!$B$5),0) -> 0
A11: =IF(A9="","",IF(MONTH(A9+1)=MONTH(A9),A9+1,"")) -> 44076 | B11: =IF(A9="","",IF(MONTH(A9+1)=MONTH(A9),A9+1,"")) -> 44076 | V11: =IF(L11="","",H11-F11+L11-J11+P11-N11+T11-R11) | X11: =IFERROR(IF(V11<PARAMÈTRES!$B$5,PARAMÈTRES!B7-V11,V11-PARAMÈTRES!$B$5),0) -> 0
A13: =IF(A11="","",IF(MONTH(A11+1)=MONTH(A11),A11+1,"")) -> 44077 | B13: =IF(A11="","",IF(MONTH(A11+1)=MONTH(A11),A11+1,"")) -> 44077 | V13: =IF(L13="","",H13-F13+L13-J13+P13-N13+T13-R13) | X13: =IFERROR(IF(V13<PARAMÈTRES!$B$5,PARAMÈTRES!B9-V13,V13-PARAMÈTRES!$B$5),0) -> 0
A15: =IF(A13="","",IF(MONTH(A13+1)=MONTH(A13),A13+1,"")) -> 44078 | B15: =IF(A13="","",IF(MONTH(A13+1)=MONTH(A13),A13+1,"")) -> 44078 | V15: =IF(L15="","",H15-F15+L15-J15+P15-N15+T15-R15) | X15: =IFERROR(IF(V15<PARAMÈTRES!$B$5,PARAMÈTRES!B11-V15,V15-PARAMÈTRES!$B$5),0) -> 0
A17: =IF(A15="","",IF(MONTH(A15+1)=MONTH(A15),A15+1,"")) -> 44079 | B17: =IF(A15="","",IF(MONTH(A15+1)=MONTH(A15),A15+1,"")) -> 44079 | V17: =IF(L17="","",H17-F17+L17-J17+P17-N17+T17-R17) | X17: =IFERROR(IF(V17<PARAMÈTRES!$B$5,PARAMÈTRES!B13-V17,V17-PARAMÈTRES!$B$5),0) -> 0
A19: =IF(A17="","",IF(MONTH(A17+1)=MONTH(A17),A17+1,"")) -> 44080 | B19: =IF(A17="","",IF(MONTH(A17+1)=MONTH(A17),A17+1,"")) -> 44080 | V19: =IF(L19="","",H19-F19+L19-J19+P19-N19+T19-R19) | X19: =IFERROR(IF(V19<PARAMÈTRES!$B$5,PARAMÈTRES!B15-V19,V19-PARAMÈTRES!$B$5),0) -> 0
A21: =IF(A19="","",IF(MONTH(A19+1)=MONTH(A19),A19+1,"")) -> 44081 | B21: =IF(A19="","",IF(MONTH(A19+1)=MONTH(A19),A19+1,"")) -> 44081 | V21: =IF(L21="","",H21-F21+L21-J21+P21-N21+T21-R21) | X21: =IFERROR(IF(V21<PARAMÈTRES!$B$5,PARAMÈTRES!B17-V21,V21-PARAMÈTRES!$B$5),0) -> 0
A23: =IF(A21="","",IF(MONTH(A21+1)=MONTH(A21),A21+1,"")) -> 44082 | B23: =IF(A21="","",IF(MONTH(A21+1)=MONTH(A21),A21+1,"")) -> 44082 | V23: =IF(L23="","",H23-F23+L23-J23+P23-N23+T23-R23) | X23: =IFERROR(IF(V23<PARAMÈTRES!$B$5,PARAMÈTRES!B19-V23,V23-PARAMÈTRES!$B$5),0) -> 0
A25: =IF(A23="","",IF(MONTH(A23+1)=MONTH(A23),A23+1,"")) -> 44083 | B25: =IF(A23="","",IF(MONTH(A23+1)=MONTH(A23),A23+1,"")) -> 44083 | V25: =IF(L25="","",H25-F25+L25-J25+P25-N25+T25-R25) | X25: =IFERROR(IF(V25<PARAMÈTRES!$B$5,PARAMÈTRES!B21-V25,V25-PARAMÈTRES!$B$5),0) -> 0
A27: =IF(A25="","",IF(MONTH(A25+1)=MONTH(A25),A25+1,"")) -> 44084 | B27: =IF(A25="","",IF(MONTH(A25+1)=MONTH(A25),A25+1,"")) -> 44084 | V27: =IF(L27="","",H27-F27+L27-J27+P27-N27+T27-R27) | X27: =IFERROR(IF(V27<PARAMÈTRES!$B$5,PARAMÈTRES!B23-V27,V27-PARAMÈTRES!$B$5),0) -> 0
A29: =IF(A27="","",IF(MONTH(A27+1)=MONTH(A27),A27+1,"")) -> 44085 | B29: =IF(A27="","",IF(MONTH(A27+1)=MONTH(A27),A27+1,"")) -> 44085 | V29: =IF(L29="","",H29-F29+L29-J29+P29-N29+T29-R29) | X29: =IFERROR(IF(V29<PARAMÈTRES!$B$5,PARAMÈTRES!B25-V29,V29-PARAMÈTRES!$B$5),0) -> 0
A31: =IF(A29="","",IF(MONTH(A29+1)=MONTH(A29),A29+1,"")) -> 44086 | B31: =IF(A29="","",IF(MONTH(A29+1)=MONTH(A29),A29+1,"")) -> 44086 | V31: =IF(L31="","",H31-F31+L31-J31+P31-N31+T31-R31) | X31: =IFERROR(IF(V31<PARAMÈTRES!$B$5,PARAMÈTRES!B27-V31,V31-PARAMÈTRES!$B$5),0) -> 0
A33: =IF(A31="","",IF(MONTH(A31+1)=MONTH(A31),A31+1,"")) -> 44087 | B33: =IF(A31="","",IF(MONTH(A31+1)=MONTH(A31),A31+1,"")) -> 44087 | V33: =IF(L33="","",H33-F33+L33-J33+P33-N33+T33-R33) | X33: =IFERROR(IF(V33<PARAMÈTRES!$B$5,PARAMÈTRES!B29-V33,V33-PARAMÈTRES!$B$5),0) -> 0
... A67: =IF(A65="","",IF(MONTH(A65+1)=MONTH(A65),A65+1,"")) -> 44104 | B67: =IF(A65="","",IF(MONTH(A65+1)=MONTH(A65),A65+1,"")) -> 44104 | V67: =IF(L67="","",H67-F67+L67-J67+P67-N67+T67-R67) | X67: =IFERROR(IF(V67<PARAMÈTRES!$B$5,PARAMÈTRES!B63-V67,V67-PARAMÈTRES!$B$5),0) -> 0
T70: TOTAL MOIS | V70: =SUM(V9,V11,V13,V15,V17,V19,V21,V23,V25,V27,V29,V31,V33,V35,V37,V39,V41,V43,V45,V47,V49,V51,V53,V55,V57,V59,V61,V63,V65,V67) -> 0

Sheet OCTOBRE
A1: MOIS : | B1: 10 | U1: < | V1: RETOUR | W1: >
A2: ANNÉE : | B2: =PARAMÈTRES!B3 -> 2020
D4: =CONCATENATE(D5," - ",B2) -> OCTOBRE - 2020
D5: =IF(B1=1,"JANVIER",IF(B1=2,"FÉVRIER",IF(B1=3,"MARS",IF(B1=4,"AVRIL",IF(B1=5,"MAI",IF(B1=6,"JUIN",IF(B1=7,"JUILLET",IF(B1=8,"AOÛT",IF(B1=9,"SEPTEMBRE",IF(B1=10,"OCTOBRE",IF(B1=11,"NOVEMBRE",IF(B1=12,"DÉCEMBRE","")))))))))))) -> OCTOBRE
D7: STATUT | F7: ARRIVÉE | H7: DÉPART | J7: ARRIVÉE | L7: DÉPART | N7: ARRIVÉE | P7: DÉPART | R7: ARRIVÉE | T7: DÉPART | V7: TOTAL H./J. | X7: SUPP./NEGG.
A9: =DATE($B$2,$B$1,1) -> 44105 | B9: =DATE($B$2,$B$1,1) -> 44105 | V9: =IF(L9="","",H9-F9+L9-J9+P9-N9+T9-R9) | X9: =IFERROR(IF(V9<PARAMÈTRES!$B$5,PARAMÈTRES!B5-V9,V9-PARAMÈTRES!$B$5),0) -> 0
A11: =IF(A9="","",IF(MONTH(A9+1)=MONTH(A9),A9+1,"")) -> 44106 | B11: =IF(A9="","",IF(MONTH(A9+1)=MONTH(A9),A9+1,"")) -> 44106 | V11: =IF(L11="","",H11-F11+L11-J11+P11-N11+T11-R11) | X11: =IFERROR(IF(V11<PARAMÈTRES!$B$5,PARAMÈTRES!B7-V11,V11-PARAMÈTRES!$B$5),0) -> 0
A13: =IF(A11="","",IF(MONTH(A11+1)=MONTH(A11),A11+1,"")) -> 44107 | B13: =IF(A11="","",IF(MONTH(A11+1)=MONTH(A11),A11+1,"")) -> 44107 | V13: =IF(L13="","",H13-F13+L13-J13+P13-N13+T13-R13) | X13: =IFERROR(IF(V13<PARAMÈTRES!$B$5,PARAMÈTRES!B9-V13,V13-PARAMÈTRES!$B$5),0) -> 0
A15: =IF(A13="","",IF(MONTH(A13+1)=MONTH(A13),A13+1,"")) -> 44108 | B15: =IF(A13="","",IF(MONTH(A13+1)=MONTH(A13),A13+1,"")) -> 44108 | V15: =IF(L15="","",H15-F15+L15-J15+P15-N15+T15-R15) | X15: =IFERROR(IF(V15<PARAMÈTRES!$B$5,PARAMÈTRES!B11-V15,V15-PARAMÈTRES!$B$5),0) -> 0
A17: =IF(A15="","",IF(MONTH(A15+1)=MONTH(A15),A15+1,"")) -> 44109 | B17: =IF(A15="","",IF(MONTH(A15+1)=MONTH(A15),A15+1,"")) -> 44109 | V17: =IF(L17="","",H17-F17+L17-J17+P17-N17+T17-R17) | X17: =IFERROR(IF(V17<PARAMÈTRES!$B$5,PARAMÈTRES!B13-V17,V17-PARAMÈTRES!$B$5),0) -> 0
A19: =IF(A17="","",IF(MONTH(A17+1)=MONTH(A17),A17+1,"")) -> 44110 | B19: =IF(A17="","",IF(MONTH(A17+1)=MONTH(A17),A17+1,"")) -> 44110 | V19: =IF(L19="","",H19-F19+L19-J19+P19-N19+T19-R19) | X19: =IFERROR(IF(V19<PARAMÈTRES!$B$5,PARAMÈTRES!B15-V19,V19-PARAMÈTRES!$B$5),0) -> 0
A21: =IF(A19="","",IF(MONTH(A19+1)=MONTH(A19),A19+1,"")) -> 44111 | B21: =IF(A19="","",IF(MONTH(A19+1)=MONTH(A19),A19+1,"")) -> 44111 | V21: =IF(L21="","",H21-F21+L21-J21+P21-N21+T21-R21) | X21: =IFERROR(IF(V21<PARAMÈTRES!$B$5,PARAMÈTRES!B17-V21,V21-PARAMÈTRES!$B$5),0) -> 0
A23: =IF(A21="","",IF(MONTH(A21+1)=MONTH(A21),A21+1,"")) -> 44112 | B23: =IF(A21="","",IF(MONTH(A21+1)=MONTH(A21),A21+1,"")) -> 44112 | V23: =IF(L23="","",H23-F23+L23-J23+P23-N23+T23-R23) | X23: =IFERROR(IF(V23<PARAMÈTRES!$B$5,PARAMÈTRES!B19-V23,V23-PARAMÈTRES!$B$5),0) -> 0
A25: =IF(A23="","",IF(MONTH(A23+1)=MONTH(A23),A23+1,"")) -> 44113 | B25: =IF(A23="","",IF(MONTH(A23+1)=MONTH(A23),A23+1,"")) -> 44113 | V25: =IF(L25="","",H25-F25+L25-J25+P25-N25+T25-R25) | X25: =IFERROR(IF(V25<PARAMÈTRES!$B$5,PARAMÈTRES!B21-V25,V25-PARAMÈTRES!$B$5),0) -> 0
A27: =IF(A25="","",IF(MONTH(A25+1)=MONTH(A25),A25+1,"")) -> 44114 | B27: =IF(A25="","",IF(MONTH(A25+1)=MONTH(A25),A25+1,"")) -> 44114 | V27: =IF(L27="","",H27-F27+L27-J27+P27-N27+T27-R27) | X27: =IFERROR(IF(V27<PARAMÈTRES!$B$5,PARAMÈTRES!B23-V27,V27-PARAMÈTRES!$B$5),0) -> 0
A29: =IF(A27="","",IF(MONTH(A27+1)=MONTH(A27),A27+1,"")) -> 44115 | B29: =IF(A27="","",IF(MONTH(A27+1)=MONTH(A27),A27+1,"")) -> 44115 | V29: =IF(L29="","",H29-F29+L29-J29+P29-N29+T29-R29) | X29: =IFERROR(IF(V29<PARAMÈTRES!$B$5,PARAMÈTRES!B25-V29,V29-PARAMÈTRES!$B$5),0) -> 0
A31: =IF(A29="","",IF(MONTH(A29+1)=MONTH(A29),A29+1,"")) -> 44116 | B31: =IF(A29="","",IF(MONTH(A29+1)=MONTH(A29),A29+1,"")) -> 44116 | V31: =IF(L31="","",H31-F31+L31-J31+P31-N31+T31-R31) | X31: =IFERROR(IF(V31<PARAMÈTRES!$B$5,PARAMÈTRES!B27-V31,V31-PARAMÈTRES!$B$5),0) -> 0
A33: =IF(A31="","",IF(MONTH(A31+1)=MONTH(A31),A31+1,"")) -> 44117 | B33: =IF(A31="","",IF(MONTH(A31+1)=MONTH(A31),A31+1,"")) -> 44117 | V33: =IF(L33="","",H33-F33+L33-J33+P33-N33+T33-R33) | X33: =IFERROR(IF(V33<PARAMÈTRES!$B$5,PARAMÈTRES!B29-V33,V33-PARAMÈTRES!$B$5),0) -> 0
... A69: =IF(A67="","",IF(MONTH(A67+1)=MONTH(A67),A67+1,"")) -> 44135 | B69: =IF(A67="","",IF(MONTH(A67+1)=MONTH(A67),A67+1,"")) -> 44135 | V69: =IF(L69="","",H69-F69+L69-J69+P69-N69+T69-R69) | X69: =IFERROR(IF(V69<PARAMÈTRES!$B$5,PARAMÈTRES!B65-V69,V69-PARAMÈTRES!$B$5),0) -> 0
T72: TOTAL MOIS | V72: =SUM(V9,V11,V13,V15,V17,V19,V21,V23,V25,V27,V29,V31,V33,V35,V37,V39,V41,V43,V45,V47,V49,V51,V53,V55,V57,V59,V61,V63,V65,V67,V69) -> 0

Sheet NOVEMBRE
A1: MOIS : | B1: 11 | U1: < | V1: RETOUR | W1: >
A2: ANNÉE : | B2: =PARAMÈTRES!B3 -> 2020
D4: =CONCATENATE(D5," - ",B2) -> NOVEMBRE - 2020
D5: =IF(B1=1,"JANVIER",IF(B1=2,"FÉVRIER",IF(B1=3,"MARS",IF(B1=4,"AVRIL",IF(B1=5,"MAI",IF(B1=6,"JUIN",IF(B1=7,"JUILLET",IF(B1=8,"AOÛT",IF(B1=9,"SEPTEMBRE",IF(B1=10,"OCTOBRE",IF(B1=11,"NOVEMBRE",IF(B1=12,"DÉCEMBRE","")))))))))))) -> NOVEMBRE
D7: STATUT | F7: ARRIVÉE | H7: DÉPART | J7: ARRIVÉE | L7: DÉPART | N7: ARRIVÉE | P7: DÉPART | R7: ARRIVÉE | T7: DÉPART | V7: TOTAL H./J. | X7: SUPP./NEGG.
A9: =DATE($B$2,$B$1,1) -> 44136 | B9: =DATE($B$2,$B$1,1) -> 44136 | V9: =IF(L9="","",H9-F9+L9-J9+P9-N9+T9-R9) | X9: =IFERROR(IF(V9<PARAMÈTRES!$B$5,PARAMÈTRES!B5-V9,V9-PARAMÈTRES!$B$5),0) -> 0
A11: =IF(A9="","",IF(MONTH(A9+1)=MONTH(A9),A9+1,"")) -> 44137 | B11: =IF(A9="","",IF(MONTH(A9+1)=MONTH(A9),A9+1,"")) -> 44137 | V11: =IF(L11="","",H11-F11+L11-J11+P11-N11+T11-R11) | X11: =IFERROR(IF(V11<PARAMÈTRES!$B$5,PARAMÈTRES!B7-V11,V11-PARAMÈTRES!$B$5),0) -> 0
A13: =IF(A11="","",IF(MONTH(A11+1)=MONTH(A11),A11+1,"")) -> 44138 | B13: =IF(A11="","",IF(MONTH(A11+1)=MONTH(A11),A11+1,"")) -> 44138 | V13: =IF(L13="","",H13-F13+L13-J13+P13-N13+T13-R13) | X13: =IFERROR(IF(V13<PARAMÈTRES!$B$5,PARAMÈTRES!B9-V13,V13-PARAMÈTRES!$B$5),0) -> 0
A15: =IF(A13="","",IF(MONTH(A13+1)=MONTH(A13),A13+1,"")) -> 44139 | B15: =IF(A13="","",IF(MONTH(A13+1)=MONTH(A13),A13+1,"")) -> 44139 | V15: =IF(L15="","",H15-F15+L15-J15+P15-N15+T15-R15) | X15: =IFERROR(IF(V15<PARAMÈTRES!$B$5,PARAMÈTRES!B11-V15,V15-PARAMÈTRES!$B$5),0) -> 0
A17: =IF(A15="","",IF(MONTH(A15+1)=MONTH(A15),A15+1,"")) -> 44140 | B17: =IF(A15="","",IF(MONTH(A15+1)=MONTH(A15),A15+1,"")) -> 44140 | V17: =IF(L17="","",H17-F17+L17-J17+P17-N17+T17-R17) | X17: =IFERROR(IF(V17<PARAMÈTRES!$B$5,PARAMÈTRES!B13-V17,V17-PARAMÈTRES!$B$5),0) -> 0
A19: =IF(A17="","",IF(MONTH(A17+1)=MONTH(A17),A17+1,"")) -> 44141 | B19: =IF(A17="","",IF(MONTH(A17+1)=MONTH(A17),A17+1,"")) -> 44141 | V19: =IF(L19="","",H19-F19+L19-J19+P19-N19+T19-R19) | X19: =IFERROR(IF(V19<PARAMÈTRES!$B$5,PARAMÈTRES!B15-V19,V19-PARAMÈTRES!$B$5),0) -> 0
A21: =IF(A19="","",IF(MONTH(A19+1)=MONTH(A19),A19+1,"")) -> 44142 | B21: =IF(A19="","",IF(MONTH(A19+1)=MONTH(A19),A19+1,"")) -> 44142 | V21: =IF(L21="","",H21-F21+L21-J21+P21-N21+T21-R21) | X21: =IFERROR(IF(V21<PARAMÈTRES!$B$5,PARAMÈTRES!B17-V21,V21-PARAMÈTRES!$B$5),0) -> 0
A23: =IF(A21="","",IF(MONTH(A21+1)=MONTH(A21),A21+1,"")) -> 44143 | B23: =IF(A21="","",IF(MONTH(A21+1)=MONTH(A21),A21+1,"")) -> 44143 | V23: =IF(L23="","",H23-F23+L23-J23+P23-N23+T23-R23) | X23: =IFERROR(IF(V23<PARAMÈTRES!$B$5,PARAMÈTRES!B19-V23,V23-PARAMÈTRES!$B$5),0) -> 0
A25: =IF(A23="","",IF(MONTH(A23+1)=MONTH(A23),A23+1,"")) -> 44144 | B25: =IF(A23="","",IF(MONTH(A23+1)=MONTH(A23),A23+1,"")) -> 44144 | V25: =IF(L25="","",H25-F25+L25-J25+P25-N25+T25-R25) | X25: =IFERROR(IF(V25<PARAMÈTRES!$B$5,PARAMÈTRES!B21-V25,V25-PARAMÈTRES!$B$5),0) -> 0
A27: =IF(A25="","",IF(MONTH(A25+1)=MONTH(A25),A25+1,"")) -> 44145 | B27: =IF(A25="","",IF(MONTH(A25+1)=MONTH(A25),A25+1,"")) -> 44145 | V27: =IF(L27="","",H27-F27+L27-J27+P27-N27+T27-R27) | X27: =IFERROR(IF(V27<PARAMÈTRES!$B$5,PARAMÈTRES!B23-V27,V27-PARAMÈTRES!$B$5),0) -> 0
A29: =IF(A27="","",IF(MONTH(A27+1)=MONTH(A27),A27+1,"")) -> 44146 | B29: =IF(A27="","",IF(MONTH(A27+1)=MONTH(A27),A27+1,"")) -> 44146 | V29: =IF(L29="","",H29-F29+L29-J29+P29-N29+T29-R29) | X29: =IFERROR(IF(V29<PARAMÈTRES!$B$5,PARAMÈTRES!B25-V29,V29-PARAMÈTRES!$B$5),0) -> 0
A31: =IF(A29="","",IF(MONTH(A29+1)=MONTH(A29),A29+1,"")) -> 44147 | B31: =IF(A29="","",IF(MONTH(A29+1)=MONTH(A29),A29+1,"")) -> 44147 | V31: =IF(L31="","",H31-F31+L31-J31+P31-N31+T31-R31) | X31: =IFERROR(IF(V31<PARAMÈTRES!$B$5,PARAMÈTRES!B27-V31,V31-PARAMÈTRES!$B$5),0) -> 0
A33: =IF(A31="","",IF(MONTH(A31+1)=MONTH(A31),A31+1,"")) -> 44148 | B33: =IF(A31="","",IF(MONTH(A31+1)=MONTH(A31),A31+1,"")) -> 44148 | V33: =IF(L33="","",H33-F33+L33-J33+P33-N33+T33-R33) | X33: =IFERROR(IF(V33<PARAMÈTRES!$B$5,PARAMÈTRES!B29-V33,V33-PARAMÈTRES!$B$5),0) -> 0
... A67: =IF(A65="","",IF(MONTH(A65+1)=MONTH(A65),A65+1,"")) -> 44165 | B67: =IF(A65="","",IF(MONTH(A65+1)=MONTH(A65),A65+1,"")) -> 44165 | V67: =IF(L67="","",H67-F67+L67-J67+P67-N67+T67-R67) | X67: =IFERROR(IF(V67<PARAMÈTRES!$B$5,PARAMÈTRES!B63-V67,V67-PARAMÈTRES!$B$5),0) -> 0
T70: TOTAL MOIS | V70: =SUM(V9,V11,V13,V15,V17,V19,V21,V23,V25,V27,V29,V31,V33,V35,V37,V39,V41,V43,V45,V47,V49,V51,V53,V55,V57,V59,V61,V63,V65,V67) -> 0

Sheet DÉCEMBRE
A1: MOIS : | B1: 12 | U1: < | V1: RETOUR | W1: >
A2: ANNÉE : | B2: =PARAMÈTRES!B3 -> 2020
D4: =CONCATENATE(D5," - ",B2) -> DÉCEMBRE - 2020
D5: =IF(B1=1,"JANVIER",IF(B1=2,"FÉVRIER",IF(B1=3,"MARS",IF(B1=4,"AVRIL",IF(B1=5,"MAI",IF(B1=6,"JUIN",IF(B1=7,"JUILLET",IF(B1=8,"AOÛT",IF(B1=9,"SEPTEMBRE",IF(B1=10,"OCTOBRE",IF(B1=11,"NOVEMBRE",IF(B1=12,"DÉCEMBRE","")))))))))))) -> DÉCEMBRE
D7: STATUT | F7: ARRIVÉE | H7: DÉPART | J7: ARRIVÉE | L7: DÉPART | N7: ARRIVÉE | P7: DÉPART | R7: ARRIVÉE | T7: DÉPART | V7: TOTAL H./J. | X7: SUPP./NEGG.
A9: =DATE($B$2,$B$1,1) -> 44166 | B9: =DATE($B$2,$B$1,1) -> 44166 | V9: =IF(L9="","",H9-F9+L9-J9+P9-N9+T9-R9) | X9: =IFERROR(IF(V9<PARAMÈTRES!$B$5,PARAMÈTRES!B5-V9,V9-PARAMÈTRES!$B$5),0) -> 0
A11: =IF(A9="","",IF(MONTH(A9+1)=MONTH(A9),A9+1,"")) -> 44167 | B11: =IF(A9="","",IF(MONTH(A9+1)=MONTH(A9),A9+1,"")) -> 44167 | V11: =IF(L11="","",H11-F11+L11-J11+P11-N11+T11-R11) | X11: =IFERROR(IF(V11<PARAMÈTRES!$B$5,PARAMÈTRES!B7-V11,V11-PARAMÈTRES!$B$5),0) -> 0
A13: =IF(A11="","",IF(MONTH(A11+1)=MONTH(A11),A11+1,"")) -> 44168 | B13: =IF(A11="","",IF(MONTH(A11+1)=MONTH(A11),A11+1,"")) -> 44168 | V13: =IF(L13="","",H13-F13+L13-J13+P13-N13+T13-R13) | X13: =IFERROR(IF(V13<PARAMÈTRES!$B$5,PARAMÈTRES!B9-V13,V13-PARAMÈTRES!$B$5),0) -> 0
A15: =IF(A13="","",IF(MONTH(A13+1)=MONTH(A13),A13+1,"")) -> 44169 | B15: =IF(A13="","",IF(MONTH(A13+1)=MONTH(A13),A13+1,"")) -> 44169 | V15: =IF(L15="","",H15-F15+L15-J15+P15-N15+T15-R15) | X15: =IFERROR(IF(V15<PARAMÈTRES!$B$5,PARAMÈTRES!B11-V15,V15-PARAMÈTRES!$B$5),0) -> 0
A17: =IF(A15="","",IF(MONTH(A15+1)=MONTH(A15),A15+1,"")) -> 44170 | B17: =IF(A15="","",IF(MONTH(A15+1)=MONTH(A15),A15+1,"")) -> 44170 | V17: =IF(L17="","",H17-F17+L17-J17+P17-N17+T17-R17) | X17: =IFERROR(IF(V17<PARAMÈTRES!$B$5,PARAMÈTRES!B13-V17,V17-PARAMÈTRES!$B$5),0) -> 0
A19: =IF(A17="","",IF(MONTH(A17+1)=MONTH(A17),A17+1,"")) -> 44171 | B19: =IF(A17="","",IF(MONTH(A17+1)=MONTH(A17),A17+1,"")) -> 44171 | V19: =IF(L19="","",H19-F19+L19-J19+P19-N19+T19-R19) | X19: =IFERROR(IF(V19<PARAMÈTRES!$B$5,PARAMÈTRES!B15-V19,V19-PARAMÈTRES!$B$5),0) -> 0
A21: =IF(A19="","",IF(MONTH(A19+1)=MONTH(A19),A19+1,"")) -> 44172 | B21: =IF(A19="","",IF(MONTH(A19+1)=MONTH(A19),A19+1,"")) -> 44172 | V21: =IF(L21="","",H21-F21+L21-J21+P21-N21+T21-R21) | X21: =IFERROR(IF(V21<PARAMÈTRES!$B$5,PARAMÈTRES!B17-V21,V21-PARAMÈTRES!$B$5),0) -> 0
A23: =IF(A21="","",IF(MONTH(A21+1)=MONTH(A21),A21+1,"")) -> 44173 | B23: =IF(A21="","",IF(MONTH(A21+1)=MONTH(A21),A21+1,"")) -> 44173 | V23: =IF(L23="","",H23-F23+L23-J23+P23-N23+T23-R23) | X23: =IFERROR(IF(V23<PARAMÈTRES!$B$5,PARAMÈTRES!B19-V23,V23-PARAMÈTRES!$B$5),0) -> 0
A25: =IF(A23="","",IF(MONTH(A23+1)=MONTH(A23),A23+1,"")) -> 44174 | B25: =IF(A23="","",IF(MONTH(A23+1)=MONTH(A23),A23+1,"")) -> 44174 | V25: =IF(L25="","",H25-F25+L25-J25+P25-N25+T25-R25) | X25: =IFERROR(IF(V25<PARAMÈTRES!$B$5,PARAMÈTRES!B21-V25,V25-PARAMÈTRES!$B$5),0) -> 0
A27: =IF(A25="","",IF(MONTH(A25+1)=MONTH(A25),A25+1,"")) -> 44175 | B27: =IF(A25="","",IF(MONTH(A25+1)=MONTH(A25),A25+1,"")) -> 44175 | V27: =IF(L27="","",H27-F27+L27-J27+P27-N27+T27-R27) | X27: =IFERROR(IF(V27<PARAMÈTRES!$B$5,PARAMÈTRES!B23-V27,V27-PARAMÈTRES!$B$5),0) -> 0
A29: =IF(A27="","",IF(MONTH(A27+1)=MONTH(A27),A27+1,"")) -> 44176 | B29: =IF(A27="","",IF(MONTH(A27+1)=MONTH(A27),A27+1,"")) -> 44176 | V29: =IF(L29="","",H29-F29+L29-J29+P29-N29+T29-R29) | X29: =IFERROR(IF(V29<PARAMÈTRES!$B$5,PARAMÈTRES!B25-V29,V29-PARAMÈTRES!$B$5),0) -> 0
A31: =IF(A29="","",IF(MONTH(A29+1)=MONTH(A29),A29+1,"")) -> 44177 | B31: =IF(A29="","",IF(MONTH(A29+1)=MONTH(A29),A29+1,"")) -> 44177 | V31: =IF(L31="","",H31-F31+L31-J31+P31-N31+T31-R31) | X31: =IFERROR(IF(V31<PARAMÈTRES!$B$5,PARAMÈTRES!B27-V31,V31-PARAMÈTRES!$B$5),0) -> 0
A33: =IF(A31="","",IF(MONTH(A31+1)=MONTH(A31),A31+1,"")) -> 44178 | B33: =IF(A31="","",IF(MONTH(A31+1)=MONTH(A31),A31+1,"")) -> 44178 | V33: =IF(L33="","",H33-F33+L33-J33+P33-N33+T33-R33) | X33: =IFERROR(IF(V33<PARAMÈTRES!$B$5,PARAMÈTRES!B29-V33,V33-PARAMÈTRES!$B$5),0) -> 0
... A69: =IF(A67="","",IF(MONTH(A67+1)=MONTH(A67),A67+1,"")) -> 44196 | B69: =IF(A67="","",IF(MONTH(A67+1)=MONTH(A67),A67+1,"")) -> 44196 | V69: =IF(L69="","",H69-F69+L69-J69+P69-N69+T69-R69) | X69: =IFERROR(IF(V69<PARAMÈTRES!$B$5,PARAMÈTRES!B65-V69,V69-PARAMÈTRES!$B$5),0) -> 0
T72: TOTAL MOIS | V72: =SUM(V9,V11,V13,V15,V17,V19,V21,V23,V25,V27,V29,V31,V33,V35,V37,V39,V41,V43,V45,V47,V49,V51,V53,V55,V57,V59,V61,V63,V65,V67,V69) -> 0

Sheet GRAPHIQUE
J1: RETOUR
C3: =PARAMÈTRES!B3 -> 2020
B4: JANVIER | C4: =JANVIER!V72 -> 0
B5: FÉVRIER | C5: =FÉVRIER!V68 -> 0
B6: MARS | C6: =MARS!V72 -> 0
B7: AVRIL | C7: =AVRIL!V70 -> 0
B8: MAI | C8: =MAI!V72 -> 0
B9: JUIN | C9: =JUIN!V70 -> 0
B10: JUILLET | C10: =JUILLET!V72 -> 0
B11: AOÛT | C11: =AOÛT!V72 -> 0
B12: SEPTEMBRE | C12: =SEPTEMBRE!V70 -> 0
B13: OCTOBRE | C13: =OCTOBRE!V72 -> 0
B14: NOVEMBRE | C14: =NOVEMBRE!V70 -> 0
B15: DÉCEMBRE | C15: =DÉCEMBRE!V72 -> 0

Sheet PARAMÈTRES
A1: PARAMÈTRES | D1: RETOUR
A3: ANNÉE : | B3: 2020
A5: H. / JOUR : | B5: 0.34166667
A7: SOCIÉTÉ :
A9: NOM :
A11: PRÉNOM :
A14: STATUS
A16: CONGÉ | B16: =
A17: COURS | B17: =
A18: MAL | B18: =
A19: VAC | B19: =
